BEGIN:VCALENDAR
VERSION:2.0
PRODID:-//Effingham County Chamber - ECPv5.14.1//NONSGML v1.0//EN
CALSCALE:GREGORIAN
METHOD:PUBLISH
X-WR-CALNAME:Effingham County Chamber
X-ORIGINAL-URL:https://effinghamcountychamber.com
X-WR-CALDESC:Events for Effingham County Chamber
REFRESH-INTERVAL;VALUE=DURATION:PT1H
X-Robots-Tag:noindex
X-PUBLISHED-TTL:PT1H
BEGIN:VTIMEZONE
TZID:America/Chicago
BEGIN:DAYLIGHT
TZOFFSETFROM:-0600
TZOFFSETTO:-0500
TZNAME:CDT
DTSTART:20260308T080000
END:DAYLIGHT
BEGIN:STANDARD
TZOFFSETFROM:-0500
TZOFFSETTO:-0600
TZNAME:CST
DTSTART:20261101T070000
END:STANDARD
END:VTIMEZONE
BEGIN:VEVENT
DTSTART;TZID=America/Chicago:20261002T120000
DTEND;TZID=America/Chicago:20261002T180000
DTSTAMP:20260424T190700
CREATED:20260227T221702Z
LAST-MODIFIED:20260227T221703Z
UID:27280-1790942400-1790964000@effinghamcountychamber.com
SUMMARY:17th Annual Golf Benefit | HSHS St. Anthony's Foundation
DESCRIPTION:Save the Date for the HSHS St. Anthony’s Golf Benefit. \n►When: Friday\, October 2\n►Location: Effingham Country Club\n►Group Tee-Off: 12:00 pm\n►Four Player Teams\n►Format will be similar to past years \nMark your calendar today!  Please forward this message to additional individuals in your office\, as well as to family\, friends\, business associates\, etc. \nThe Golf Brochure will be available in late Spring.  Please contact Michael Wall if you have questions or would like to: \n►Be a member of the Golf Benefit Steering Committee\n►Be a Sponsor\n►Put together a Foursome\n►Be an Event Day Volunteer \nContact:\nMichael Wall | 217-347-1854 (office) | Michael.Wall@HSHS.org
URL:https://effinghamcountychamber.com/event/17th-annual-golf-benefit-hshs-st-anthonys-foundation/
LOCATION:Effingham Country Club\, 2400 Country Club Rd.\, Effingham\, IL\, 62401\, United States
CATEGORIES:Community Events,Member Events
ATTACH;FMTTYPE=image/jpeg:https://effinghamcountychamber.com/wp-content/uploads/2022/06/Flora-Golf.jpg
END:VEVENT
END:VCALENDAR