BEGIN:VCALENDAR
VERSION:2.0
PRODID:-//Effingham County Chamber - ECPv5.14.1//NONSGML v1.0//EN
CALSCALE:GREGORIAN
METHOD:PUBLISH
X-WR-CALNAME:Effingham County Chamber
X-ORIGINAL-URL:https://effinghamcountychamber.com
X-WR-CALDESC:Events for Effingham County Chamber
REFRESH-INTERVAL;VALUE=DURATION:PT1H
X-Robots-Tag:noindex
X-PUBLISHED-TTL:PT1H
BEGIN:VTIMEZONE
TZID:America/Chicago
BEGIN:DAYLIGHT
TZOFFSETFROM:-0600
TZOFFSETTO:-0500
TZNAME:CDT
DTSTART:20260308T080000
END:DAYLIGHT
BEGIN:STANDARD
TZOFFSETFROM:-0500
TZOFFSETTO:-0600
TZNAME:CST
DTSTART:20261101T070000
END:STANDARD
END:VTIMEZONE
BEGIN:VEVENT
DTSTART;VALUE=DATE:20260223
DTEND;VALUE=DATE:20260804
DTSTAMP:20260424T125539
CREATED:20260223T154314Z
LAST-MODIFIED:20260223T163603Z
UID:27173-1771804800-1785801599@effinghamcountychamber.com
SUMMARY:Discovery Christian School: Accepting New Student Applications
DESCRIPTION:Discovery Christian School is excited to welcome new students for the 2026-2027 academic year! \nHow to Apply:Interested families should email the school office with their child’s name and the grade they will be entering. \nEnroll here: https://discoverychristianschools.com/k-8-enrollment \nQuestions can be directed to the school office at (217) 347-5778. \nWe look forward to welcoming new students to our school community!
URL:https://effinghamcountychamber.com/event/discovery-christian-school-accepting-new-student-applications/
LOCATION:Online
CATEGORIES:Community Events,Member Events
ATTACH;FMTTYPE=image/jpeg:https://effinghamcountychamber.com/wp-content/uploads/2025/01/Discovery-Christian-School.jpg
END:VEVENT
BEGIN:VEVENT
DTSTART;VALUE=DATE:20260301
DTEND;VALUE=DATE:20260501
DTSTAMP:20260424T125539
CREATED:20260304T171940Z
LAST-MODIFIED:20260304T182119Z
UID:27337-1772323200-1777593599@effinghamcountychamber.com
SUMMARY:Effingham County Humane Society Shoe Drive
DESCRIPTION:
URL:https://effinghamcountychamber.com/event/effingham-county-humane-society-shoe-drive/
LOCATION:Effingham County Humane Society\, 12073 N 1000th Rd.\, Effingham\, IL\, 62401
CATEGORIES:Community Events,Member Events
ATTACH;FMTTYPE=image/jpeg:https://effinghamcountychamber.com/wp-content/uploads/2022/06/NM-Effingham-County-Humane-Society-scaled.jpg
END:VEVENT
BEGIN:VEVENT
DTSTART;TZID=America/Chicago:20260327T183000
DTEND;TZID=America/Chicago:20260327T220000
DTSTAMP:20260424T125539
CREATED:20260302T193321Z
LAST-MODIFIED:20260302T193321Z
UID:27315-1774636200-1774648800@effinghamcountychamber.com
SUMMARY:Full Contact Comedy
DESCRIPTION:
URL:https://effinghamcountychamber.com/event/full-contact-comedy/
LOCATION:Keller Convention Center\, 1202 N. Keller Dr.\, Effingham\, IL\, 62401
CATEGORIES:Community Events,Member Events
ATTACH;FMTTYPE=image/jpeg:https://effinghamcountychamber.com/wp-content/uploads/2026/03/Comic-Invasion.jpg
END:VEVENT
BEGIN:VEVENT
DTSTART;TZID=America/Chicago:20260327T190000
DTEND;TZID=America/Chicago:20260327T203000
DTSTAMP:20260424T125539
CREATED:20260320T192520Z
LAST-MODIFIED:20260320T192520Z
UID:27540-1774638000-1774643400@effinghamcountychamber.com
SUMMARY:FACE Presents "QUEST! One Play to Rule Them All!"
DESCRIPTION:Our show will be March 26th & 27th at 7PM March 28th at 2PM & 7PM and March 29th at 2PM.  \nA portion of this shows proceeds will be donated to the Effingham Unit 40 Mentorship Program.  \nCost:\n$20 per person\n$15 per student \n$20 tickets are available to purchase online at https://checkout.page/s/eAN0VE0SHqDRC or purchase at the door.  \n$15 student tickets can be purchased ay the door. \nEvent questions:\nPlease email us at faceatthemall@gmail.com or call Sara at 217-240-4487 \nFollow us on Facebook! \n 
URL:https://effinghamcountychamber.com/event/face-presents-quest-one-play-to-rule-them-all-2/
LOCATION:Village Square Mall\, 51 Village Square Mall\, Effingham\, IL\, 62401\, United States
CATEGORIES:Community Events,Member Events
ATTACH;FMTTYPE=image/jpeg:https://effinghamcountychamber.com/wp-content/uploads/2026/03/FACE-LOGO.jpg
END:VEVENT
BEGIN:VEVENT
DTSTART;TZID=America/Chicago:20260327T190000
DTEND;TZID=America/Chicago:20260327T220000
DTSTAMP:20260424T125539
CREATED:20260209T160129Z
LAST-MODIFIED:20260209T160129Z
UID:26731-1774638000-1774648800@effinghamcountychamber.com
SUMMARY:Unit 40 Mentoring Program Trivia Night
DESCRIPTION:The Effingham Unit 40 Mentoring Advisory Board will hold its 8th annual Trivia Night! \nDate: Friday\, March 27 \nLocation: Effingham Event Center located at 1501 W Fayette Avenue\, Effingham\, IL 62401 \nTime: Doors open at 6:00PM with the contest beginning at 7:00PM \nTheme: Wild West \nCost:\n$200 for an 8 person team\n***Limited to 40 tables competing***\nThere will be mulligans available for purchase.\n \nPurchase tickets. \nPrizes:\nPrizes will be given for best decorated table\, team name\, and group & individual costumes! \nRaffle:\n$1\,000 raffle sponsored by Ginger Ale’s\n$10 raffle tickets (available for purchase at event\, online or from a board member) \nFood & Beverage:\nSnacks will be available for purchase by Ginger Ale’s or you may bring your own!\nAlcoholic beverages and soft drinks will be available for purchase. \nEvent Contact:\nAbbey Nosbisch\, aknosbisch@gmail.com \nNote:\nProceeds from this event benefit the Effingham Unit 40 Mentoring Program. \nTrivia is not limited to just Wild West themed questions. \nFollow our event on Facebook!
URL:https://effinghamcountychamber.com/event/unit-40-mentoring-program-trivia-night-2/
LOCATION:Effingham Event Center\, 1501 W. Fayette Ave\, Effingham\, IL\, 62401
CATEGORIES:Community Events,Member Events
ATTACH;FMTTYPE=image/jpeg:https://effinghamcountychamber.com/wp-content/uploads/2026/02/Unit-40-Mentoring-Wild-West.jpg
END:VEVENT
END:VCALENDAR