BEGIN:VCALENDAR
VERSION:2.0
PRODID:-//Effingham County Chamber - ECPv5.14.1//NONSGML v1.0//EN
CALSCALE:GREGORIAN
METHOD:PUBLISH
X-WR-CALNAME:Effingham County Chamber
X-ORIGINAL-URL:https://effinghamcountychamber.com
X-WR-CALDESC:Events for Effingham County Chamber
REFRESH-INTERVAL;VALUE=DURATION:PT1H
X-Robots-Tag:noindex
X-PUBLISHED-TTL:PT1H
BEGIN:VTIMEZONE
TZID:America/Chicago
BEGIN:DAYLIGHT
TZOFFSETFROM:-0600
TZOFFSETTO:-0500
TZNAME:CDT
DTSTART:20260308T080000
END:DAYLIGHT
BEGIN:STANDARD
TZOFFSETFROM:-0500
TZOFFSETTO:-0600
TZNAME:CST
DTSTART:20261101T070000
END:STANDARD
END:VTIMEZONE
BEGIN:VEVENT
DTSTART;VALUE=DATE:20260223
DTEND;VALUE=DATE:20260804
DTSTAMP:20260424T130114
CREATED:20260223T154314Z
LAST-MODIFIED:20260223T163603Z
UID:27173-1771804800-1785801599@effinghamcountychamber.com
SUMMARY:Discovery Christian School: Accepting New Student Applications
DESCRIPTION:Discovery Christian School is excited to welcome new students for the 2026-2027 academic year! \nHow to Apply:Interested families should email the school office with their child’s name and the grade they will be entering. \nEnroll here: https://discoverychristianschools.com/k-8-enrollment \nQuestions can be directed to the school office at (217) 347-5778. \nWe look forward to welcoming new students to our school community!
URL:https://effinghamcountychamber.com/event/discovery-christian-school-accepting-new-student-applications/
LOCATION:Online
CATEGORIES:Community Events,Member Events
ATTACH;FMTTYPE=image/jpeg:https://effinghamcountychamber.com/wp-content/uploads/2025/01/Discovery-Christian-School.jpg
END:VEVENT
BEGIN:VEVENT
DTSTART;VALUE=DATE:20260301
DTEND;VALUE=DATE:20260501
DTSTAMP:20260424T130114
CREATED:20260304T171940Z
LAST-MODIFIED:20260304T182119Z
UID:27337-1772323200-1777593599@effinghamcountychamber.com
SUMMARY:Effingham County Humane Society Shoe Drive
DESCRIPTION:
URL:https://effinghamcountychamber.com/event/effingham-county-humane-society-shoe-drive/
LOCATION:Effingham County Humane Society\, 12073 N 1000th Rd.\, Effingham\, IL\, 62401
CATEGORIES:Community Events,Member Events
ATTACH;FMTTYPE=image/jpeg:https://effinghamcountychamber.com/wp-content/uploads/2022/06/NM-Effingham-County-Humane-Society-scaled.jpg
END:VEVENT
BEGIN:VEVENT
DTSTART;TZID=America/Chicago:20260319T150000
DTEND;TZID=America/Chicago:20260319T180000
DTSTAMP:20260424T130114
CREATED:20260211T190252Z
LAST-MODIFIED:20260211T190252Z
UID:26836-1773932400-1773943200@effinghamcountychamber.com
SUMMARY:Effingham County Connection Resource Fair
DESCRIPTION:Join us on March 19 for a FREE\, fun‑filled family night! \nBring the whole crew for an evening packed with excitement and community fun at the Thelma Keller Convention Center (1202 N Keller Drive). \nEnjoy:\n• Community resources\n• Giveaways & door prizes\n• Games for all ages\n• FREE balloon artist\n• FREE face painting \nContact:\nMandy Myers\n217-248-2480\nmandym@effcohealth.org \nFollow us on Facebook!
URL:https://effinghamcountychamber.com/event/effingham-county-connection-resource-fair/
LOCATION:Keller Convention Center\, 1202 N. Keller Dr.\, Effingham\, IL\, 62401
CATEGORIES:Community Events,Member Events
ATTACH;FMTTYPE=image/jpeg:https://effinghamcountychamber.com/wp-content/uploads/2022/05/Effingham-County-Connections.jpg
END:VEVENT
BEGIN:VEVENT
DTSTART;TZID=America/Chicago:20260319T160000
DTEND;TZID=America/Chicago:20260319T170000
DTSTAMP:20260424T130114
CREATED:20260204T221241Z
LAST-MODIFIED:20260319T205950Z
UID:26669-1773936000-1773939600@effinghamcountychamber.com
SUMMARY:Interview Day Prep: How to Prep for the Perfect Interview (Zoom/Webinar)
DESCRIPTION:Led by: Shonna Kracinski\, Midland States Bank \nInterviews don’t have to be intimidating. This session focuses on how to prepare with confidence\, from what to research beforehand to how to answer tough questions and present yourself professionally. Shonna will walk through practical strategies to help you feel more prepared\, more comfortable\, and more in control during interviews. \nGreat for anyone who gets nervous interviewing or wants to improve their overall approach. \nEach session includes 45 minutes of content plus 15 minutes of live Q&A. \nCost:\nFree to attend\nOpen to everyone \nClick the green register button to sign up! \nYou can join the session using the Zoom link below:\nhttps://us06web.zoom.us/j/86512079928?pwd=e8bWRpNiLzeqARNQPq6DxdM5PzVo4P.1 \nMeeting ID: 865 1207 9928\nPasscode: 400326 \nHeld via Zoom (same link and QR code for all future sessions) \nOther Sessions:\n#3: Seal the Deal: How to Stand Out & Get Hired | March 31 – click here\nOpen Interview Day: Step In. Stand Out. Get Hired. | April 23 – more info \nCancellation Policy\n*Cancellations of registrations and refunds will be issued in full if received on or before noon a week (seven weekdays) prior to the event. After noon CST on said date\, no refunds will be issued. If the event is rescheduled\, all registrations will be honored for the rescheduled date or may be refunded in full of a refund request**. If the event is canceled\, all registration will be refunded in full. **Refund requests must be submitted in writing by email to Nicole Morrison. Please allow up to five (5) business days to process your refund request. \nPhoto & Video Disclaimer\nEffingham County Chamber (Chamber) reserves the right to use any photograph/video taken at any event sponsored by the Chamber\, without the expressed written permission of those included within the photograph/video. The Chamber may use the photograph/video in publications or other media material produced\, used\, or contracted by the Chamber\, including but not limited to brochures\, invitations\, books\, newspapers\, magazines\, television\, websites\, etc. If you do not wish to be photographed/video\, please inform the Chamber. \nAny person or organization not affiliated with Chamber may not use\, copy\, alter\, or modify Chamber photographs\, graphics\, videography\, or other similar reproductions and recordings without the advance written permission of an authorized designee from Chamber.
URL:https://effinghamcountychamber.com/event/interview-day-prep-perfect-interview/
LOCATION:Zoom
CATEGORIES:Chamber Events,Community Events,Member Events
ATTACH;FMTTYPE=image/png:https://effinghamcountychamber.com/wp-content/uploads/2026/02/Training-Seminars-1.png
END:VEVENT
BEGIN:VEVENT
DTSTART;TZID=America/Chicago:20260319T183000
DTEND;TZID=America/Chicago:20260319T200000
DTSTAMP:20260424T130114
CREATED:20260218T144945Z
LAST-MODIFIED:20260218T144945Z
UID:26944-1773945000-1773950400@effinghamcountychamber.com
SUMMARY:History of The Heart Theatre Presentation with Effingham County Museum
DESCRIPTION:In collaboration with the Effingham County Museum\, board members from The Heart Theatre Inc non-profit will present “The Heart of Effingham – Looking Back on the History of the Theatre” as part of their ongoing preservation and historical documentation efforts.  \nThe public is invited to gather on the second floor of the Effingham County Museum to learn more about the rich background of the only surviving Art Moderne/Art Deco style building in Effingham and how it became a part of our town’s shared story. There will be artifacts from the theatre on display and we encourage all interested visitors to bring their stories\, photos and any other memorabilia to share with the audience.  \nAll attendees will have a chance to win an opportunity to have their name displayed on the Heart marquee.  \nOur presentation is graciously hosted by the Effingham County Cultural Center and Museum Association\, Inc.\, an organization devoted to the preservation of the fascinating history of the county. The public is encouraged to attend to learn more about local history.  \nTime:\nDoors open | 6pm\nPresentation begins | 6:30pm \nCost:\nThere is no admission charge. \nRegisration:\nNot required\, but you can mark GOING on our Facebook event! \nQuestions:\nLaura Didier | ldidier3@comcast.net\nor\nMarlyn Koester | marlynjoyce95@gmail.com
URL:https://effinghamcountychamber.com/event/history-of-the-heart-theatre-presentation-with-effingham-county-museum/
LOCATION:Effingham County Cultural Center & Museum Association\, 100 E Jefferson Ave.\, Effingham\, IL\, 62401\, United States
CATEGORIES:Community Events,Member Events
ATTACH;FMTTYPE=image/jpeg:https://effinghamcountychamber.com/wp-content/uploads/2026/02/Heart-Theatre-March-19.jpg
END:VEVENT
END:VCALENDAR