BEGIN:VCALENDAR
VERSION:2.0
PRODID:-//Effingham County Chamber - ECPv5.14.1//NONSGML v1.0//EN
CALSCALE:GREGORIAN
METHOD:PUBLISH
X-WR-CALNAME:Effingham County Chamber
X-ORIGINAL-URL:https://effinghamcountychamber.com
X-WR-CALDESC:Events for Effingham County Chamber
REFRESH-INTERVAL;VALUE=DURATION:PT1H
X-Robots-Tag:noindex
X-PUBLISHED-TTL:PT1H
BEGIN:VTIMEZONE
TZID:America/Chicago
BEGIN:DAYLIGHT
TZOFFSETFROM:-0600
TZOFFSETTO:-0500
TZNAME:CDT
DTSTART:20260308T080000
END:DAYLIGHT
BEGIN:STANDARD
TZOFFSETFROM:-0500
TZOFFSETTO:-0600
TZNAME:CST
DTSTART:20261101T070000
END:STANDARD
END:VTIMEZONE
BEGIN:VEVENT
DTSTART;VALUE=DATE:20260201
DTEND;VALUE=DATE:20260301
DTSTAMP:20260424T142622
CREATED:20260128T213612Z
LAST-MODIFIED:20260128T213614Z
UID:26554-1769904000-1772323199@effinghamcountychamber.com
SUMMARY:'Give A Heart' Fundraiser
DESCRIPTION:Give a Heart\, Make a Difference! \nOur Annual “Give a Heart” Fundraiser is back! Stop by any Washington Savings Bank location this February and purchase a heart for just $1 to support heart health awareness in our community. \nEvery dollar raised goes directly to The Prairie Heart Institute at St. Anthony’s Memorial Hospital & Sarah Bush Lincoln Heart Center—helping provide critical heart care to those who need it most. \nSmall donation\, big impact. Let’s come together to support heart health! \nQuestions? Contact Kara Harris | 217-258-2057 | kara.harris@washingtonsavings.net \nFollow our events on Facebook!
URL:https://effinghamcountychamber.com/event/give-a-heart-fundraiser-2/
LOCATION:Washington Savings Bank\, 200 S Banker St.\, Effingham\, IL\, 62401\, United States
CATEGORIES:Community Events,Member Events
ATTACH;FMTTYPE=image/jpeg:https://effinghamcountychamber.com/wp-content/uploads/2026/01/Washington-Savings-Bank-2026-Give-A-Heart-Flyer-icon.jpg
END:VEVENT
BEGIN:VEVENT
DTSTART;VALUE=DATE:20260201
DTEND;VALUE=DATE:20260301
DTSTAMP:20260424T142622
CREATED:20260203T173306Z
LAST-MODIFIED:20260203T173306Z
UID:26624-1769904000-1772323199@effinghamcountychamber.com
SUMMARY:Cram the Cars for Catholic Charities
DESCRIPTION:
URL:https://effinghamcountychamber.com/event/cram-the-cars-for-catholic-charities/
LOCATION:HSHS St. Anthony’s Memorial Hospital\, 503 N. Maple St.\, Effingham\, IL\, 62401
CATEGORIES:Community Events,Member Events
ATTACH;FMTTYPE=image/jpeg:https://effinghamcountychamber.com/wp-content/uploads/2026/02/HSHS-Cram-the-Car.jpg
END:VEVENT
BEGIN:VEVENT
DTSTART;VALUE=DATE:20260201
DTEND;VALUE=DATE:20260318
DTSTAMP:20260424T142622
CREATED:20260227T215605Z
LAST-MODIFIED:20260227T215752Z
UID:27271-1769904000-1773791999@effinghamcountychamber.com
SUMMARY:Chamber Community Scholarship Open
DESCRIPTION:
URL:https://effinghamcountychamber.com/event/chamber-scholarship/
LOCATION:Online
CATEGORIES:Chamber Events,Community Events,Member Events
END:VEVENT
BEGIN:VEVENT
DTSTART;VALUE=DATE:20260212
DTEND;VALUE=DATE:20260301
DTSTAMP:20260424T142622
CREATED:20260212T181416Z
LAST-MODIFIED:20260212T181553Z
UID:26855-1770854400-1772323199@effinghamcountychamber.com
SUMMARY:Come Tour The Villas for a chance to WIN a 50 inch Smart TV
DESCRIPTION:Fall in Love with our community!  \nTour our newly renovated community and receive a chance to win a 50 inch smart TV from NOW until February 28th.  \nDrawing will be held on March 3rd. \nContact Info:\nJulie Brooks\, Executive Director\n(217) 342-2345\nveff.ed@meridiansenior.com \nFollow us on Facebook or check out our website!
URL:https://effinghamcountychamber.com/event/come-tour-the-villas-for-a-chance-to-win-a-50-inch-smart-tv/
LOCATION:Villas of Holly Brook Effingham\, 904 W Evergreen Ave.\, Effingham\, IL\, 62401
CATEGORIES:Chamber Events,Community Events,Member Events
ATTACH;FMTTYPE=image/png:https://effinghamcountychamber.com/wp-content/uploads/2024/11/Villas_of_Holly_Brook_Effingham_Color.png
END:VEVENT
BEGIN:VEVENT
DTSTART;TZID=America/Chicago:20260219T103000
DTEND;TZID=America/Chicago:20260219T113000
DTSTAMP:20260424T142622
CREATED:20260119T175804Z
LAST-MODIFIED:20260123T173242Z
UID:26438-1771497000-1771500600@effinghamcountychamber.com
SUMMARY:Impact of Aging Workforce on WC Industry (Webinar)
DESCRIPTION:Please join John Campbell of Keefe\, Campbell\, Biery & Associates for analysis and discussion of the impact our aging workforce has on the workers’ compensation system. Statistical analysis and application to current case-law and claim handling will improve your claim analysis skill set. \n\nWhen registering\, please indicate Effingham COUNTY CHAMBER in the “Learned About it From” drop down to receive member pricing.
URL:https://effinghamcountychamber.com/event/impact-of-aging-workforce-on-wc-industry-webinar/
LOCATION:Webinar
CATEGORIES:Chamber Events,Member Events
ATTACH;FMTTYPE=image/jpeg:https://effinghamcountychamber.com/wp-content/uploads/2026/01/Aging-Workforce.jpg
END:VEVENT
END:VCALENDAR