BEGIN:VCALENDAR
VERSION:2.0
PRODID:-//Effingham County Chamber - ECPv5.14.1//NONSGML v1.0//EN
CALSCALE:GREGORIAN
METHOD:PUBLISH
X-WR-CALNAME:Effingham County Chamber
X-ORIGINAL-URL:https://effinghamcountychamber.com
X-WR-CALDESC:Events for Effingham County Chamber
REFRESH-INTERVAL;VALUE=DURATION:PT1H
X-Robots-Tag:noindex
X-PUBLISHED-TTL:PT1H
BEGIN:VTIMEZONE
TZID:America/Chicago
BEGIN:DAYLIGHT
TZOFFSETFROM:-0600
TZOFFSETTO:-0500
TZNAME:CDT
DTSTART:20250309T080000
END:DAYLIGHT
BEGIN:STANDARD
TZOFFSETFROM:-0500
TZOFFSETTO:-0600
TZNAME:CST
DTSTART:20251102T070000
END:STANDARD
END:VTIMEZONE
BEGIN:VEVENT
DTSTART;VALUE=DATE:20251018
DTEND;VALUE=DATE:20251206
DTSTAMP:20260424T172646
CREATED:20251002T202640Z
LAST-MODIFIED:20251120T192751Z
UID:9290-1760745600-1764979199@effinghamcountychamber.com
SUMMARY:Request Your Santa Letters
DESCRIPTION:
URL:https://effinghamcountychamber.com/event/request-your-santa-letters/
LOCATION:Online
CATEGORIES:Chamber Events,Community Events,Member Events
ATTACH;FMTTYPE=image/png:https://effinghamcountychamber.com/wp-content/uploads/2021/11/desk-of-santa-2.png
END:VEVENT
BEGIN:VEVENT
DTSTART;VALUE=DATE:20251201
DTEND;VALUE=DATE:20251223
DTSTAMP:20260424T172646
CREATED:20251106T214412Z
LAST-MODIFIED:20251106T214412Z
UID:25768-1764547200-1766447999@effinghamcountychamber.com
SUMMARY:FISH Annual Christmas Dinner Registration/Volunteer
DESCRIPTION:Effingham County FISH Organization is once again spreading holiday cheer with the Annual Effingham County Christmas Day Dinner on Thursday\, December 25\, 2025 at the Effingham Event Center. \n🍽️ Enjoy a free holiday meal — available for dine-in\, delivery\, or curbside pickup — open to all Effingham County residents and their families.💚 Donations are appreciated and help keep this community tradition going strong.🙌 Volunteers are also needed to help package and deliver meals beginning at 9 a.m. on Christmas Day. \n📞 Reservations open December 1–22 — call 217-343-7342 to reserve your meal or sign up to volunteer.
URL:https://effinghamcountychamber.com/event/fish-annual-christmas-dinner-registration-volunteer/
LOCATION:Effingham Event Center\, 1501 W. Fayette Ave\, Effingham\, IL\, 62401
CATEGORIES:Community Events,Member Events
ATTACH;FMTTYPE=image/jpeg:https://effinghamcountychamber.com/wp-content/uploads/2025/11/FISH-Christmas-Dinner.jpg
END:VEVENT
BEGIN:VEVENT
DTSTART;TZID=America/Chicago:20251205T173000
DTEND;TZID=America/Chicago:20251205T203000
DTSTAMP:20260424T172646
CREATED:20251014T193655Z
LAST-MODIFIED:20251028T185531Z
UID:25584-1764955800-1764966600@effinghamcountychamber.com
SUMMARY:EARS Tinsel & Tails @ Cardinal Golf Course
DESCRIPTION:EARS is excited to unveil for another year “Tinsel & Tails\,” a festive holiday experience hosted in partnership with Cardinal Golf Course. Running from November 28 through December 27\, this holiday family event will be open every Friday and Saturday night from 5:30 PM to 8:30 PM. \nEARS Tinsel & Tails will light up the Cardinal Golf Course with spectacular holiday decorations and a charming winter wonderland atmosphere. The event is set to offer an array of activities that celebrate the season and support a noble cause\, including:\nHoliday Light Tour: Enjoy a scenic golf cart ride through the beautifully decorated path on the course\, featuring dazzling light displays and festive decorations. \nFamily Fun: Engage in family-friendly activities like a hot chocolate bar\, roast s’mores\, and take memorable photos with festive backdrops. \nCost:\n$5 per person\, ages 3 & under are free\nTickets must be purchased in advance – Click here  \nEvent Questions:\nAn EARS team member at ears2urescue@gmail.com\, via message on Facebook\, or on their website.
URL:https://effinghamcountychamber.com/event/ears-tinsel-tails-2025/2025-12-05/
LOCATION:Cardinal Golf Course\, 15737 N Beach Rd.\, Effingham\, IL\, 62401
CATEGORIES:Community Events,Member Events
ATTACH;FMTTYPE=image/jpeg:https://effinghamcountychamber.com/wp-content/uploads/2025/10/Tinsels-Tails-2025.jpg
END:VEVENT
END:VCALENDAR