BEGIN:VCALENDAR
VERSION:2.0
PRODID:-//Effingham County Chamber - ECPv5.14.1//NONSGML v1.0//EN
CALSCALE:GREGORIAN
METHOD:PUBLISH
X-WR-CALNAME:Effingham County Chamber
X-ORIGINAL-URL:https://effinghamcountychamber.com
X-WR-CALDESC:Events for Effingham County Chamber
REFRESH-INTERVAL;VALUE=DURATION:PT1H
X-Robots-Tag:noindex
X-PUBLISHED-TTL:PT1H
BEGIN:VTIMEZONE
TZID:America/Chicago
BEGIN:DAYLIGHT
TZOFFSETFROM:-0600
TZOFFSETTO:-0500
TZNAME:CDT
DTSTART:20250309T080000
END:DAYLIGHT
BEGIN:STANDARD
TZOFFSETFROM:-0500
TZOFFSETTO:-0600
TZNAME:CST
DTSTART:20251102T070000
END:STANDARD
END:VTIMEZONE
BEGIN:VEVENT
DTSTART;VALUE=DATE:20251018
DTEND;VALUE=DATE:20251206
DTSTAMP:20260424T190726
CREATED:20251002T202640Z
LAST-MODIFIED:20251120T192751Z
UID:9290-1760745600-1764979199@effinghamcountychamber.com
SUMMARY:Request Your Santa Letters
DESCRIPTION:
URL:https://effinghamcountychamber.com/event/request-your-santa-letters/
LOCATION:Online
CATEGORIES:Chamber Events,Community Events,Member Events
ATTACH;FMTTYPE=image/png:https://effinghamcountychamber.com/wp-content/uploads/2021/11/desk-of-santa-2.png
END:VEVENT
END:VCALENDAR