BEGIN:VCALENDAR
VERSION:2.0
PRODID:-//Effingham County Chamber - ECPv5.14.1//NONSGML v1.0//EN
CALSCALE:GREGORIAN
METHOD:PUBLISH
X-WR-CALNAME:Effingham County Chamber
X-ORIGINAL-URL:https://effinghamcountychamber.com
X-WR-CALDESC:Events for Effingham County Chamber
REFRESH-INTERVAL;VALUE=DURATION:PT1H
X-Robots-Tag:noindex
X-PUBLISHED-TTL:PT1H
BEGIN:VTIMEZONE
TZID:America/Chicago
BEGIN:DAYLIGHT
TZOFFSETFROM:-0600
TZOFFSETTO:-0500
TZNAME:CDT
DTSTART:20250309T080000
END:DAYLIGHT
BEGIN:STANDARD
TZOFFSETFROM:-0500
TZOFFSETTO:-0600
TZNAME:CST
DTSTART:20251102T070000
END:STANDARD
END:VTIMEZONE
BEGIN:VEVENT
DTSTART;VALUE=DATE:20251001
DTEND;VALUE=DATE:20251120
DTSTAMP:20260424T204755
CREATED:20251003T201147Z
LAST-MODIFIED:20251016T170026Z
UID:25076-1759276800-1763596799@effinghamcountychamber.com
SUMMARY:Lake Land College Foundation Bourbon Raffle
DESCRIPTION:Support student success and take your shot at an extraordinary prize! \nThe legendary Old Rip Van Winkle Collection donated by Express Drive Thru in Mattoon — valued at over $12\,000 and nearly impossible to find: \n\nOld Rip Van Winkle 10 Year (750ml)\nVan Winkle Special Reserve Lot B 12 Year (750ml)\nVan Winkle Family Reserve Rye 13 Year (750ml)\nPappy Van Winkle 15 Year (750ml)\nPappy Van Winkle 20 Year (750ml)\nPappy Van Winkle 23 Year (750ml)\n\nOnly 500 tickets will be sold at $100 each\, making this a once-in-a-lifetime opportunity to support students and win a bourbon lover’s dream collection. \nWhen you purchase a raffle ticket\, you’re helping provide:\nScholarships to ease tuition costs\nEmergency aid for students in crisis\nInnovative programs that expand learning opportunities \nTo enter:\n– Click here: https://go.rallyup.com/llcraffle\n-OR Text ‘Laker’ to 33100 \nTickets can also be purchased in person at the LLC Foundation Mon-Fri. \nDon’t wait! Sales run October 1 – November 19. The lucky winner will be drawn November 20. \nMust be 21+ to enter. \nPlease call 217-234-5363 if you have any questions!
URL:https://effinghamcountychamber.com/event/lake-land-college-foundation-bourbon-raffle/
CATEGORIES:Community Events,Member Events
ATTACH;FMTTYPE=image/jpeg:https://effinghamcountychamber.com/wp-content/uploads/2025/10/Lake-Land-College-Foundation-Bourbon-Raffle-icon.jpg
END:VEVENT
BEGIN:VEVENT
DTSTART;TZID=America/Chicago:20251017T000000
DTEND;TZID=America/Chicago:20251017T235900
DTSTAMP:20260424T204755
CREATED:20250930T155201Z
LAST-MODIFIED:20250930T155201Z
UID:24973-1760659200-1760745540@effinghamcountychamber.com
SUMMARY:Chamber Merch Store – Now Open!
DESCRIPTION:For the first time ever\, you can rep your favorite Chamber with branded gear from Designs Unlimited! Choose from quarter zips\, a rain jacket\, and a hat—all embroidered with the Chamber logo. \nDeadline:\nShop online through October 17 at 11:59p.Orders will be ready for pickup at the Chamber after November 11. \nDon’t miss your chance to stock up and show off your Chamber pride—in and out of work! \n👉https://effinghamchamberapparel.itemorder.com/shop/home/ \nQuestions? Get in touch with Nicole at NMorrison@EffinghamCountyChamber.com or (217) 347-6282.
URL:https://effinghamcountychamber.com/event/chamber-merch-store-now-open/2025-10-17/
LOCATION:Online
CATEGORIES:Chamber Events,Community Events,Member Events
ATTACH;FMTTYPE=image/png:https://effinghamcountychamber.com/wp-content/uploads/2025/09/chamber-merch-cover-2.png
END:VEVENT
BEGIN:VEVENT
DTSTART;TZID=America/Chicago:20251017T090000
DTEND;TZID=America/Chicago:20251017T130000
DTSTAMP:20260424T204755
CREATED:20251014T193118Z
LAST-MODIFIED:20251014T193118Z
UID:25191-1760691600-1760706000@effinghamcountychamber.com
SUMMARY:Community Appreciation Day @ Midland States Bank
DESCRIPTION:Date & Time: Friday\, October 17\, 9:00 a.m.–1:00 p.m.Location: Effingham Banking Center (Downtown Effingham) \nCelebrate Community Appreciation Day at Midland States Bank’s Effingham Banking Center. Kick off the morning with donuts\, then enjoy pizza and cake for lunch. Kids can join in face painting\, and everyone can spin the prize wheel for Midland swag—a simple way to stop downtown and support local. \nGiveaway (Oct 14–18):Enter at your local branch for a chance to win a 28″ Blackstone Omnivore Griddle with Hardcover. No account or purchase required. Drawing runs Tuesday\, October 14 through end of business Saturday\, October 18. \nFor full details on Community Appreciation Day across all branches\, visit: midlandsb.com/community-appreciation-day. \nFollow the Effingham location event here: https://www.facebook.com/events/1141861894519861
URL:https://effinghamcountychamber.com/event/community-appreciation-day-midland-states-bank/
LOCATION:MIdland States Bank (Downtown Effingham)\, 110 S 5th St.\, Effingham\, IL\, 62401
CATEGORIES:Community Events,Member Events
ATTACH;FMTTYPE=image/jpeg:https://effinghamcountychamber.com/wp-content/uploads/2025/10/Midland-States-Bank-Community-Appreciation-Day_1920x1005.jpg
END:VEVENT
BEGIN:VEVENT
DTSTART;TZID=America/Chicago:20251017T170000
DTEND;TZID=America/Chicago:20251017T190000
DTSTAMP:20260424T204755
CREATED:20250912T135507Z
LAST-MODIFIED:20250912T135507Z
UID:24702-1760720400-1760727600@effinghamcountychamber.com
SUMMARY:Trunk or Treat @ Evergreen Nursing & Rehab
DESCRIPTION:
URL:https://effinghamcountychamber.com/event/evergreen-trunk-or-treat/
LOCATION:Evergreen Nursing & Rehab\, 1115 N Wenthe\, Effingham\, IL\, 62401
CATEGORIES:Community Events,Member Events
ATTACH;FMTTYPE=image/jpeg:https://effinghamcountychamber.com/wp-content/uploads/2023/02/Evergreen_Print-2.jpg
END:VEVENT
END:VCALENDAR