BEGIN:VCALENDAR
VERSION:2.0
PRODID:-//Effingham County Chamber - ECPv5.14.1//NONSGML v1.0//EN
CALSCALE:GREGORIAN
METHOD:PUBLISH
X-WR-CALNAME:Effingham County Chamber
X-ORIGINAL-URL:https://effinghamcountychamber.com
X-WR-CALDESC:Events for Effingham County Chamber
REFRESH-INTERVAL;VALUE=DURATION:PT1H
X-Robots-Tag:noindex
X-PUBLISHED-TTL:PT1H
BEGIN:VTIMEZONE
TZID:America/Chicago
BEGIN:DAYLIGHT
TZOFFSETFROM:-0600
TZOFFSETTO:-0500
TZNAME:CDT
DTSTART:20250309T080000
END:DAYLIGHT
BEGIN:STANDARD
TZOFFSETFROM:-0500
TZOFFSETTO:-0600
TZNAME:CST
DTSTART:20251102T070000
END:STANDARD
END:VTIMEZONE
BEGIN:VEVENT
DTSTART;VALUE=DATE:20251001
DTEND;VALUE=DATE:20251120
DTSTAMP:20260424T204948
CREATED:20251003T201147Z
LAST-MODIFIED:20251016T170026Z
UID:25076-1759276800-1763596799@effinghamcountychamber.com
SUMMARY:Lake Land College Foundation Bourbon Raffle
DESCRIPTION:Support student success and take your shot at an extraordinary prize! \nThe legendary Old Rip Van Winkle Collection donated by Express Drive Thru in Mattoon — valued at over $12\,000 and nearly impossible to find: \n\nOld Rip Van Winkle 10 Year (750ml)\nVan Winkle Special Reserve Lot B 12 Year (750ml)\nVan Winkle Family Reserve Rye 13 Year (750ml)\nPappy Van Winkle 15 Year (750ml)\nPappy Van Winkle 20 Year (750ml)\nPappy Van Winkle 23 Year (750ml)\n\nOnly 500 tickets will be sold at $100 each\, making this a once-in-a-lifetime opportunity to support students and win a bourbon lover’s dream collection. \nWhen you purchase a raffle ticket\, you’re helping provide:\nScholarships to ease tuition costs\nEmergency aid for students in crisis\nInnovative programs that expand learning opportunities \nTo enter:\n– Click here: https://go.rallyup.com/llcraffle\n-OR Text ‘Laker’ to 33100 \nTickets can also be purchased in person at the LLC Foundation Mon-Fri. \nDon’t wait! Sales run October 1 – November 19. The lucky winner will be drawn November 20. \nMust be 21+ to enter. \nPlease call 217-234-5363 if you have any questions!
URL:https://effinghamcountychamber.com/event/lake-land-college-foundation-bourbon-raffle/
CATEGORIES:Community Events,Member Events
ATTACH;FMTTYPE=image/jpeg:https://effinghamcountychamber.com/wp-content/uploads/2025/10/Lake-Land-College-Foundation-Bourbon-Raffle-icon.jpg
END:VEVENT
BEGIN:VEVENT
DTSTART;TZID=America/Chicago:20251015T000000
DTEND;TZID=America/Chicago:20251015T235900
DTSTAMP:20260424T204948
CREATED:20250930T155201Z
LAST-MODIFIED:20250930T155201Z
UID:24971-1760486400-1760572740@effinghamcountychamber.com
SUMMARY:Chamber Merch Store – Now Open!
DESCRIPTION:For the first time ever\, you can rep your favorite Chamber with branded gear from Designs Unlimited! Choose from quarter zips\, a rain jacket\, and a hat—all embroidered with the Chamber logo. \nDeadline:\nShop online through October 17 at 11:59p.Orders will be ready for pickup at the Chamber after November 11. \nDon’t miss your chance to stock up and show off your Chamber pride—in and out of work! \n👉https://effinghamchamberapparel.itemorder.com/shop/home/ \nQuestions? Get in touch with Nicole at NMorrison@EffinghamCountyChamber.com or (217) 347-6282.
URL:https://effinghamcountychamber.com/event/chamber-merch-store-now-open/2025-10-15/
LOCATION:Online
CATEGORIES:Chamber Events,Community Events,Member Events
ATTACH;FMTTYPE=image/png:https://effinghamcountychamber.com/wp-content/uploads/2025/09/chamber-merch-cover-2.png
END:VEVENT
BEGIN:VEVENT
DTSTART;TZID=America/Chicago:20251015T073000
DTEND;TZID=America/Chicago:20251015T090000
DTSTAMP:20260424T204948
CREATED:20250911T184933Z
LAST-MODIFIED:20250912T013530Z
UID:24690-1760513400-1760518800@effinghamcountychamber.com
SUMMARY:Lend a Hand Breakfast
DESCRIPTION:We invite you to join us Wednesday October 15\, 2025 starting at 7:30 a.m. at the Holiday Inn Effingham for the Lend a Hand Breakfast for Crisis Nursery of Effingham County. We look forward to connecting over a no-cost breakfast and presenting our investment plan for Crisis Nursery of Effingham County. Our investors’ dollars have been hard at work. We are excited to showcase their effect and our plans for the future! \nSince opening in 2017 Crisis Nursery of Effingham County has served more than 1\,300 children\, 880 families and provided over 46\,000 hours of supportive care to children birth through six years of age. All Crisis Nursery services remain free and open to anyone in need. Crisis Nursery of Effingham County was made possible through local community support and the future of the Nursery’s program depends on continued support. We need your help! \nWe invite you to come together with us at the Lend a Hand Breakfast\, where we’ll celebrate the achievements of the Crisis Nursery program and explore the exciting path ahead. Hear directly from our dedicated team as they share the program’s journey—past\, present\, and future—and its growing impact on children and families in the Effingham community. During the event\, we’ll introduce a simplified investment opportunity designed for both businesses and individuals who wish to support our mission. This is a chance to become part of a meaningful effort to uplift local families and ensure a safe\, nurturing environment for every child. At the close of the breakfast\, guests will have the opportunity to make a free-will donation or pledge in support of Crisis Nursery of Effingham County. Thank you for considering this opportunity to make a difference. We look forward to connecting with you at the Lend a Hand Breakfast! \nCost:\n$0 – registration required \nLocation:\nHoliday Inn Effingham\n1301 Ave. of Mid-America \nEvent Questions can be directed to:\nMeghan Rewers\, Director\n(217) 342-3000 x2\nDirector@CrisisNurseryofEffingham.com \nFollow us on Facebook!
URL:https://effinghamcountychamber.com/event/lend-a-hand-breakfast-2/
LOCATION:Holiday Inn Effingham\, 1301 Avenue of Mid America\, Effingham\, IL\, 62401\, United States
CATEGORIES:Community Events,Member Events
ATTACH;FMTTYPE=image/jpeg:https://effinghamcountychamber.com/wp-content/uploads/2022/03/Crisis-Nursery.jpg
END:VEVENT
BEGIN:VEVENT
DTSTART;TZID=America/Chicago:20251015T110000
DTEND;TZID=America/Chicago:20251015T200000
DTSTAMP:20260424T204948
CREATED:20251003T202451Z
LAST-MODIFIED:20251003T202454Z
UID:25086-1760526000-1760558400@effinghamcountychamber.com
SUMMARY:Pizza for a Purpose @ Pizza Man | Jansen's Heating & Air
DESCRIPTION:
URL:https://effinghamcountychamber.com/event/pizza-for-a-purpose-pizza-man-jansens-heating-air/2025-10-15/
LOCATION:Pizza Man of Effingham\, 604 W Jefferson Ave.\, Effingham\, IL\, 62401
CATEGORIES:Community Events,Member Events
ATTACH;FMTTYPE=image/png:https://effinghamcountychamber.com/wp-content/uploads/2025/10/Jansens-Heating-OCTOBER-PINK.png
END:VEVENT
END:VCALENDAR