BEGIN:VCALENDAR
VERSION:2.0
PRODID:-//Effingham County Chamber - ECPv5.14.1//NONSGML v1.0//EN
CALSCALE:GREGORIAN
METHOD:PUBLISH
X-WR-CALNAME:Effingham County Chamber
X-ORIGINAL-URL:https://effinghamcountychamber.com
X-WR-CALDESC:Events for Effingham County Chamber
REFRESH-INTERVAL;VALUE=DURATION:PT1H
X-Robots-Tag:noindex
X-PUBLISHED-TTL:PT1H
BEGIN:VTIMEZONE
TZID:America/Chicago
BEGIN:DAYLIGHT
TZOFFSETFROM:-0600
TZOFFSETTO:-0500
TZNAME:CDT
DTSTART:20250309T080000
END:DAYLIGHT
BEGIN:STANDARD
TZOFFSETFROM:-0500
TZOFFSETTO:-0600
TZNAME:CST
DTSTART:20251102T070000
END:STANDARD
END:VTIMEZONE
BEGIN:VEVENT
DTSTART;VALUE=DATE:20251001
DTEND;VALUE=DATE:20251120
DTSTAMP:20260424T222809
CREATED:20251003T201147Z
LAST-MODIFIED:20251016T170026Z
UID:25076-1759276800-1763596799@effinghamcountychamber.com
SUMMARY:Lake Land College Foundation Bourbon Raffle
DESCRIPTION:Support student success and take your shot at an extraordinary prize! \nThe legendary Old Rip Van Winkle Collection donated by Express Drive Thru in Mattoon — valued at over $12\,000 and nearly impossible to find: \n\nOld Rip Van Winkle 10 Year (750ml)\nVan Winkle Special Reserve Lot B 12 Year (750ml)\nVan Winkle Family Reserve Rye 13 Year (750ml)\nPappy Van Winkle 15 Year (750ml)\nPappy Van Winkle 20 Year (750ml)\nPappy Van Winkle 23 Year (750ml)\n\nOnly 500 tickets will be sold at $100 each\, making this a once-in-a-lifetime opportunity to support students and win a bourbon lover’s dream collection. \nWhen you purchase a raffle ticket\, you’re helping provide:\nScholarships to ease tuition costs\nEmergency aid for students in crisis\nInnovative programs that expand learning opportunities \nTo enter:\n– Click here: https://go.rallyup.com/llcraffle\n-OR Text ‘Laker’ to 33100 \nTickets can also be purchased in person at the LLC Foundation Mon-Fri. \nDon’t wait! Sales run October 1 – November 19. The lucky winner will be drawn November 20. \nMust be 21+ to enter. \nPlease call 217-234-5363 if you have any questions!
URL:https://effinghamcountychamber.com/event/lake-land-college-foundation-bourbon-raffle/
CATEGORIES:Community Events,Member Events
ATTACH;FMTTYPE=image/jpeg:https://effinghamcountychamber.com/wp-content/uploads/2025/10/Lake-Land-College-Foundation-Bourbon-Raffle-icon.jpg
END:VEVENT
BEGIN:VEVENT
DTSTART;TZID=America/Chicago:20251004T000000
DTEND;TZID=America/Chicago:20251004T235900
DTSTAMP:20260424T222809
CREATED:20250930T155201Z
LAST-MODIFIED:20251017T191957Z
UID:24960-1759536000-1759622340@effinghamcountychamber.com
SUMMARY:Chamber Merch Store – Now Open!
DESCRIPTION:For the first time ever\, you can rep your favorite Chamber with branded gear from Designs Unlimited! Choose from quarter zips\, a rain jacket\, and a hat—all embroidered with the Chamber logo. \nDeadline:\nShop online through October 21 at 11:59p.Orders will be ready for pickup at the Chamber after November 11. \nDon’t miss your chance to stock up and show off your Chamber pride—in and out of work! \n👉https://effinghamchamberapparel.itemorder.com/shop/home/ \nQuestions? Get in touch with Nicole at NMorrison@EffinghamCountyChamber.com or (217) 347-6282.
URL:https://effinghamcountychamber.com/event/chamber-merch-store-now-open/2025-10-04/
LOCATION:Online
CATEGORIES:Chamber Events,Community Events,Member Events
ATTACH;FMTTYPE=image/png:https://effinghamcountychamber.com/wp-content/uploads/2025/09/chamber-merch-cover-2.png
END:VEVENT
BEGIN:VEVENT
DTSTART;TZID=America/Chicago:20251004T080000
DTEND;TZID=America/Chicago:20251004T120000
DTSTAMP:20260424T222809
CREATED:20250918T021802Z
LAST-MODIFIED:20250918T021803Z
UID:24787-1759564800-1759579200@effinghamcountychamber.com
SUMMARY:E-CYCLE @ Centenary Church
DESCRIPTION:Follow Effingham Recycles on Facebook. \nJoin us for our E-Cycle event on Saturday\, October 4\, 2025 from 8a-12p. \nWhat they will take: ANYTHING that has a power cord\, or runs on a battery. \n**Special Note:\nAll small TV’s & screens will have a $20 charge per item. \nAll large TV’s will have a $40 charge per item. \n  \n 
URL:https://effinghamcountychamber.com/event/e-cycle-centenary-church-2/
LOCATION:Centenary United Methodist Church\, 203 E. Grove\, Effingham\, IL\, 62401\, United States
CATEGORIES:Community Events,Member Events
ATTACH;FMTTYPE=image/jpeg:https://effinghamcountychamber.com/wp-content/uploads/2023/04/Effingham-Recycles.jpg
END:VEVENT
BEGIN:VEVENT
DTSTART;TZID=America/Chicago:20251004T100000
DTEND;TZID=America/Chicago:20251004T130000
DTSTAMP:20260424T222809
CREATED:20250617T210001Z
LAST-MODIFIED:20250924T183858Z
UID:23793-1759572000-1759582800@effinghamcountychamber.com
SUMMARY:Second Annual Climb-Team Effingham
DESCRIPTION:Join us for a FREE community walk and family-friendly event to raise awareness for Perinatal (Conception–Postpartum) Mental Health Disorders (PMHDs). This program is part of Postpartum Support International\, the world’s largest nonprofit dedicated to increasing support\, awareness\, and resources for PMHDs. \nThe day will feature local vendors\, community resource tables\, activities\, giveaways\, and food—all centered on coming together as a community to support families through this important season of life. \nHighlights include: \n\nVendors & resources: Effingham Pelvic Health & Wellness\, Nature’s Glow\, Wright Choice Counseling\, Catching Glimpses\, Layna Bond Insurance & more\nSix resource tables offering education and support\nFood & drinks: Izzy’s Shiver Shack\, The Caffeinator coffee truck\, grilled lunch (with meat donated by Nuxoll’s Food Center)\, and desserts from Goldie’s Baking Company\nBalloon arches and party globe fun from Effingham Party Globes\nKids’ craft corner\, giveaways\, and door prizes from local businesses including Catching Glimpses\, Pelvic Health\, Flying Buddha\, Doulas\, Nuxoll’s Photography & others\n\nContact Brandy Kelley at climbteameffingham@gmail.com or text 217-383-0964 for more information or if you are wanting to get involved or sponsor! \nWant to show your support? Join the team or donate here! \nFollow us and our event on Facebook!
URL:https://effinghamcountychamber.com/event/second-annual-climb-team-effingham/
LOCATION:Effingham Community Park\, East Temple Ave.\, Effingham\, IL\, 62401\, United States
CATEGORIES:Community Events,Member Events
ATTACH;FMTTYPE=image/jpeg:https://effinghamcountychamber.com/wp-content/uploads/2024/09/Climb-Casper-poster-e1750193709719.jpg
END:VEVENT
BEGIN:VEVENT
DTSTART;TZID=America/Chicago:20251004T100000
DTEND;TZID=America/Chicago:20251004T200000
DTSTAMP:20260424T222809
CREATED:20250924T180600Z
LAST-MODIFIED:20250924T184144Z
UID:24884-1759572000-1759608000@effinghamcountychamber.com
SUMMARY:Ham City Fall Fest
DESCRIPTION:The Second Annual Ham City Fall Fest is almost here\, and downtown Effingham is turning into one big pumpkin patch on Saturday\, October 4th! \nWe’re kicking off the day with our FallFest 5K Run/Walk at 10 AM\, followed by an incredible Downtown Brunch to fuel up at 10:30. By 11 AM\, the streets come alive with our Kids Corner\, live music\, food\, and beer flowing all day long. \nThink hay bales\, pumpkins\, music drifting through the streets\, and the best kind of small-town celebration where neighbors\, families\, and friends all come together. \nDo us a favor: like + share the flyer to help us spread the word. Let’s pack downtown with fall spirit and make year two even bigger than the first! \nFollow us on Facebook to stay in tune with the details!
URL:https://effinghamcountychamber.com/event/ham-city-fall-fest/
LOCATION:Downtown Effingham\, Jefferson Ave\, Effingham\, IL\, 62401\, United States
CATEGORIES:Community Events,Member Events
ATTACH;FMTTYPE=image/jpeg:https://effinghamcountychamber.com/wp-content/uploads/2025/09/Ham-City-Fall-Fest-1.jpg
END:VEVENT
BEGIN:VEVENT
DTSTART;TZID=America/Chicago:20251004T130000
DTEND;TZID=America/Chicago:20251004T210000
DTSTAMP:20260424T222809
CREATED:20250912T155841Z
LAST-MODIFIED:20250912T160056Z
UID:24713-1759582800-1759611600@effinghamcountychamber.com
SUMMARY:2025 Bahrns Memorial Golf Outing
DESCRIPTION:Join us for the 2025 Bahrns Memorial Golf Tournament\, a day of golfing for a great cause! Taking place on Saturday\, October 4\, at the Cardinal Golf Course in Effingham\, IL\, the tournament will feature a shotgun start at 1:00p. \nAll proceeds from the event will benefit the Bahrns Memorial Scholarship and Altamont Lions Club Charities. \nMulligans are available for $5 each (2 per player max). There will also be a raffle with great prizes – raffle tickets are $1 each\, 6 for $5\, or 25 for $20. \nSponsorship opportunities are still available: \n\nPartner: $500\nGold: $200\nSilver: $100\nCart: $50\n\nTo register\, email ktolch@bahrns.com or call (618) 304-9363. \nFollow us on Facebook!
URL:https://effinghamcountychamber.com/event/2025-bahrns-memorial-golf-outing/
LOCATION:Cardinal Golf Course\, 15737 N Beach Rd.\, Effingham\, IL\, 62401
CATEGORIES:Community Events,Member Events
ATTACH;FMTTYPE=image/jpeg:https://effinghamcountychamber.com/wp-content/uploads/2024/08/Bahns-Golf.jpg
END:VEVENT
END:VCALENDAR