BEGIN:VCALENDAR
VERSION:2.0
PRODID:-//Effingham County Chamber - ECPv5.14.1//NONSGML v1.0//EN
CALSCALE:GREGORIAN
METHOD:PUBLISH
X-WR-CALNAME:Effingham County Chamber
X-ORIGINAL-URL:https://effinghamcountychamber.com
X-WR-CALDESC:Events for Effingham County Chamber
REFRESH-INTERVAL;VALUE=DURATION:PT1H
X-Robots-Tag:noindex
X-PUBLISHED-TTL:PT1H
BEGIN:VTIMEZONE
TZID:America/Chicago
BEGIN:DAYLIGHT
TZOFFSETFROM:-0600
TZOFFSETTO:-0500
TZNAME:CDT
DTSTART:20250309T080000
END:DAYLIGHT
BEGIN:STANDARD
TZOFFSETFROM:-0500
TZOFFSETTO:-0600
TZNAME:CST
DTSTART:20251102T070000
END:STANDARD
END:VTIMEZONE
BEGIN:VEVENT
DTSTART;VALUE=DATE:20251001
DTEND;VALUE=DATE:20251120
DTSTAMP:20260424T204939
CREATED:20251003T201147Z
LAST-MODIFIED:20251016T170026Z
UID:25076-1759276800-1763596799@effinghamcountychamber.com
SUMMARY:Lake Land College Foundation Bourbon Raffle
DESCRIPTION:Support student success and take your shot at an extraordinary prize! \nThe legendary Old Rip Van Winkle Collection donated by Express Drive Thru in Mattoon — valued at over $12\,000 and nearly impossible to find: \n\nOld Rip Van Winkle 10 Year (750ml)\nVan Winkle Special Reserve Lot B 12 Year (750ml)\nVan Winkle Family Reserve Rye 13 Year (750ml)\nPappy Van Winkle 15 Year (750ml)\nPappy Van Winkle 20 Year (750ml)\nPappy Van Winkle 23 Year (750ml)\n\nOnly 500 tickets will be sold at $100 each\, making this a once-in-a-lifetime opportunity to support students and win a bourbon lover’s dream collection. \nWhen you purchase a raffle ticket\, you’re helping provide:\nScholarships to ease tuition costs\nEmergency aid for students in crisis\nInnovative programs that expand learning opportunities \nTo enter:\n– Click here: https://go.rallyup.com/llcraffle\n-OR Text ‘Laker’ to 33100 \nTickets can also be purchased in person at the LLC Foundation Mon-Fri. \nDon’t wait! Sales run October 1 – November 19. The lucky winner will be drawn November 20. \nMust be 21+ to enter. \nPlease call 217-234-5363 if you have any questions!
URL:https://effinghamcountychamber.com/event/lake-land-college-foundation-bourbon-raffle/
CATEGORIES:Community Events,Member Events
ATTACH;FMTTYPE=image/jpeg:https://effinghamcountychamber.com/wp-content/uploads/2025/10/Lake-Land-College-Foundation-Bourbon-Raffle-icon.jpg
END:VEVENT
BEGIN:VEVENT
DTSTART;TZID=America/Chicago:20251003T000000
DTEND;TZID=America/Chicago:20251003T235900
DTSTAMP:20260424T204939
CREATED:20250930T155201Z
LAST-MODIFIED:20251017T191957Z
UID:24959-1759449600-1759535940@effinghamcountychamber.com
SUMMARY:Chamber Merch Store – Now Open!
DESCRIPTION:For the first time ever\, you can rep your favorite Chamber with branded gear from Designs Unlimited! Choose from quarter zips\, a rain jacket\, and a hat—all embroidered with the Chamber logo. \nDeadline:\nShop online through October 21 at 11:59p.Orders will be ready for pickup at the Chamber after November 11. \nDon’t miss your chance to stock up and show off your Chamber pride—in and out of work! \n👉https://effinghamchamberapparel.itemorder.com/shop/home/ \nQuestions? Get in touch with Nicole at NMorrison@EffinghamCountyChamber.com or (217) 347-6282.
URL:https://effinghamcountychamber.com/event/chamber-merch-store-now-open/2025-10-03/
LOCATION:Online
CATEGORIES:Chamber Events,Community Events,Member Events
ATTACH;FMTTYPE=image/png:https://effinghamcountychamber.com/wp-content/uploads/2025/09/chamber-merch-cover-2.png
END:VEVENT
BEGIN:VEVENT
DTSTART;TZID=America/Chicago:20251003T103000
DTEND;TZID=America/Chicago:20251003T130000
DTSTAMP:20260424T204939
CREATED:20250807T143816Z
LAST-MODIFIED:20250807T143817Z
UID:24257-1759487400-1759496400@effinghamcountychamber.com
SUMMARY:Annual FISH Fall Cook Out
DESCRIPTION:Effingham County FISH Human Services is having a cook out at Save-A-Lot Parking Lot on 10/3/2025. \nIt is from 10:30 AM – 1 PM. \nCall ahead to place orders of 5 or more meals!!  The meals can be picked up or we can deliver within Effingham and Teutopolis city limits.  Call ahead orders must be placed by Wednesday\, 10/1 @ 5pm. \nPlease call\, text or email Adam Donsbach for deliveries at 217-821-7643 or dbach1982@yahoo.com \nFISH is a charitable\, not for profit organization\, consisting of an interfaith all-volunteer group of area residents\, which is committed to elevating the quality of life for those among us in need in Effingham County. FISH derives its name from the early secret symbol for Christianity and was started locally on June 1\, 1970. \nFollow our Facebook Page for updates! \n 
URL:https://effinghamcountychamber.com/event/annual-fish-fall-cook-out/
LOCATION:Save-A-Lot\, 101 N Keller Dr.\, Effingham\, IL\, 62401
CATEGORIES:Community Events,Member Events
ATTACH;FMTTYPE=image/jpeg:https://effinghamcountychamber.com/wp-content/uploads/2023/08/Effingham-County-Fish-Human-Services.jpg
END:VEVENT
BEGIN:VEVENT
DTSTART;TZID=America/Chicago:20251003T113000
DTEND;TZID=America/Chicago:20251003T130000
DTSTAMP:20260424T204939
CREATED:20250213T224918Z
LAST-MODIFIED:20250925T182754Z
UID:22057-1759491000-1759496400@effinghamcountychamber.com
SUMMARY:Lunch & Learn - Better Business Bureau: Living in our Digital World
DESCRIPTION:Topic: “Living in Our Digital World: Tips to Protect Yourself”\nJoin Sydney Waters with the Better Business Bureau (Greater Missouri & Southern Illinois) for a session on today’s top scam tactics\, how fraud affects consumers and businesses\, and practical steps to boost digital security. Attendees will walk away with tools to spot red flags and protect both personal and professional information. \nDate & Time:\nFriday\, October 3 | 11:30a-1p\n11:30a | lunch & networking\n12p | presentation \nLocation:\nHampton Inn\n1305 N Keller Dr.\, Effingham \nCost (includes Annual Effingham County FISH Fall Cookout lunch & beverage):\n$20 | member\n$30 | non-member \nRegister today to secure your spot! —-> \nQuestions can be directed to the Chamber at (217) 342-4147. \nCancellation Policy\n*Cancellations of registrations and refunds will be issued in full if received on or before noon a week (seven weekdays) prior to the event. After noon CST on said date\, no refunds will be issued. If the event is rescheduled\, all registrations will be honored for the rescheduled date or may be refunded in full of a refund request**. If the event is canceled\, all registration will be refunded in full. **Refund requests must be submitted in writing by email to Nicole Morrison. Please allow up to five (5) business days to process your refund request. \nPhoto & Video Disclaimer\nEffingham County Chamber (Chamber) reserves the right to use any photograph/video taken at any event sponsored by the Chamber\, without the expressed written permission of those included within the photograph/video. The Chamber may use the photograph/video in publications or other media material produced\, used\, or contracted by the Chamber\, including but not limited to brochures\, invitations\, books\, newspapers\, magazines\, television\, websites\, etc. If you do not wish to be photographed/video\, please inform the Chamber. \nAny person or organization not affiliated with Chamber may not use\, copy\, alter\, or modify Chamber photographs\, graphics\, videography\, or other similar reproductions and recordings without the advance written permission of an authorized designee from Chamber. \n 
URL:https://effinghamcountychamber.com/event/lunch-learn-better-business-bureau-2/
LOCATION:Hampton Inn\, 1305 N Keller Drive\, Effingham\, IL\, 62401
CATEGORIES:Chamber Events,Community Events,Member Events
ATTACH;FMTTYPE=image/png:https://effinghamcountychamber.com/wp-content/uploads/2025/01/Lunch-Learn.png
END:VEVENT
END:VCALENDAR