BEGIN:VCALENDAR
VERSION:2.0
PRODID:-//Effingham County Chamber - ECPv5.14.1//NONSGML v1.0//EN
CALSCALE:GREGORIAN
METHOD:PUBLISH
X-WR-CALNAME:Effingham County Chamber
X-ORIGINAL-URL:https://effinghamcountychamber.com
X-WR-CALDESC:Events for Effingham County Chamber
REFRESH-INTERVAL;VALUE=DURATION:PT1H
X-Robots-Tag:noindex
X-PUBLISHED-TTL:PT1H
BEGIN:VTIMEZONE
TZID:America/Chicago
BEGIN:DAYLIGHT
TZOFFSETFROM:-0600
TZOFFSETTO:-0500
TZNAME:CDT
DTSTART:20250309T080000
END:DAYLIGHT
BEGIN:STANDARD
TZOFFSETFROM:-0500
TZOFFSETTO:-0600
TZNAME:CST
DTSTART:20251102T070000
END:STANDARD
END:VTIMEZONE
BEGIN:VEVENT
DTSTART;VALUE=DATE:20251001
DTEND;VALUE=DATE:20251120
DTSTAMP:20260424T222847
CREATED:20251003T201147Z
LAST-MODIFIED:20251016T170026Z
UID:25076-1759276800-1763596799@effinghamcountychamber.com
SUMMARY:Lake Land College Foundation Bourbon Raffle
DESCRIPTION:Support student success and take your shot at an extraordinary prize! \nThe legendary Old Rip Van Winkle Collection donated by Express Drive Thru in Mattoon — valued at over $12\,000 and nearly impossible to find: \n\nOld Rip Van Winkle 10 Year (750ml)\nVan Winkle Special Reserve Lot B 12 Year (750ml)\nVan Winkle Family Reserve Rye 13 Year (750ml)\nPappy Van Winkle 15 Year (750ml)\nPappy Van Winkle 20 Year (750ml)\nPappy Van Winkle 23 Year (750ml)\n\nOnly 500 tickets will be sold at $100 each\, making this a once-in-a-lifetime opportunity to support students and win a bourbon lover’s dream collection. \nWhen you purchase a raffle ticket\, you’re helping provide:\nScholarships to ease tuition costs\nEmergency aid for students in crisis\nInnovative programs that expand learning opportunities \nTo enter:\n– Click here: https://go.rallyup.com/llcraffle\n-OR Text ‘Laker’ to 33100 \nTickets can also be purchased in person at the LLC Foundation Mon-Fri. \nDon’t wait! Sales run October 1 – November 19. The lucky winner will be drawn November 20. \nMust be 21+ to enter. \nPlease call 217-234-5363 if you have any questions!
URL:https://effinghamcountychamber.com/event/lake-land-college-foundation-bourbon-raffle/
CATEGORIES:Community Events,Member Events
ATTACH;FMTTYPE=image/jpeg:https://effinghamcountychamber.com/wp-content/uploads/2025/10/Lake-Land-College-Foundation-Bourbon-Raffle-icon.jpg
END:VEVENT
BEGIN:VEVENT
DTSTART;TZID=America/Chicago:20251002T000000
DTEND;TZID=America/Chicago:20251002T235900
DTSTAMP:20260424T222847
CREATED:20250930T155201Z
LAST-MODIFIED:20251017T191956Z
UID:24958-1759363200-1759449540@effinghamcountychamber.com
SUMMARY:Chamber Merch Store – Now Open!
DESCRIPTION:For the first time ever\, you can rep your favorite Chamber with branded gear from Designs Unlimited! Choose from quarter zips\, a rain jacket\, and a hat—all embroidered with the Chamber logo. \nDeadline:\nShop online through October 21 at 11:59p.Orders will be ready for pickup at the Chamber after November 11. \nDon’t miss your chance to stock up and show off your Chamber pride—in and out of work! \n👉https://effinghamchamberapparel.itemorder.com/shop/home/ \nQuestions? Get in touch with Nicole at NMorrison@EffinghamCountyChamber.com or (217) 347-6282.
URL:https://effinghamcountychamber.com/event/chamber-merch-store-now-open/2025-10-02/
LOCATION:Online
CATEGORIES:Chamber Events,Community Events,Member Events
ATTACH;FMTTYPE=image/png:https://effinghamcountychamber.com/wp-content/uploads/2025/09/chamber-merch-cover-2.png
END:VEVENT
BEGIN:VEVENT
DTSTART;TZID=America/Chicago:20251002T080000
DTEND;TZID=America/Chicago:20251002T150000
DTSTAMP:20260424T222847
CREATED:20250915T200349Z
LAST-MODIFIED:20250915T200349Z
UID:24756-1759392000-1759417200@effinghamcountychamber.com
SUMMARY:Drive Thru Flu Clinics
DESCRIPTION:The Effingham County Health Department (ECHD) will once again be offering Flu Vaccination Clinics at its 901 W. Virginia location. We all know how miserable the flu can be\, and for some the flu may lead to hospitalization. A flu shot can help reduce the severity of the illness\, making it important that you get an annual flu shot. \nAdult flu clinics for 19 years and over – ECHD will hold drive-through flu vaccination clinics Tuesdays and Thursdays 8 a.m. to 3 p.m. starting on Tuesday\, September 16th through the end of October. Please wear short sleeved shirts and no coat in the car so it is easier to receive your shot. Have your insurance card(s) and photo ID ready for ECHD employees to scan and check. \nListen to local radio for weather related changes to clinic times. The Effingham County Health Department is located at 901 W. Virginia Avenue in Effingham. For more information call the Health Department at 217-342-9237 or go online at www.effcohealth.org.
URL:https://effinghamcountychamber.com/event/drive-thru-flu-clinics/2025-10-02/
LOCATION:Effingham County Health Department\, 901 W Virginia Ave.\, Effingham\, IL\, 62401
CATEGORIES:Community Events,Member Events
ATTACH;FMTTYPE=image/jpeg:https://effinghamcountychamber.com/wp-content/uploads/2022/02/Effingham-County-Health-Dept.jpg
END:VEVENT
BEGIN:VEVENT
DTSTART;TZID=America/Chicago:20251002T084500
DTEND;TZID=America/Chicago:20251002T134500
DTSTAMP:20260424T222847
CREATED:20250501T195324Z
LAST-MODIFIED:20250930T194449Z
UID:23214-1759394700-1759412700@effinghamcountychamber.com
SUMMARY:Trades\, Skills & Manufacturing Day
DESCRIPTION:This special day highlights the significance of these industries and explores modern career options in Effingham County. Experience a day of changing perceptions and inviting high school students to tour local facilities\, envisioning their future careers. Tour hosts showcase processes and careers\, often utilizing advanced technology\, automation\, and robotics to create products shipped worldwide. \nThis event is presented in partnership with CEFS Economic Opportunity Corporation and Effingham County\, whose support helps make this opportunity possible for our local students. \nRegistration for Effingham County students is available by speaking with your high school guidance counselor. \nTimeline:\n8:30–8:50a | Student arrival at Event Center\n9a | Students load buses\n9:15/30a | First tour\n10:30a | Second tour\n11:30/45a | Lunch & Mini Career Fair\n1:30p | Student departure \nSponsors/Booths/Tour Hosts:\nThis day is made possible through the support of many community businesses who open their facility for tours\, share diverse career opportunities by setting up a company booth\, or sponsor to help offset associated event costs.\nClick here to join an esteemed list of local businesses focused on the future of our youth in Effingham County by becoming a tour host\, setting up a career fair booth\, or sponsoring. \nTour Hosts:\n3Sisters Logistics\nEMAC\nFedEx Ground\nIrwin Seating Company\nJohn Boos & Co.\nMette Cabinets & Countertops\nNew York Blower Company\nPasco Systems Corp | Versatech\nProbst Auto Body\nSiemer Milling Company\nStevens Industries\nThe Krusteaz Company\nThree Z Printing\n \nCompany Booths:\n3 Sisters Logistics\nBrumleve Industries\nCORE Academy\nDan Hecht Chevrolet-Toyota\nEastern Illinois University\nEffingham Army Recruiting Station\nEJ Water Cooperative\, Inc.\nEMAC\nEVAPCO\nFedEx Ground\nFifth Third Bank\nGreen Creek Drones\nIrwin Seating Company\nJohn Boos & Co.\nLake Land College\nMake-It Manufacturing\nNew York Blower Company\nProbst Auto Body\nSiemer Milling Company\nStevens Industries\nThe Equity\nThree Z Printing\nUnited States Navy\nWabash Communications Co-Op \nSponsors:\nPartner | CEFS Economic Opportunity Corporation\nPresenting | Effingham County\nBronze | Irwin Seating Company; Mette Cabinets & Countertops; Three Z Printing\nWater | Culligan \nContact Information:\nNicole Morrison\nnmorrison@effinghamcountychamber.com\n(217) 347-6282 \n  \nCANCELLATION POLICY\n*CANCELLATIONS OF REGISTRATIONS AND REFUNDS WILL BE ISSUED IN FULL IF RECEIVED ON OR BEFORE NOON A WEEK (SEVEN WEEKDAYS) PRIOR TO THE EVENT. AFTER NOON CST ON SAID DATE\, NO REFUNDS WILL BE ISSUED. IF THE EVENT IS RESCHEDULED\, ALL REGISTRATIONS WILL BE HONORED FOR THE RESCHEDULED DATE OR MAY BE REFUNDED IN FULL OF A REFUND REQUEST**. IF THE EVENT IS CANCELED\, ALL REGISTRATION WILL BE REFUNDED IN FULL. **REFUND REQUESTS MUST BE SUBMITTED IN WRITING BY EMAIL TO NICOLE MORRISON. PLEASE ALLOW UP TO FIVE (5) BUSINESS DAYS TO PROCESS YOUR REFUND REQUEST. \nPHOTO & VIDEO DISCLAIMER\nEFFINGHAM COUNTY CHAMBER (CHAMBER) RESERVES THE RIGHT TO USE ANY PHOTOGRAPH/VIDEO TAKEN AT ANY EVENT SPONSORED BY THE CHAMBER\, WITHOUT THE EXPRESSED WRITTEN PERMISSION OF THOSE INCLUDED WITHIN THE PHOTOGRAPH/VIDEO. THE CHAMBER MAY USE THE PHOTOGRAPH/VIDEO IN PUBLICATIONS OR OTHER MEDIA MATERIAL PRODUCED\, USED\, OR CONTRACTED BY THE CHAMBER\, INCLUDING BUT NOT LIMITED TO BROCHURES\, INVITATIONS\, BOOKS\, NEWSPAPERS\, MAGAZINES\, TELEVISION\, WEBSITES\, ETC. IF YOU DO NOT WISH TO BE PHOTOGRAPHED/VIDEO\, PLEASE INFORM THE CHAMBER. \nANY PERSON OR ORGANIZATION NOT AFFILIATED WITH CHAMBER MAY NOT USE\, COPY\, ALTER\, OR MODIFY CHAMBER PHOTOGRAPHS\, GRAPHICS\, VIDEOGRAPHY\, OR OTHER SIMILAR REPRODUCTIONS AND RECORDINGS WITHOUT THE ADVANCE WRITTEN PERMISSION OF AN AUTHORIZED DESIGNEE FROM CHAMBER.
URL:https://effinghamcountychamber.com/event/trades-skills-manufacturing-day/
LOCATION:Effingham Event Center\, 1501 W. Fayette Ave\, Effingham\, IL\, 62401
CATEGORIES:Chamber Events,Community Events,Member Events
ATTACH;FMTTYPE=image/png:https://effinghamcountychamber.com/wp-content/uploads/2023/02/Trades-Skills-MFG-Day-01.png
END:VEVENT
BEGIN:VEVENT
DTSTART;TZID=America/Chicago:20251002T103000
DTEND;TZID=America/Chicago:20251002T113000
DTSTAMP:20260424T222847
CREATED:20250702T195742Z
LAST-MODIFIED:20250702T195742Z
UID:23939-1759401000-1759404600@effinghamcountychamber.com
SUMMARY:Concluding an Investigation: Drafting the Report & Making Recommendations (Webinar)
DESCRIPTION:You have completed all interviews and reviewed the necessary documentation for your intra-corporate investigation\, but what do you do next? This program will primarily address how to draft a final investigation report according to a standard format and exploring what happens after the report is complete. We will cover best practices for using the report to make recommendations to the business\, requiring investigators to carefully weigh evidence and credibility. Using recent public events for reference\, we will identify pitfalls to avoid when rolling out the report’s recommendations to effectively ensure long-term implementation. This webinar will benefit HR personnel\, in-house and general counsel\, external personnel who regularly conduct investigations\, and anyone else involved in determining who did what at work. \n\nWhen registering\, please indicate Effingham COUNTY CHAMBER in the “Learned About it From” drop down to receive member pricing.
URL:https://effinghamcountychamber.com/event/concluding-an-investigation-drafting-the-report-making-recommendations-webinar/
LOCATION:Webinar
CATEGORIES:Chamber Events,Member Events
ATTACH;FMTTYPE=image/jpeg:https://effinghamcountychamber.com/wp-content/uploads/2025/07/Concluding-an-Investigation.jpg
END:VEVENT
BEGIN:VEVENT
DTSTART;TZID=America/Chicago:20251002T190000
DTEND;TZID=America/Chicago:20251002T203000
DTSTAMP:20260424T222847
CREATED:20250924T184659Z
LAST-MODIFIED:20251104T155532Z
UID:24899-1759431600-1759437000@effinghamcountychamber.com
SUMMARY:FACE Community Christmas Orchestra Rehearsal
DESCRIPTION:Youth-Adult Musicians Welcome/Intermediate-Advance/All Ages \nRehearsals @ Sacred Heart School:\n7p | every Thursday from October 2 – November 20 \nYouth-Adults are welcome to join the choir or the orchestra any time. \nFACE Community Christmas Concerts/Features Choir & Orchestra\nSaturday\, November 29 @ 6:45p | Effingham County Courthouse Museum (Choir @ 6:15p)\nSunday\, November 30 @ 2:45p | The Cross Open House (Choir @ 2p) (Christmas Stylings by Hillary Beard @ 3:30p) \nAccess 2025 Christmas Handbill \nQuestions? Please email Rachelle Cekander \nFollow our Facebook page for new events & updates.
URL:https://effinghamcountychamber.com/event/face-community-christmas-orchestra-rehearsal-2/
LOCATION:Sacred Heart School\, 407 S Henrietta\, Effingham\, IL\, 62401\, United States
CATEGORIES:Community Events,Member Events
ATTACH;FMTTYPE=image/jpeg:https://effinghamcountychamber.com/wp-content/uploads/2022/03/Effingham-FACE.jpg
END:VEVENT
END:VCALENDAR