BEGIN:VCALENDAR
VERSION:2.0
PRODID:-//Effingham County Chamber - ECPv5.14.1//NONSGML v1.0//EN
CALSCALE:GREGORIAN
METHOD:PUBLISH
X-WR-CALNAME:Effingham County Chamber
X-ORIGINAL-URL:https://effinghamcountychamber.com
X-WR-CALDESC:Events for Effingham County Chamber
REFRESH-INTERVAL;VALUE=DURATION:PT1H
X-Robots-Tag:noindex
X-PUBLISHED-TTL:PT1H
BEGIN:VTIMEZONE
TZID:America/Chicago
BEGIN:DAYLIGHT
TZOFFSETFROM:-0600
TZOFFSETTO:-0500
TZNAME:CDT
DTSTART:20250309T080000
END:DAYLIGHT
BEGIN:STANDARD
TZOFFSETFROM:-0500
TZOFFSETTO:-0600
TZNAME:CST
DTSTART:20251102T070000
END:STANDARD
END:VTIMEZONE
BEGIN:VEVENT
DTSTART;TZID=America/Chicago:20250930T000000
DTEND;TZID=America/Chicago:20250930T235900
DTSTAMP:20260424T223043
CREATED:20250930T155201Z
LAST-MODIFIED:20251017T191954Z
UID:24951-1759190400-1759276740@effinghamcountychamber.com
SUMMARY:Chamber Merch Store – Now Open!
DESCRIPTION:For the first time ever\, you can rep your favorite Chamber with branded gear from Designs Unlimited! Choose from quarter zips\, a rain jacket\, and a hat—all embroidered with the Chamber logo. \nDeadline:\nShop online through October 21 at 11:59p.Orders will be ready for pickup at the Chamber after November 11. \nDon’t miss your chance to stock up and show off your Chamber pride—in and out of work! \n👉https://effinghamchamberapparel.itemorder.com/shop/home/ \nQuestions? Get in touch with Nicole at NMorrison@EffinghamCountyChamber.com or (217) 347-6282.
URL:https://effinghamcountychamber.com/event/chamber-merch-store-now-open/
LOCATION:Online
CATEGORIES:Chamber Events,Community Events,Member Events
ATTACH;FMTTYPE=image/png:https://effinghamcountychamber.com/wp-content/uploads/2025/09/chamber-merch-cover-2.png
END:VEVENT
BEGIN:VEVENT
DTSTART;TZID=America/Chicago:20250930T080000
DTEND;TZID=America/Chicago:20250930T150000
DTSTAMP:20260424T223044
CREATED:20250915T200349Z
LAST-MODIFIED:20250915T200349Z
UID:24755-1759219200-1759244400@effinghamcountychamber.com
SUMMARY:Drive Thru Flu Clinics
DESCRIPTION:The Effingham County Health Department (ECHD) will once again be offering Flu Vaccination Clinics at its 901 W. Virginia location. We all know how miserable the flu can be\, and for some the flu may lead to hospitalization. A flu shot can help reduce the severity of the illness\, making it important that you get an annual flu shot. \nAdult flu clinics for 19 years and over – ECHD will hold drive-through flu vaccination clinics Tuesdays and Thursdays 8 a.m. to 3 p.m. starting on Tuesday\, September 16th through the end of October. Please wear short sleeved shirts and no coat in the car so it is easier to receive your shot. Have your insurance card(s) and photo ID ready for ECHD employees to scan and check. \nListen to local radio for weather related changes to clinic times. The Effingham County Health Department is located at 901 W. Virginia Avenue in Effingham. For more information call the Health Department at 217-342-9237 or go online at www.effcohealth.org.
URL:https://effinghamcountychamber.com/event/drive-thru-flu-clinics/2025-09-30/
LOCATION:Effingham County Health Department\, 901 W Virginia Ave.\, Effingham\, IL\, 62401
CATEGORIES:Community Events,Member Events
ATTACH;FMTTYPE=image/jpeg:https://effinghamcountychamber.com/wp-content/uploads/2022/02/Effingham-County-Health-Dept.jpg
END:VEVENT
END:VCALENDAR