BEGIN:VCALENDAR
VERSION:2.0
PRODID:-//Effingham County Chamber - ECPv5.14.1//NONSGML v1.0//EN
CALSCALE:GREGORIAN
METHOD:PUBLISH
X-WR-CALNAME:Effingham County Chamber
X-ORIGINAL-URL:https://effinghamcountychamber.com
X-WR-CALDESC:Events for Effingham County Chamber
REFRESH-INTERVAL;VALUE=DURATION:PT1H
X-Robots-Tag:noindex
X-PUBLISHED-TTL:PT1H
BEGIN:VTIMEZONE
TZID:America/Chicago
BEGIN:DAYLIGHT
TZOFFSETFROM:-0600
TZOFFSETTO:-0500
TZNAME:CDT
DTSTART:20250309T080000
END:DAYLIGHT
BEGIN:STANDARD
TZOFFSETFROM:-0500
TZOFFSETTO:-0600
TZNAME:CST
DTSTART:20251102T070000
END:STANDARD
END:VTIMEZONE
BEGIN:VEVENT
DTSTART;TZID=America/Chicago:20250927T090000
DTEND;TZID=America/Chicago:20250927T120000
DTSTAMP:20260424T223057
CREATED:20240819T183600Z
LAST-MODIFIED:20250910T132345Z
UID:19575-1758963600-1758974400@effinghamcountychamber.com
SUMMARY:Car Seat Safety Check
DESCRIPTION:Did you know your child’s height and weight matter when choosing a car seat? Come and see us on September 27th for Safety Check Saturday! We will have several certified car seat technicians available to help answer any questions or help you install your child’s car seat. \nEvent Questions should be directed to:\nMandy Myers\nmandym@effcohealth.org\n217-240-2480
URL:https://effinghamcountychamber.com/event/safety-check-saturday/
LOCATION:Effingham County Health Department – South\, 104 E Blohm Ave.\, Effingham\, IL\, 62401\, United States
CATEGORIES:Community Events,Member Events
ATTACH;FMTTYPE=image/jpeg:https://effinghamcountychamber.com/wp-content/uploads/2023/08/Car-Seat-Check.jpg
END:VEVENT
END:VCALENDAR