BEGIN:VCALENDAR
VERSION:2.0
PRODID:-//Effingham County Chamber - ECPv5.14.1//NONSGML v1.0//EN
CALSCALE:GREGORIAN
METHOD:PUBLISH
X-WR-CALNAME:Effingham County Chamber
X-ORIGINAL-URL:https://effinghamcountychamber.com
X-WR-CALDESC:Events for Effingham County Chamber
REFRESH-INTERVAL;VALUE=DURATION:PT1H
X-Robots-Tag:noindex
X-PUBLISHED-TTL:PT1H
BEGIN:VTIMEZONE
TZID:America/Chicago
BEGIN:DAYLIGHT
TZOFFSETFROM:-0600
TZOFFSETTO:-0500
TZNAME:CDT
DTSTART:20250309T080000
END:DAYLIGHT
BEGIN:STANDARD
TZOFFSETFROM:-0500
TZOFFSETTO:-0600
TZNAME:CST
DTSTART:20251102T070000
END:STANDARD
END:VTIMEZONE
BEGIN:VEVENT
DTSTART;VALUE=DATE:20250924
DTEND;VALUE=DATE:20250927
DTSTAMP:20260424T223614
CREATED:20250729T191323Z
LAST-MODIFIED:20250729T191323Z
UID:24139-1758672000-1758931199@effinghamcountychamber.com
SUMMARY:EHS Homecoming Events
DESCRIPTION:The Effingham Homecoming game is set for Friday\, September 26 vs the Taylorville Tornadoes. \nA Homecoming parade is scheduled for Wednesday\, September 24th that will travel from the Heart Theatre to Effingham High School. A PowderPuff game will take place on the football field at the conclusion of the parade. The coronation of our Homecoming king and queen will take place on Friday night during the football game. The high school dance is set for Saturday. \nIn preparation for the week’s celebration of school spirit\, we ask the entire community\, but especially our friends downtown\, to celebrate with us! Join in the fun by decorating your windows\, updating your marquees\, and showing off your school spirit in support of the Flaming Hearts of Effingham. Whether it’s in red and white\, football themes\, or good luck messages\, we hope the week will be one big pep rally! \nOur community is stronger because of your enthusiasm to support these students! #paintthetownred
URL:https://effinghamcountychamber.com/event/ehs-homecoming-events/
CATEGORIES:Community Events,Member Events
ATTACH;FMTTYPE=image/jpeg:https://effinghamcountychamber.com/wp-content/uploads/2023/11/Effingham-Unit-40.jpg
END:VEVENT
BEGIN:VEVENT
DTSTART;TZID=America/Chicago:20250925T080000
DTEND;TZID=America/Chicago:20250925T150000
DTSTAMP:20260424T223614
CREATED:20250915T200349Z
LAST-MODIFIED:20250915T200349Z
UID:24754-1758787200-1758812400@effinghamcountychamber.com
SUMMARY:Drive Thru Flu Clinics
DESCRIPTION:The Effingham County Health Department (ECHD) will once again be offering Flu Vaccination Clinics at its 901 W. Virginia location. We all know how miserable the flu can be\, and for some the flu may lead to hospitalization. A flu shot can help reduce the severity of the illness\, making it important that you get an annual flu shot. \nAdult flu clinics for 19 years and over – ECHD will hold drive-through flu vaccination clinics Tuesdays and Thursdays 8 a.m. to 3 p.m. starting on Tuesday\, September 16th through the end of October. Please wear short sleeved shirts and no coat in the car so it is easier to receive your shot. Have your insurance card(s) and photo ID ready for ECHD employees to scan and check. \nListen to local radio for weather related changes to clinic times. The Effingham County Health Department is located at 901 W. Virginia Avenue in Effingham. For more information call the Health Department at 217-342-9237 or go online at www.effcohealth.org.
URL:https://effinghamcountychamber.com/event/drive-thru-flu-clinics/2025-09-25/
LOCATION:Effingham County Health Department\, 901 W Virginia Ave.\, Effingham\, IL\, 62401
CATEGORIES:Community Events,Member Events
ATTACH;FMTTYPE=image/jpeg:https://effinghamcountychamber.com/wp-content/uploads/2022/02/Effingham-County-Health-Dept.jpg
END:VEVENT
BEGIN:VEVENT
DTSTART;TZID=America/Chicago:20250925T150000
DTEND;TZID=America/Chicago:20250925T190000
DTSTAMP:20260424T223614
CREATED:20250911T171841Z
LAST-MODIFIED:20250911T171841Z
UID:24685-1758812400-1758826800@effinghamcountychamber.com
SUMMARY:Patterson Companies Customer Support Specialist Hiring Event
DESCRIPTION:
URL:https://effinghamcountychamber.com/event/patterson-companies-customer-support-specialist-hiring-event/
LOCATION:Effingham Technology Center\, 1201 Althoff Dr.\, Effingham\, IL\, 62401\, United States
CATEGORIES:Community Events,Member Events
ATTACH;FMTTYPE=image/jpeg:https://effinghamcountychamber.com/wp-content/uploads/2025/09/Patterson.jpg
END:VEVENT
BEGIN:VEVENT
DTSTART;TZID=America/Chicago:20250925T170000
DTEND;TZID=America/Chicago:20250925T190000
DTSTAMP:20260424T223614
CREATED:20250505T203345Z
LAST-MODIFIED:20250916T005155Z
UID:23296-1758819600-1758826800@effinghamcountychamber.com
SUMMARY:Business After Hours @ American Legion Post #120
DESCRIPTION:Wrap up the workday with casual networking at the American Legion. Mingle with fellow Chamber members\, meet new contacts\, and learn how Post #120 continues to serve our community. \nWhen: Thursday\, September 25 | 5:00–7:00 p.m.Where: Effingham American Legion\, 200 W. Washington Ave\, EffinghamHosted by: Effingham American Legion Post 120 \nWhat to expect \n\n\nDrop-in\, come-and-go networking \n\n\nComplimentary drinks & appetizers \n\n\nTours and conversation with Legion representatives \n\n\nBring business cards for easy connections \n\n\nWho should attend: Chamber members\, prospective members\, and community partners looking to build relationships after hours. \nCost: Free to attend. \n 
URL:https://effinghamcountychamber.com/event/business-after-hours-american-legion-post-120/
LOCATION:Effingham American Legion Post 120\, 200 W Washington Ave.\, Effingham\, IL\, 62401\, United States
CATEGORIES:Chamber Events,Community Events,Member Events
ATTACH;FMTTYPE=image/png:https://effinghamcountychamber.com/wp-content/uploads/2021/07/Business_After_Hours.png
ORGANIZER;CN="Effingham%20County%20Chamber":MAILTO:info@effinghamcountychamber.com
END:VEVENT
END:VCALENDAR