BEGIN:VCALENDAR
VERSION:2.0
PRODID:-//Effingham County Chamber - ECPv5.14.1//NONSGML v1.0//EN
CALSCALE:GREGORIAN
METHOD:PUBLISH
X-WR-CALNAME:Effingham County Chamber
X-ORIGINAL-URL:https://effinghamcountychamber.com
X-WR-CALDESC:Events for Effingham County Chamber
REFRESH-INTERVAL;VALUE=DURATION:PT1H
X-Robots-Tag:noindex
X-PUBLISHED-TTL:PT1H
BEGIN:VTIMEZONE
TZID:America/Chicago
BEGIN:DAYLIGHT
TZOFFSETFROM:-0600
TZOFFSETTO:-0500
TZNAME:CDT
DTSTART:20250309T080000
END:DAYLIGHT
BEGIN:STANDARD
TZOFFSETFROM:-0500
TZOFFSETTO:-0600
TZNAME:CST
DTSTART:20251102T070000
END:STANDARD
END:VTIMEZONE
BEGIN:VEVENT
DTSTART;VALUE=DATE:20250920
DTEND;VALUE=DATE:20250921
DTSTAMP:20260424T223042
CREATED:20250826T200523Z
LAST-MODIFIED:20250918T204501Z
UID:24541-1758326400-1758412799@effinghamcountychamber.com
SUMMARY:Effingham Fall City-Wide Garage Sales
DESCRIPTION:
URL:https://effinghamcountychamber.com/event/effingham-fall-city-wide-garage-sales-2/
LOCATION:Effingham\, IL
CATEGORIES:Community Events,Member Events
ATTACH;FMTTYPE=image/jpeg:https://effinghamcountychamber.com/wp-content/uploads/2024/09/Fall-city-wide-icon.jpg
END:VEVENT
BEGIN:VEVENT
DTSTART;TZID=America/Chicago:20250920T073000
DTEND;TZID=America/Chicago:20250920T160000
DTSTAMP:20260424T223042
CREATED:20250911T185330Z
LAST-MODIFIED:20250911T185530Z
UID:24692-1758353400-1758384000@effinghamcountychamber.com
SUMMARY:Ballard Nature Center 3D Bow Shoot
DESCRIPTION:
URL:https://effinghamcountychamber.com/event/ballard-nature-center-3d-bow-shoot/
LOCATION:Ballard Nature Center\, 5253 US-40\, Altamont\, IL\, 62411\, United States
CATEGORIES:Community Events,Member Events
ATTACH;FMTTYPE=image/png:https://effinghamcountychamber.com/wp-content/uploads/2021/10/Ballard-Nature-Center-2018.png
END:VEVENT
BEGIN:VEVENT
DTSTART;TZID=America/Chicago:20250920T110000
DTEND;TZID=America/Chicago:20250920T150000
DTSTAMP:20260424T223042
CREATED:20250827T183706Z
LAST-MODIFIED:20250827T183706Z
UID:24571-1758366000-1758380400@effinghamcountychamber.com
SUMMARY:FreedomFest 2025
DESCRIPTION:Follow the Facebook event page for up to date details. \nEnduring Freedom Ministries is located in the old Shumway Grade School close to the intersection of Illinois Route 33 and West Street in Shumway. EFM hosts a soup kitchen in their Five and Two restaurant and a food pantry. \nFor questions call Enduring Freedom Ministries at 217-240-0059.
URL:https://effinghamcountychamber.com/event/freedomfest-2025/
LOCATION:Enduring Freedom Ministries\, 304 South West Street\, Shumway\, IL\, 62461\, United States
CATEGORIES:Community Events,Member Events
ATTACH;FMTTYPE=image/jpeg:https://effinghamcountychamber.com/wp-content/uploads/2025/08/Freedom-Fest-2025.jpg
END:VEVENT
END:VCALENDAR