BEGIN:VCALENDAR
VERSION:2.0
PRODID:-//Effingham County Chamber - ECPv5.14.1//NONSGML v1.0//EN
CALSCALE:GREGORIAN
METHOD:PUBLISH
X-WR-CALNAME:Effingham County Chamber
X-ORIGINAL-URL:https://effinghamcountychamber.com
X-WR-CALDESC:Events for Effingham County Chamber
REFRESH-INTERVAL;VALUE=DURATION:PT1H
X-Robots-Tag:noindex
X-PUBLISHED-TTL:PT1H
BEGIN:VTIMEZONE
TZID:America/Chicago
BEGIN:DAYLIGHT
TZOFFSETFROM:-0600
TZOFFSETTO:-0500
TZNAME:CDT
DTSTART:20250309T080000
END:DAYLIGHT
BEGIN:STANDARD
TZOFFSETFROM:-0500
TZOFFSETTO:-0600
TZNAME:CST
DTSTART:20251102T070000
END:STANDARD
END:VTIMEZONE
BEGIN:VEVENT
DTSTART;TZID=America/Chicago:20250919T110000
DTEND;TZID=America/Chicago:20250919T160000
DTSTAMP:20260424T223554
CREATED:20250825T144256Z
LAST-MODIFIED:20250825T144256Z
UID:24475-1758279600-1758297600@effinghamcountychamber.com
SUMMARY:Community Blood Drive @ Dan Hecht Chevrolet-Toyota
DESCRIPTION:Visit RedCrossBlood.org to schedule your appointment. \n \n  \n 
URL:https://effinghamcountychamber.com/event/community-blood-drive-dan-hecht-chevrolet-toyota-2/
LOCATION:Dan Hecht Chevrolet-Toyota\, 2400 S. Banker St.\, Effingham\, IL\, 62401\, United States
CATEGORIES:Community Events,Member Events
ATTACH;FMTTYPE=image/jpeg:https://effinghamcountychamber.com/wp-content/uploads/2022/06/blood-drive-2-scaled.jpeg
END:VEVENT
BEGIN:VEVENT
DTSTART;TZID=America/Chicago:20250919T170000
DTEND;TZID=America/Chicago:20250919T223000
DTSTAMP:20260424T223554
CREATED:20250908T175625Z
LAST-MODIFIED:20250908T175818Z
UID:24633-1758301200-1758321000@effinghamcountychamber.com
SUMMARY:CSS Art Auction & Community Celebration
DESCRIPTION:CELEBRATE WITH US—Friday\, September 19\, 2025! You’re invited to an evening full of art\, music\, food\, and community at the CSS Art Auction & Community Celebration! \nJoin us at the Teutopolis Banquet Hall grounds starting at 5:00 p.m. We’ll kick things off with a warm artist reception\, great eats and drinks\, and a variety of family-friendly activities like a petting zoo\, an inflatable obstacle course\, a balloon artist\, and face paining to name a few. \nNew this year: A CSS Vendor Fair where individuals served with small businesses are going to be sharing their talents and wares from 5:30-8PM or until supplies last. Also\, a Bake Sale\, where all proceeds will go toward supporting our mission! \nAt 6:00 p.m.\, prepare to be inspired as artwork created by CSS artists goes up for auction. Each piece is one-of-a-kind\, and every bid supports the CSS Art Program—nurturing creativity and expression for years to come. \nWhen the final artwork is sold\, the fun keeps rolling! Danny Shelton & The Bird Dogs will take the stage to close out the night with an unforgettable live performance you won’t want to miss. \nGrab your crew—family\, friends\, even your neighbor—and head out for an evening full of art\, food\, music\, and more. It’s a celebration of what makes our community great. \nQuestions? Call Macci Johnson (Outreach Coordinator) at 217.718.3821 or email her at mjohnson@csscares.org. \nMore info:\nWebsite\nFacebook event
URL:https://effinghamcountychamber.com/event/css-art-auction/
LOCATION:Teutopolis Banquet Hall\, 201 S Pearl St.\, Teutopolis\, IL\, 62467\, United States
CATEGORIES:Community Events,Member Events
ATTACH;FMTTYPE=image/png:https://effinghamcountychamber.com/wp-content/uploads/2022/12/Community-Support-Systems.png
END:VEVENT
END:VCALENDAR