BEGIN:VCALENDAR
VERSION:2.0
PRODID:-//Effingham County Chamber - ECPv5.14.1//NONSGML v1.0//EN
CALSCALE:GREGORIAN
METHOD:PUBLISH
X-WR-CALNAME:Effingham County Chamber
X-ORIGINAL-URL:https://effinghamcountychamber.com
X-WR-CALDESC:Events for Effingham County Chamber
REFRESH-INTERVAL;VALUE=DURATION:PT1H
X-Robots-Tag:noindex
X-PUBLISHED-TTL:PT1H
BEGIN:VTIMEZONE
TZID:America/Chicago
BEGIN:DAYLIGHT
TZOFFSETFROM:-0600
TZOFFSETTO:-0500
TZNAME:CDT
DTSTART:20250309T080000
END:DAYLIGHT
BEGIN:STANDARD
TZOFFSETFROM:-0500
TZOFFSETTO:-0600
TZNAME:CST
DTSTART:20251102T070000
END:STANDARD
END:VTIMEZONE
BEGIN:VEVENT
DTSTART;TZID=America/Chicago:20250918T080000
DTEND;TZID=America/Chicago:20250918T150000
DTSTAMP:20260424T223613
CREATED:20250915T200349Z
LAST-MODIFIED:20250915T200349Z
UID:24752-1758182400-1758207600@effinghamcountychamber.com
SUMMARY:Drive Thru Flu Clinics
DESCRIPTION:The Effingham County Health Department (ECHD) will once again be offering Flu Vaccination Clinics at its 901 W. Virginia location. We all know how miserable the flu can be\, and for some the flu may lead to hospitalization. A flu shot can help reduce the severity of the illness\, making it important that you get an annual flu shot. \nAdult flu clinics for 19 years and over – ECHD will hold drive-through flu vaccination clinics Tuesdays and Thursdays 8 a.m. to 3 p.m. starting on Tuesday\, September 16th through the end of October. Please wear short sleeved shirts and no coat in the car so it is easier to receive your shot. Have your insurance card(s) and photo ID ready for ECHD employees to scan and check. \nListen to local radio for weather related changes to clinic times. The Effingham County Health Department is located at 901 W. Virginia Avenue in Effingham. For more information call the Health Department at 217-342-9237 or go online at www.effcohealth.org.
URL:https://effinghamcountychamber.com/event/drive-thru-flu-clinics/2025-09-18/
LOCATION:Effingham County Health Department\, 901 W Virginia Ave.\, Effingham\, IL\, 62401
CATEGORIES:Community Events,Member Events
ATTACH;FMTTYPE=image/jpeg:https://effinghamcountychamber.com/wp-content/uploads/2022/02/Effingham-County-Health-Dept.jpg
END:VEVENT
BEGIN:VEVENT
DTSTART;TZID=America/Chicago:20250918T100000
DTEND;TZID=America/Chicago:20250918T110000
DTSTAMP:20260424T223613
CREATED:20250826T155239Z
LAST-MODIFIED:20250826T155239Z
UID:24533-1758189600-1758193200@effinghamcountychamber.com
SUMMARY:Medicare Informational Class
DESCRIPTION:
URL:https://effinghamcountychamber.com/event/medicare-informational-class-4/
LOCATION:Effingham Catholic Charities\, 1502 E Fayette Ave.\, Teutopolis\, IL
CATEGORIES:Community Events,Member Events
ATTACH;FMTTYPE=image/jpeg:https://effinghamcountychamber.com/wp-content/uploads/2025/08/Effingham-Catholic-Charities.jpg
END:VEVENT
BEGIN:VEVENT
DTSTART;TZID=America/Chicago:20250918T103000
DTEND;TZID=America/Chicago:20250918T133000
DTSTAMP:20260424T223613
CREATED:20250702T200207Z
LAST-MODIFIED:20250702T200207Z
UID:23942-1758191400-1758202200@effinghamcountychamber.com
SUMMARY:Illinois Chamber Annual Meeting & Luncheon
DESCRIPTION:The Illinois Chamber’s Annual Meeting and Luncheon | September 18\,2025 | Hilton Chicago Continental Room\, 720 S. Michigan Ave.\, Chicago IL 60605 \nFireside Chat with Don Thompson\, CEO | Cleveland Avenue\nDon Thompson brings his signature blend of savvy business acumen and warm personal touch to his role as CEO and Founder of Cleveland Avenue (CA)\, LLC. Founded in 2015\, with his life partner and wife\, Liz Thompson\, CA is a prominent Chicago-based investment firm specializing in lifestyle consumer brands and companies that positively disrupt large and growing markets. \nThe Thompsons concurrently formed The Cleveland Avenue Foundation for Education which is committed to supporting and mentoring students and professionals as they progress from the classroom to the boardroom through philanthropy and education support services. \nMr. Thompson launched his own recipe for success at CA following over 25 years of climbing the ranks at McDonald’s\, where he departed after successfully running the company as President & CEO. Thompson not only invests in but also mentors entrepreneurs by combining his electrical engineering background\, global leadership\, and business expertise with his passion for customer innovation to create a powerful environment of analytical thinking and creativity. \nThompson is also at the intersection of potential and purpose by cultivating a culture that stays true to his foundations of faith\, family\, service\, philanthropy\, diversity\, and inclusion. Thompson is a member of the Commercial and Economic Clubs of Chicago\, World Business Chicago\, the Arthur M. Brazier Foundation\, and serves on the National Football League (NFL) Diversity Advisory Committee as well as is a Trustee of The Cleveland Avenue Foundation for Education. \nCleveland Avenue and the Cleveland Avenue Foundation for Education have received numerous awards and recognition for their social impact\, including the Baumhart Center at Loyola University Chicago Social Impact Award. Additionally\, Mr. Thompson has been honored with the National Black MBA Association’s Outstanding Leadership Award\, been inducted into the Chicago Innovation Hall of Fame\, and received 1871’s Momentum Chicagoness Award. \nEmcee\, Lourdes Duarte\, Co-Anchor WGN Evening News and Lead Investigative Reporter | WGN\nLourdes Duarte is a four-time EMMY Award winner.  She co-anchors the WGN Evening News at 4pm and is one of the station’s lead investigative reporters.  Prior to her role on the  evening news\, Lourdes co-anchored the top-rated WGN Morning News.  She also hosts WGN’s public affairs program Adelante Chicago.
URL:https://effinghamcountychamber.com/event/illinois-chamber-annual-meeting-luncheon/
LOCATION:Hilton Chicago\, 720 S. Michigan Ave.\, Chicago\, IL\, 60605
CATEGORIES:Chamber Events,Community Events,Member Events
ATTACH;FMTTYPE=image/jpeg:https://effinghamcountychamber.com/wp-content/uploads/2025/07/2025-Annual-Luncheon.jpg
END:VEVENT
END:VCALENDAR