BEGIN:VCALENDAR
VERSION:2.0
PRODID:-//Effingham County Chamber - ECPv5.14.1//NONSGML v1.0//EN
CALSCALE:GREGORIAN
METHOD:PUBLISH
X-WR-CALNAME:Effingham County Chamber
X-ORIGINAL-URL:https://effinghamcountychamber.com
X-WR-CALDESC:Events for Effingham County Chamber
REFRESH-INTERVAL;VALUE=DURATION:PT1H
X-Robots-Tag:noindex
X-PUBLISHED-TTL:PT1H
BEGIN:VTIMEZONE
TZID:America/Chicago
BEGIN:DAYLIGHT
TZOFFSETFROM:-0600
TZOFFSETTO:-0500
TZNAME:CDT
DTSTART:20250309T080000
END:DAYLIGHT
BEGIN:STANDARD
TZOFFSETFROM:-0500
TZOFFSETTO:-0600
TZNAME:CST
DTSTART:20251102T070000
END:STANDARD
END:VTIMEZONE
BEGIN:VEVENT
DTSTART;TZID=America/Chicago:20250916T080000
DTEND;TZID=America/Chicago:20250916T150000
DTSTAMP:20260424T223552
CREATED:20250702T195005Z
LAST-MODIFIED:20250702T195005Z
UID:23931-1758009600-1758034800@effinghamcountychamber.com
SUMMARY:Emerging Leader Institute - New 2025-2027 cohort
DESCRIPTION:Ready to Level Up your career? This career and life enhancing 22-month leadership development series\, The Emerging Leader Institute includes educational sessions\, peer-to-peer exercises and discussions\, combined with personal\, individualized coaching for practical real-time application in your live work settings. \nTopics for high potential leaders include: Creating Vision & Decision Making\, Goal Setting & Execution\, Coaching and Mentoring\, Accountability & Delegation\, Leading Change with Courage & Passion\, Building Community\, Culture Development & Integration\, Strategic Execution\, Continuous Improvement\, Leadership Transitions\, and Customer Loyalty. Sessions were led and facilitated by Leadership Coach Dan Woods and included several guest speakers. Workshops are every other month with personal executive coaching between sessions to put learning into action with the exceptional support of a coach. \nContact: CEOs and business owners who have Middle and upper level managers that you want grow and who dare take their careers to the next level contact Dan Woods\, danwoodsfache@gmail.com to request an application.
URL:https://effinghamcountychamber.com/event/emerging-leader-institute-new-2025-2027-cohort/
LOCATION:TBD\, IL\, United States
CATEGORIES:Community Events,Member Events
ATTACH;FMTTYPE=image/jpeg:https://effinghamcountychamber.com/wp-content/uploads/2025/07/WOODS-LOGO.jpg
END:VEVENT
BEGIN:VEVENT
DTSTART;TZID=America/Chicago:20250916T080000
DTEND;TZID=America/Chicago:20250916T150000
DTSTAMP:20260424T223552
CREATED:20250915T200349Z
LAST-MODIFIED:20250915T200352Z
UID:24750-1758009600-1758034800@effinghamcountychamber.com
SUMMARY:Drive Thru Flu Clinics
DESCRIPTION:The Effingham County Health Department (ECHD) will once again be offering Flu Vaccination Clinics at its 901 W. Virginia location. We all know how miserable the flu can be\, and for some the flu may lead to hospitalization. A flu shot can help reduce the severity of the illness\, making it important that you get an annual flu shot. \nAdult flu clinics for 19 years and over – ECHD will hold drive-through flu vaccination clinics Tuesdays and Thursdays 8 a.m. to 3 p.m. starting on Tuesday\, September 16th through the end of October. Please wear short sleeved shirts and no coat in the car so it is easier to receive your shot. Have your insurance card(s) and photo ID ready for ECHD employees to scan and check. \nListen to local radio for weather related changes to clinic times. The Effingham County Health Department is located at 901 W. Virginia Avenue in Effingham. For more information call the Health Department at 217-342-9237 or go online at www.effcohealth.org.
URL:https://effinghamcountychamber.com/event/drive-thru-flu-clinics/
LOCATION:Effingham County Health Department\, 901 W Virginia Ave.\, Effingham\, IL\, 62401
CATEGORIES:Community Events,Member Events
ATTACH;FMTTYPE=image/jpeg:https://effinghamcountychamber.com/wp-content/uploads/2022/02/Effingham-County-Health-Dept.jpg
END:VEVENT
BEGIN:VEVENT
DTSTART;TZID=America/Chicago:20250916T100000
DTEND;TZID=America/Chicago:20250916T110000
DTSTAMP:20260424T223552
CREATED:20250826T155217Z
LAST-MODIFIED:20250826T155217Z
UID:24531-1758016800-1758020400@effinghamcountychamber.com
SUMMARY:Medicare Informational Class
DESCRIPTION:
URL:https://effinghamcountychamber.com/event/medicare-informational-class-3/
LOCATION:Effingham Catholic Charities\, 1502 E Fayette Ave.\, Teutopolis\, IL
CATEGORIES:Community Events,Member Events
ATTACH;FMTTYPE=image/jpeg:https://effinghamcountychamber.com/wp-content/uploads/2025/08/Effingham-Catholic-Charities.jpg
END:VEVENT
BEGIN:VEVENT
DTSTART;TZID=America/Chicago:20250916T103000
DTEND;TZID=America/Chicago:20250916T113000
DTSTAMP:20260424T223552
CREATED:20250702T195526Z
LAST-MODIFIED:20250702T195526Z
UID:23935-1758018600-1758022200@effinghamcountychamber.com
SUMMARY:What's a Culture Audit and Why Does Your Business Need One? (Webinar)
DESCRIPTION:The importance of a positive workplace culture in attracting and retaining great talent cannot be overstated. But how well do you understand your business’ culture? How are your employees really feeling about their work\, workplace interactions\, and policies? How can you generate data on which to base your efforts to change or improve your business’ culture? \nEmployment attorney and business counselor Christina Hynes Mesco will reveal the one tool that can empower you to respond to all these concerns: workplace culture audits. Often called “culture assessments” or “climate surveys\,” a culture audit is a systematic evaluation of a business’ culture to determine opportunities for improvement and address potential issues before they arise. A culture audit provides a business with the necessary feedback and data to craft a healthy workplace culture. \nThis program will define what a culture audit is\, the information audits can provide\, how to properly conduct them\, and the various benefits that they can provide to a business. This CLE will benefit in-house and general counsel\, third-party attorneys who regularly conduct investigations\, HR personnel\, and anyone else involved in making work better. \n\nWhen registering\, please indicate Effingham COUNTY CHAMBER in the “Learned About it From” drop down to receive member pricing.
URL:https://effinghamcountychamber.com/event/whats-a-culture-audit-and-why-does-your-business-need-one-webinar-2/
LOCATION:Webinar
CATEGORIES:Chamber Events,Member Events
ATTACH;FMTTYPE=image/jpeg:https://effinghamcountychamber.com/wp-content/uploads/2025/07/Culture-Audits.jpg
END:VEVENT
END:VCALENDAR