BEGIN:VCALENDAR
VERSION:2.0
PRODID:-//Effingham County Chamber - ECPv5.14.1//NONSGML v1.0//EN
CALSCALE:GREGORIAN
METHOD:PUBLISH
X-WR-CALNAME:Effingham County Chamber
X-ORIGINAL-URL:https://effinghamcountychamber.com
X-WR-CALDESC:Events for Effingham County Chamber
REFRESH-INTERVAL;VALUE=DURATION:PT1H
X-Robots-Tag:noindex
X-PUBLISHED-TTL:PT1H
BEGIN:VTIMEZONE
TZID:America/Chicago
BEGIN:DAYLIGHT
TZOFFSETFROM:-0600
TZOFFSETTO:-0500
TZNAME:CDT
DTSTART:20250309T080000
END:DAYLIGHT
BEGIN:STANDARD
TZOFFSETFROM:-0500
TZOFFSETTO:-0600
TZNAME:CST
DTSTART:20251102T070000
END:STANDARD
END:VTIMEZONE
BEGIN:VEVENT
DTSTART;TZID=America/Chicago:20250910T103000
DTEND;TZID=America/Chicago:20250910T120000
DTSTAMP:20260424T223557
CREATED:20250811T180801Z
LAST-MODIFIED:20250811T180801Z
UID:24306-1757500200-1757505600@effinghamcountychamber.com
SUMMARY:WC Aspirin: Strategies to Resolve Your Chronic Workers' Compensation Claims (Webinar)
DESCRIPTION:Come join experienced trail attorneys Lisa Azoory-Keller and Adam Cox\, as they help provide some relief to prevent and resolve your ancient “old dog” workers’ compensation claims. As an added bonus\, they will also give a smattering of “hacks” that are guaranteed to help minimize your claim exposures. \n\nWhen registering\, please indicate Effingham COUNTY CHAMBER in the “Learned About it From” drop down to receive member pricing.
URL:https://effinghamcountychamber.com/event/wc-aspirin-strategies-to-resolve-your-chronic-workers-compensation-claims-webinar/
LOCATION:Webinar
CATEGORIES:Chamber Events,Member Events
ATTACH;FMTTYPE=image/jpeg:https://effinghamcountychamber.com/wp-content/uploads/2025/08/Strategies.jpg
END:VEVENT
END:VCALENDAR