BEGIN:VCALENDAR
VERSION:2.0
PRODID:-//Effingham County Chamber - ECPv5.14.1//NONSGML v1.0//EN
CALSCALE:GREGORIAN
METHOD:PUBLISH
X-WR-CALNAME:Effingham County Chamber
X-ORIGINAL-URL:https://effinghamcountychamber.com
X-WR-CALDESC:Events for Effingham County Chamber
REFRESH-INTERVAL;VALUE=DURATION:PT1H
X-Robots-Tag:noindex
X-PUBLISHED-TTL:PT1H
BEGIN:VTIMEZONE
TZID:America/Chicago
BEGIN:DAYLIGHT
TZOFFSETFROM:-0600
TZOFFSETTO:-0500
TZNAME:CDT
DTSTART:20250309T080000
END:DAYLIGHT
BEGIN:STANDARD
TZOFFSETFROM:-0500
TZOFFSETTO:-0600
TZNAME:CST
DTSTART:20251102T070000
END:STANDARD
END:VTIMEZONE
BEGIN:VEVENT
DTSTART;TZID=America/Chicago:20250904T100000
DTEND;TZID=America/Chicago:20250904T110000
DTSTAMP:20260424T222935
CREATED:20250826T155202Z
LAST-MODIFIED:20250826T155202Z
UID:24529-1756980000-1756983600@effinghamcountychamber.com
SUMMARY:Medicare Informational Class
DESCRIPTION:
URL:https://effinghamcountychamber.com/event/medicare-informational-class-2/
LOCATION:Effingham Catholic Charities\, 1502 E Fayette Ave.\, Teutopolis\, IL
CATEGORIES:Community Events,Member Events
ATTACH;FMTTYPE=image/jpeg:https://effinghamcountychamber.com/wp-content/uploads/2025/08/Effingham-Catholic-Charities.jpg
END:VEVENT
BEGIN:VEVENT
DTSTART;TZID=America/Chicago:20250904T103000
DTEND;TZID=America/Chicago:20250904T120000
DTSTAMP:20260424T222935
CREATED:20250811T180720Z
LAST-MODIFIED:20250811T180720Z
UID:24303-1756981800-1756987200@effinghamcountychamber.com
SUMMARY:Navigating the Risks of AI in the Workplace (Webinar)
DESCRIPTION:Artificial Intelligence (AI) is transforming the modern workplace—reshaping how organizations hire\, manage\, and evaluate their workforce. From recruitment tools to performance tracking systems\, AI is playing a bigger role in employment decisions than ever before. But with innovation comes responsibility—and a fast-evolving legal landscape. \nState governments are introducing new regulations to keep pace with AI’s impact on workers’ rights\, raising complex challenges for HR professionals\, IT teams\, and legal departments alike. Staying ahead of these developments is critical to protecting your organization. \nJoin Bev Alfon\, Labor & Employment Attorney at Amundsen Davis\, LLC\, for a timely and informative webinar where she will break down: \n\nHow traditional employment laws apply to emerging AI tools\nThe latest in AI-specific legislation and what’s coming next\nActionable strategies for reducing legal risk while embracing innovation\n\nDon’t miss this opportunity to get the insights you need to lead confidently in the age of AI. \n\nWhen registering\, please indicate Effingham COUNTY CHAMBER in the “Learned About it From” drop down to receive member pricing.
URL:https://effinghamcountychamber.com/event/navigating-the-risks-of-ai-in-the-workplace-webinar/
LOCATION:Webinar
CATEGORIES:Chamber Events,Member Events
ATTACH;FMTTYPE=image/jpeg:https://effinghamcountychamber.com/wp-content/uploads/2025/08/Navigating.jpg
END:VEVENT
END:VCALENDAR