BEGIN:VCALENDAR
VERSION:2.0
PRODID:-//Effingham County Chamber - ECPv5.14.1//NONSGML v1.0//EN
CALSCALE:GREGORIAN
METHOD:PUBLISH
X-WR-CALNAME:Effingham County Chamber
X-ORIGINAL-URL:https://effinghamcountychamber.com
X-WR-CALDESC:Events for Effingham County Chamber
REFRESH-INTERVAL;VALUE=DURATION:PT1H
X-Robots-Tag:noindex
X-PUBLISHED-TTL:PT1H
BEGIN:VTIMEZONE
TZID:America/Chicago
BEGIN:DAYLIGHT
TZOFFSETFROM:-0600
TZOFFSETTO:-0500
TZNAME:CDT
DTSTART:20250309T080000
END:DAYLIGHT
BEGIN:STANDARD
TZOFFSETFROM:-0500
TZOFFSETTO:-0600
TZNAME:CST
DTSTART:20251102T070000
END:STANDARD
END:VTIMEZONE
BEGIN:VEVENT
DTSTART;VALUE=DATE:20250512
DTEND;VALUE=DATE:20250613
DTSTAMP:20260425T062233
CREATED:20250512T161842Z
LAST-MODIFIED:20250512T161843Z
UID:23429-1747008000-1749772799@effinghamcountychamber.com
SUMMARY:Share a Smile Toothbrush Drive
DESCRIPTION:Dieterich Bank is hosting a Toothbrush Drive to support CEFS!\n\nFrom May 12 to June 12\, we’re collecting new toothbrushes for kids ages 0–5 in Effingham and Fayette Counties. Donations can be dropped off at our Effingham\, Lake Sara\, Teutopolis\, Dieterich\, or St. Elmo branches
URL:https://effinghamcountychamber.com/event/share-a-smile-toothbrush-drive/
LOCATION:Dieterich Bank – Fayette Ave.\, 510 W Fayette Ave.\, Effingham\, IL\, 62401
CATEGORIES:Community Events,Member Events
ATTACH;FMTTYPE=image/png:https://effinghamcountychamber.com/wp-content/uploads/2021/08/Dieterich-Bank-1.png
END:VEVENT
BEGIN:VEVENT
DTSTART;TZID=America/Chicago:20250523T170000
DTEND;TZID=America/Chicago:20250523T190000
DTSTAMP:20260425T062233
CREATED:20250519T145208Z
LAST-MODIFIED:20250519T145209Z
UID:23479-1748019600-1748026800@effinghamcountychamber.com
SUMMARY:Memorial Day Cookout in the Courtyard
DESCRIPTION:Join us for a cookout in the courtyard to celebrate and honor those that sacrificed for us this Memorial Day. Please RSVP by Monday\, May 19th. by calling 217-342-2345 or just message us on Facebook! \nEvent questions can be directed to:\nJulie Brooks\, Executive Director | 217-342-2345 \nFollow Villas of Holly Brook Effingham on Facebook!
URL:https://effinghamcountychamber.com/event/memorial-day-cookout-in-the-courtyard/
LOCATION:Villas of Holly Brook Effingham\, 904 W Evergreen Ave.\, Effingham\, IL\, 62401
CATEGORIES:Community Events,Member Events
ATTACH;FMTTYPE=image/png:https://effinghamcountychamber.com/wp-content/uploads/2024/11/Villas_of_Holly_Brook_Effingham_Color.png
END:VEVENT
END:VCALENDAR