BEGIN:VCALENDAR
VERSION:2.0
PRODID:-//Effingham County Chamber - ECPv5.14.1//NONSGML v1.0//EN
CALSCALE:GREGORIAN
METHOD:PUBLISH
X-WR-CALNAME:Effingham County Chamber
X-ORIGINAL-URL:https://effinghamcountychamber.com
X-WR-CALDESC:Events for Effingham County Chamber
REFRESH-INTERVAL;VALUE=DURATION:PT1H
X-Robots-Tag:noindex
X-PUBLISHED-TTL:PT1H
BEGIN:VTIMEZONE
TZID:America/Chicago
BEGIN:DAYLIGHT
TZOFFSETFROM:-0600
TZOFFSETTO:-0500
TZNAME:CDT
DTSTART:20250309T080000
END:DAYLIGHT
BEGIN:STANDARD
TZOFFSETFROM:-0500
TZOFFSETTO:-0600
TZNAME:CST
DTSTART:20251102T070000
END:STANDARD
END:VTIMEZONE
BEGIN:VEVENT
DTSTART;VALUE=DATE:20250305
DTEND;VALUE=DATE:20250506
DTSTAMP:20260425T062235
CREATED:20250305T194025Z
LAST-MODIFIED:20250306T232709Z
UID:22373-1741132800-1746489599@effinghamcountychamber.com
SUMMARY:Discovery Christian School: Accepting New Student Applications
DESCRIPTION:Discovery Christian School is excited to welcome new students for the 2025-2026 academic year! \nHow to Apply:Interested families should email the school office with their child’s name and the grade they will be entering. Once received\, the office will provide a link to complete the online registration process. \n🔹 If a grade level is full\, families will have the option to join the waiting list. \nEnroll here: https://discoverychristianschools.com/k-8-enrollment \nWe look forward to welcoming new students to our school community!
URL:https://effinghamcountychamber.com/event/accepting-new-student-applications/
LOCATION:Online
CATEGORIES:Community Events,Member Events
ATTACH;FMTTYPE=image/jpeg:https://effinghamcountychamber.com/wp-content/uploads/2025/01/Discovery-Christian-School.jpg
END:VEVENT
BEGIN:VEVENT
DTSTART;TZID=America/Chicago:20250503T090000
DTEND;TZID=America/Chicago:20250503T120000
DTSTAMP:20260425T062235
CREATED:20250331T170441Z
LAST-MODIFIED:20250331T170441Z
UID:22640-1746262800-1746273600@effinghamcountychamber.com
SUMMARY:Walk to End Parkinson's
DESCRIPTION:
URL:https://effinghamcountychamber.com/event/walk-to-end-parkinsons/
LOCATION:Workman Sports and Wellness Complex\, 1301 N Maple St.\, Effingham\, IL\, 62401
CATEGORIES:Community Events,Member Events
ATTACH;FMTTYPE=image/png:https://effinghamcountychamber.com/wp-content/uploads/2025/01/HSHS-St.-Anthonys-150-SAE_C_H.png
END:VEVENT
BEGIN:VEVENT
DTSTART;TZID=America/Chicago:20250503T190000
DTEND;TZID=America/Chicago:20250503T220000
DTSTAMP:20260425T062235
CREATED:20250219T224229Z
LAST-MODIFIED:20250219T224229Z
UID:22152-1746298800-1746309600@effinghamcountychamber.com
SUMMARY:Unit 40 Mentoring Program Trivia Night
DESCRIPTION:The Effingham Unit 40 Mentoring Advisory Board will hold its 7th annual Trivia Night! \nDate: Saturday\, May 3rd \nLocation: Effingham Event Center located at 1501 W Fayette Avenue\, Effingham\, IL 62401 \nTime: Doors open at 6:00PM with the contest beginning at 7:00PM \nTheme: Kentucky Derby \nCost:\n$200 for an 8 person team\n***Limited to 40 tables competing***\nThere will be mulligans available for purchase.\n \nPurchase tickets. \nPrizes:\nPrizes will be given for best decorated table\, best team name\, and best costume! \nRaffle:\n$1\,000 raffle sponsored by Ginger Ale’s\n$10 raffle tickets (available for purchase at event\, online or from a board member) \nFood & Beverage:\nSnacks will be available for purchase by Ginger Ale’s or you may bring your own!\nAlcoholic beverages and soft drinks will be available for purchase. \nEvent Contact:\nAbbey Nosbisch\, aknosbisch@gmail.com \nNote:\nProceeds from this event benefit the Effingham Unit 40 Mentoring Program. \nTrivia is not limited to just Kentucky Derby themed questions. \nFollow our event on Facebook!
URL:https://effinghamcountychamber.com/event/unit-40-mentoring-program-trivia-night/
LOCATION:Effingham Event Center\, 1501 W. Fayette Ave\, Effingham\, IL\, 62401
CATEGORIES:Community Events,Member Events
ATTACH;FMTTYPE=image/png:https://effinghamcountychamber.com/wp-content/uploads/2025/02/Trivia-Night-2025.png
END:VEVENT
END:VCALENDAR