BEGIN:VCALENDAR
VERSION:2.0
PRODID:-//Effingham County Chamber - ECPv5.14.1//NONSGML v1.0//EN
CALSCALE:GREGORIAN
METHOD:PUBLISH
X-WR-CALNAME:Effingham County Chamber
X-ORIGINAL-URL:https://effinghamcountychamber.com
X-WR-CALDESC:Events for Effingham County Chamber
REFRESH-INTERVAL;VALUE=DURATION:PT1H
X-Robots-Tag:noindex
X-PUBLISHED-TTL:PT1H
BEGIN:VTIMEZONE
TZID:America/Chicago
BEGIN:DAYLIGHT
TZOFFSETFROM:-0600
TZOFFSETTO:-0500
TZNAME:CDT
DTSTART:20260308T080000
END:DAYLIGHT
BEGIN:STANDARD
TZOFFSETFROM:-0500
TZOFFSETTO:-0600
TZNAME:CST
DTSTART:20261101T070000
END:STANDARD
END:VTIMEZONE
BEGIN:VEVENT
DTSTART;TZID=America/Chicago:20260519T103000
DTEND;TZID=America/Chicago:20260519T113000
DTSTAMP:20260424T124859
CREATED:20260424T132707Z
LAST-MODIFIED:20260424T132707Z
UID:27981-1779186600-1779190200@effinghamcountychamber.com
SUMMARY:Workers' Compensation - Return to Work Issues & Strategies (Webinar)
DESCRIPTION:Please join us for a discussion with Tim O’Gorman at Keefe\, Campbell\, Biery & Associates to explore how best to position employees to return to work after an injury on the job\, and how best to build decision-making processes that result in cost-effective outcomes. \n\nWhen registering\, please indicate Effingham COUNTY CHAMBER in the “Learned About it From” drop down to receive member pricing.
URL:https://effinghamcountychamber.com/event/workers-compensation-return-to-work-issues-strategies-webinar/
LOCATION:Webinar
CATEGORIES:Chamber Events,Member Events
ATTACH;FMTTYPE=image/png:https://effinghamcountychamber.com/wp-content/uploads/2026/04/workers-comp.png
END:VEVENT
END:VCALENDAR