BEGIN:VCALENDAR
VERSION:2.0
PRODID:-//Effingham County Chamber - ECPv5.14.1//NONSGML v1.0//EN
CALSCALE:GREGORIAN
METHOD:PUBLISH
X-WR-CALNAME:Effingham County Chamber
X-ORIGINAL-URL:https://effinghamcountychamber.com
X-WR-CALDESC:Events for Effingham County Chamber
REFRESH-INTERVAL;VALUE=DURATION:PT1H
X-Robots-Tag:noindex
X-PUBLISHED-TTL:PT1H
BEGIN:VTIMEZONE
TZID:America/Chicago
BEGIN:DAYLIGHT
TZOFFSETFROM:-0600
TZOFFSETTO:-0500
TZNAME:CDT
DTSTART:20260308T080000
END:DAYLIGHT
BEGIN:STANDARD
TZOFFSETFROM:-0500
TZOFFSETTO:-0600
TZNAME:CST
DTSTART:20261101T070000
END:STANDARD
END:VTIMEZONE
BEGIN:VEVENT
DTSTART;VALUE=DATE:20260420
DTEND;VALUE=DATE:20260425
DTSTAMP:20260423T082906
CREATED:20260420T170056Z
LAST-MODIFIED:20260420T194048Z
UID:27924-1776643200-1777075199@effinghamcountychamber.com
SUMMARY:Volunteer Week / Pet Food & Toy Drive @ CEFS
DESCRIPTION:Make an impact during Volunteer Week with this community-wide initiative hosted by CEFS. \nFrom April 20–24\, individuals can take advantage of transportation support to help them reach volunteer opportunities throughout the area. This effort is designed to remove barriers and make it easier for more people to get involved and give back. \nIn addition to volunteering\, community members are encouraged to support the Pet Food & Toy Drive by donating unopened\, in-date pet food or new pet toys. Donations help local efforts that care for animals in need. \nRides are available based on scheduling and apply to in-county trips. \nTo schedule transportation or learn more\, contact the CEFS dispatch office at 1-855-755-2478. \nhttps://www.cefseoc.org/
URL:https://effinghamcountychamber.com/event/volunteer-week-pet-food-toy-drive-cefs/
LOCATION:CEFS\, 1805 S Banker St.\, Effingham\, IL\, 62401
CATEGORIES:Community Events,Member Events
ATTACH;FMTTYPE=image/jpeg:https://effinghamcountychamber.com/wp-content/uploads/2024/11/CEFS-new-logo-2025.jpg
END:VEVENT
END:VCALENDAR