BEGIN:VCALENDAR
VERSION:2.0
PRODID:-//Effingham County Chamber - ECPv5.14.1//NONSGML v1.0//EN
CALSCALE:GREGORIAN
METHOD:PUBLISH
X-WR-CALNAME:Effingham County Chamber
X-ORIGINAL-URL:https://effinghamcountychamber.com
X-WR-CALDESC:Events for Effingham County Chamber
REFRESH-INTERVAL;VALUE=DURATION:PT1H
X-Robots-Tag:noindex
X-PUBLISHED-TTL:PT1H
BEGIN:VTIMEZONE
TZID:America/Chicago
BEGIN:DAYLIGHT
TZOFFSETFROM:-0600
TZOFFSETTO:-0500
TZNAME:CDT
DTSTART:20260308T080000
END:DAYLIGHT
BEGIN:STANDARD
TZOFFSETFROM:-0500
TZOFFSETTO:-0600
TZNAME:CST
DTSTART:20261101T070000
END:STANDARD
END:VTIMEZONE
BEGIN:VEVENT
DTSTART;TZID=America/Chicago:20260715T173000
DTEND;TZID=America/Chicago:20260715T203000
DTSTAMP:20260423T113920
CREATED:20260416T172621Z
LAST-MODIFIED:20260416T173325Z
UID:27904-1784136600-1784147400@effinghamcountychamber.com
SUMMARY:Vacation Bible School "Deep Roots\, Big Faith" @ FCC Effingham
DESCRIPTION:Give your child a place to grow this summer at “Deep Roots\, Big Faith” Vacation Bible School! \nOver three fun-filled days\, 5:30 p.m. to 8:00 p.m.\, kids will build strong foundations in their faith through engaging Bible lessons\, music\, games\, and hands-on activities—all in a safe\, welcoming environment. \nIt’s a meaningful\, high-energy experience your child won’t want to miss—and an easy “yes” for parents looking for something both fun and purposeful. \nDates:\nWednesday\, July 15\nThursday\, July 16\nFriday\, July 17 \nTime:\n5:30p-8p \nCost:\nFREE\nClick here to register. \nLocation:\nFirst Christian Church of Effingham\n901 N. Henrietta St.\nEffingham\, IL \nQuestions can be directed to:\nCleone Bloemker\n(217) 342-6797\nfcceffingham@gmail.com
URL:https://effinghamcountychamber.com/event/vbs-fcc-effingham/
LOCATION:First Christian Church\, 901 N Henrietta St.\, Effingham\, IL\, 62401\, United States
CATEGORIES:Community Events
ATTACH;FMTTYPE=image/jpeg:https://effinghamcountychamber.com/wp-content/uploads/2026/04/2026-VBS-LOGO.jpg
END:VEVENT
END:VCALENDAR