BEGIN:VCALENDAR
VERSION:2.0
PRODID:-//Effingham County Chamber - ECPv5.14.1//NONSGML v1.0//EN
CALSCALE:GREGORIAN
METHOD:PUBLISH
X-WR-CALNAME:Effingham County Chamber
X-ORIGINAL-URL:https://effinghamcountychamber.com
X-WR-CALDESC:Events for Effingham County Chamber
REFRESH-INTERVAL;VALUE=DURATION:PT1H
X-Robots-Tag:noindex
X-PUBLISHED-TTL:PT1H
BEGIN:VTIMEZONE
TZID:America/Chicago
BEGIN:DAYLIGHT
TZOFFSETFROM:-0600
TZOFFSETTO:-0500
TZNAME:CDT
DTSTART:20250309T080000
END:DAYLIGHT
BEGIN:STANDARD
TZOFFSETFROM:-0500
TZOFFSETTO:-0600
TZNAME:CST
DTSTART:20251102T070000
END:STANDARD
END:VTIMEZONE
BEGIN:VEVENT
DTSTART;TZID=America/Chicago:20250508T103000
DTEND;TZID=America/Chicago:20250508T123000
DTSTAMP:20260423T175358
CREATED:20250314T193632Z
LAST-MODIFIED:20250314T193632Z
UID:22467-1746700200-1746707400@effinghamcountychamber.com
SUMMARY:The Life of a Workers' Compensation Claim (Webinar)
DESCRIPTION:Join Kevin Deuschle with IFMK Law Ltd. as he discusses the life of a worker’s compensation claim at every stage of handling\, from initial reporting and filing forms\, to motions for hearings and the specific tools the parties use to strategically advance litigation to closure. We will evaluate court processes and guidelines with respect to settlement and trial procedure at the Commission and appellate levels. \n\nWhen registering\, please indicate Effingham COUNTY CHAMBER in the “Learned About it From” drop down to receive member pricing.
URL:https://effinghamcountychamber.com/event/the-life-of-a-workers-compensation-claim-webinar/
LOCATION:Webinar
CATEGORIES:Chamber Events,Member Events
ATTACH;FMTTYPE=image/jpeg:https://effinghamcountychamber.com/wp-content/uploads/2025/03/Workers-Comp-Claim.jpg
END:VEVENT
END:VCALENDAR