BEGIN:VCALENDAR
VERSION:2.0
PRODID:-//Effingham County Chamber - ECPv5.14.1//NONSGML v1.0//EN
CALSCALE:GREGORIAN
METHOD:PUBLISH
X-WR-CALNAME:Effingham County Chamber
X-ORIGINAL-URL:https://effinghamcountychamber.com
X-WR-CALDESC:Events for Effingham County Chamber
REFRESH-INTERVAL;VALUE=DURATION:PT1H
X-Robots-Tag:noindex
X-PUBLISHED-TTL:PT1H
BEGIN:VTIMEZONE
TZID:America/Chicago
BEGIN:DAYLIGHT
TZOFFSETFROM:-0600
TZOFFSETTO:-0500
TZNAME:CDT
DTSTART:20250309T080000
END:DAYLIGHT
BEGIN:STANDARD
TZOFFSETFROM:-0500
TZOFFSETTO:-0600
TZNAME:CST
DTSTART:20251102T070000
END:STANDARD
END:VTIMEZONE
BEGIN:VEVENT
DTSTART;TZID=America/Chicago:20251129T090000
DTEND;TZID=America/Chicago:20251129T150000
DTSTAMP:20260423T070124
CREATED:20251020T204026Z
LAST-MODIFIED:20251020T204026Z
UID:25348-1764406800-1764428400@effinghamcountychamber.com
SUMMARY:Small Business Saturday in Downtown Effingham
DESCRIPTION:Small Business Saturday – Downtown Effingham\nJoin us Saturday\, November 29th for a downtown-wide celebration of local shopping! \nSupport your favorite small businesses\, discover unique gifts\, and enjoy festive fun all day long. Many shops will offer special deals\, giveaways\, and holiday treats to thank you for shopping small! \nIt’s also Hometown Christmas in downtown Effingham — the perfect time to shop\, stroll\, and soak in the holiday magic. \nFollow our Facebook event!
URL:https://effinghamcountychamber.com/event/small-business-saturday-in-downtown-effingham/
LOCATION:Downtown Effingham\, Jefferson Ave\, Effingham\, IL\, 62401\, United States
CATEGORIES:Chamber Events,Community Events,Member Events
ATTACH;FMTTYPE=image/png:https://effinghamcountychamber.com/wp-content/uploads/2025/10/Downtown-Small-Business-Saturday.png
END:VEVENT
END:VCALENDAR