BEGIN:VCALENDAR
VERSION:2.0
PRODID:-//Effingham County Chamber - ECPv5.14.1//NONSGML v1.0//EN
CALSCALE:GREGORIAN
METHOD:PUBLISH
X-WR-CALNAME:Effingham County Chamber
X-ORIGINAL-URL:https://effinghamcountychamber.com
X-WR-CALDESC:Events for Effingham County Chamber
REFRESH-INTERVAL;VALUE=DURATION:PT1H
X-Robots-Tag:noindex
X-PUBLISHED-TTL:PT1H
BEGIN:VTIMEZONE
TZID:America/Chicago
BEGIN:DAYLIGHT
TZOFFSETFROM:-0600
TZOFFSETTO:-0500
TZNAME:CDT
DTSTART:20250309T080000
END:DAYLIGHT
BEGIN:STANDARD
TZOFFSETFROM:-0500
TZOFFSETTO:-0600
TZNAME:CST
DTSTART:20251102T070000
END:STANDARD
END:VTIMEZONE
BEGIN:VEVENT
DTSTART;TZID=America/Chicago:20250620T193000
DTEND;TZID=America/Chicago:20250620T200000
DTSTAMP:20260423T112055
CREATED:20250613T174228Z
LAST-MODIFIED:20250613T180333Z
UID:23762-1750447800-1750449600@effinghamcountychamber.com
SUMMARY:Ribbon Cutting @ Effingham County Historic Courtyard
DESCRIPTION:Join us for a special evening as we celebrate the official unveiling of the new Courtyard Gazebo in the heart of downtown Effingham! The ribbon cutting ceremony will take place on Friday\, June 20 at 7:30 p.m. at the Effingham County Historic Courtyard. \nThis beautiful addition to our historic square was made possible through grants\, generous community partnerships between the City & County\, and a shared vision to enhance our downtown gathering space. Be among the first to see the gazebo up close and hear a few words from those who helped bring the project to life. \nStick around afterward—Downtown Effingham Movie Night kicks off right after the ceremony! It’s the perfect way to enjoy a summer evening with friends and family.
URL:https://effinghamcountychamber.com/event/ribbon-cutting-lustig-custom-cabinets-2/
LOCATION:Downtown Effingham Gazebo\, Jefferson Ave\, Effingham\, IL\, 62401\, United States
CATEGORIES:Chamber Events,Community Events,Member Events
ATTACH;FMTTYPE=image/png:https://effinghamcountychamber.com/wp-content/uploads/2021/07/Ribbon-Cuttings.png
END:VEVENT
END:VCALENDAR