BEGIN:VCALENDAR
VERSION:2.0
PRODID:-//Effingham County Chamber - ECPv5.14.1//NONSGML v1.0//EN
CALSCALE:GREGORIAN
METHOD:PUBLISH
X-WR-CALNAME:Effingham County Chamber
X-ORIGINAL-URL:https://effinghamcountychamber.com
X-WR-CALDESC:Events for Effingham County Chamber
REFRESH-INTERVAL;VALUE=DURATION:PT1H
X-Robots-Tag:noindex
X-PUBLISHED-TTL:PT1H
BEGIN:VTIMEZONE
TZID:America/Chicago
BEGIN:DAYLIGHT
TZOFFSETFROM:-0600
TZOFFSETTO:-0500
TZNAME:CDT
DTSTART:20250309T080000
END:DAYLIGHT
BEGIN:STANDARD
TZOFFSETFROM:-0500
TZOFFSETTO:-0600
TZNAME:CST
DTSTART:20251102T070000
END:STANDARD
END:VTIMEZONE
BEGIN:VEVENT
DTSTART;TZID=America/Chicago:20251113T163000
DTEND;TZID=America/Chicago:20251113T190000
DTSTAMP:20260423T145649
CREATED:20250925T214212Z
LAST-MODIFIED:20251105T205630Z
UID:24923-1763051400-1763060400@effinghamcountychamber.com
SUMMARY:Ribbon Cutting & Open House@ HSHS Center for Pediatric Therapy
DESCRIPTION:Join us as we celebrate the ribbon cutting for the HSHS St. Anthony’s Memorial Hospital Center for Pediatric Therapy—the first and only comprehensive center of its kind in the region. This new child-friendly facility is designed to support growth\, mobility\, and independence\, offering specialized speech\, physical\, and occupational therapy services tailored to meet the unique needs of children. \nHSHS St. Anthony’s Memorial Hospital invites community members to celebrate the opening of the new Center with an open house on Thursday\, Nov. 13\, from 4:30 to 7 p.m. The evening kicks off with a ribbon-cutting event at 4:30 p.m. with the Effingham County Chamber of Commerce. \nLocated at 904 Medical Park Drive in Effingham\, the Center for Pediatric Therapy represents a transformative expansion in pediatric health care for the region. The 4\,600-square-foot facility is the first and only comprehensive center of its kind serving Effingham\, Coles and surrounding counties\, offering innovative treatment in a child-friendly environment designed to promote development\, improve mobility and encourage independence. \nOpen House Highlights: \n\nRibbon cutting with the Effingham County Chamber of Commerce at 4:30 p.m.\nGuided tours of the state-of-the-art facility\nMeet the therapy team and learn about specialized programs and services\nFamily-friendly activities featuring the center’s unique amenities\, including a climbing rock wall and adaptive playground\nLight refreshments will be provided\nEnter for door prize of a JBL Bluetooth speaker\n\nThe Center for Pediatric Therapy offers specialized care for children with autism spectrum disorder\, ADHD\, sensory processing disorder\, cerebral palsy\, muscular dystrophy\, developmental delays\, traumatic brain injuries and other congenital conditions. Advanced therapies include pediatric pelvic floor therapy\, intensive therapy with the Universal Exercise Unit (SpiderCage)\, TOT Savvy for tongue ties\, sensory processing interventions\, augmentative and alternative communication\, and advanced pediatric feeding therapy. \nThe public is encouraged to tour the newest facility for HSHS St. Anthony’s Rehab and Wellness\, which is in addition to their adult therapy services offered at the Richard E. Workman Sports Complex and all the therapies offered at St. Anthony’s Health Center in Altamont. \nFor more information about HSHS St. Anthony’s Center for Pediatric Therapy\, visit hshs.org/st-anthonys/services/rehabilitation/pediatric-therapy or call 217-347-1685. \nDate & Time:\nThursday\, November 13 | 4:30p \nEnjoy delicious food & beverage! \n 
URL:https://effinghamcountychamber.com/event/ribbon-cutting-hshs-center-for-pediatric-therapy/
LOCATION:HSHS Center for Pediatric Therapy\, 904 Medical Park Dr.\, Effingham\, IL\, 62401
CATEGORIES:Community Events,Member Events
ATTACH;FMTTYPE=image/png:https://effinghamcountychamber.com/wp-content/uploads/2021/07/Ribbon-Cuttings.png
END:VEVENT
END:VCALENDAR