BEGIN:VCALENDAR
VERSION:2.0
PRODID:-//Effingham County Chamber - ECPv5.14.1//NONSGML v1.0//EN
CALSCALE:GREGORIAN
METHOD:PUBLISH
X-WR-CALNAME:Effingham County Chamber
X-ORIGINAL-URL:https://effinghamcountychamber.com
X-WR-CALDESC:Events for Effingham County Chamber
REFRESH-INTERVAL;VALUE=DURATION:PT1H
X-Robots-Tag:noindex
X-PUBLISHED-TTL:PT1H
BEGIN:VTIMEZONE
TZID:America/Chicago
BEGIN:DAYLIGHT
TZOFFSETFROM:-0600
TZOFFSETTO:-0500
TZNAME:CDT
DTSTART:20250309T080000
END:DAYLIGHT
BEGIN:STANDARD
TZOFFSETFROM:-0500
TZOFFSETTO:-0600
TZNAME:CST
DTSTART:20251102T070000
END:STANDARD
END:VTIMEZONE
BEGIN:VEVENT
DTSTART;TZID=America/Chicago:20251210T133000
DTEND;TZID=America/Chicago:20251210T140000
DTSTAMP:20260424T020732
CREATED:20251111T190112Z
LAST-MODIFIED:20251118T160722Z
UID:25819-1765373400-1765375200@effinghamcountychamber.com
SUMMARY:Ribbon Cutting @ Eastland Apartments
DESCRIPTION:Welcome to Eastland Apartments\, your new place to call home! Our family owned\, freshly built one and two bedroom apartments offer bright\, open spaces with modern finishes and all the comfort you’re looking for.  \nEnjoy a friendly community in a great location close to shopping\, dining\, and everything you need. Whether you’re starting on your own or looking for extra room\, Eastland Apartments has the perfect fit. Come see why it’s the chosen place to live.  \nNow leasing and move in ready.
URL:https://effinghamcountychamber.com/event/ribbon-cutting-eastland-apartments/
LOCATION:Eastland Apartments\, 404 S. 3rd Street\, Effingham\, IL\, 62401
CATEGORIES:Chamber Events,Community Events,Member Events
ATTACH;FMTTYPE=image/png:https://effinghamcountychamber.com/wp-content/uploads/2021/07/Ribbon-Cuttings.png
END:VEVENT
END:VCALENDAR