BEGIN:VCALENDAR
VERSION:2.0
PRODID:-//Effingham County Chamber - ECPv5.14.1//NONSGML v1.0//EN
CALSCALE:GREGORIAN
METHOD:PUBLISH
X-WR-CALNAME:Effingham County Chamber
X-ORIGINAL-URL:https://effinghamcountychamber.com
X-WR-CALDESC:Events for Effingham County Chamber
REFRESH-INTERVAL;VALUE=DURATION:PT1H
X-Robots-Tag:noindex
X-PUBLISHED-TTL:PT1H
BEGIN:VTIMEZONE
TZID:America/Chicago
BEGIN:DAYLIGHT
TZOFFSETFROM:-0600
TZOFFSETTO:-0500
TZNAME:CDT
DTSTART:20250309T080000
END:DAYLIGHT
BEGIN:STANDARD
TZOFFSETFROM:-0500
TZOFFSETTO:-0600
TZNAME:CST
DTSTART:20251102T070000
END:STANDARD
END:VTIMEZONE
BEGIN:VEVENT
DTSTART;TZID=America/Chicago:20251212T120000
DTEND;TZID=America/Chicago:20251212T170000
DTSTAMP:20260424T035532
CREATED:20251209T151813Z
LAST-MODIFIED:20251209T151947Z
UID:26111-1765540800-1765558800@effinghamcountychamber.com
SUMMARY:Office Closed
DESCRIPTION:The Chamber office will be closed while our staff spends time giving back to the community. If you’re out and about\, you might spot us ringing bells for the Salvation Army at Save-A-Lot between 12p and 1p.
URL:https://effinghamcountychamber.com/event/office-closed/
CATEGORIES:Chamber Events
ATTACH;FMTTYPE=image/png:https://effinghamcountychamber.com/wp-content/uploads/2022/07/Office-Closed-01.png
END:VEVENT
END:VCALENDAR