BEGIN:VCALENDAR
VERSION:2.0
PRODID:-//Effingham County Chamber - ECPv5.14.1//NONSGML v1.0//EN
CALSCALE:GREGORIAN
METHOD:PUBLISH
X-WR-CALNAME:Effingham County Chamber
X-ORIGINAL-URL:https://effinghamcountychamber.com
X-WR-CALDESC:Events for Effingham County Chamber
REFRESH-INTERVAL;VALUE=DURATION:PT1H
X-Robots-Tag:noindex
X-PUBLISHED-TTL:PT1H
BEGIN:VTIMEZONE
TZID:America/Chicago
BEGIN:DAYLIGHT
TZOFFSETFROM:-0600
TZOFFSETTO:-0500
TZNAME:CDT
DTSTART:20260308T080000
END:DAYLIGHT
BEGIN:STANDARD
TZOFFSETFROM:-0500
TZOFFSETTO:-0600
TZNAME:CST
DTSTART:20261101T070000
END:STANDARD
END:VTIMEZONE
BEGIN:VEVENT
DTSTART;TZID=America/Chicago:20261126T080000
DTEND;TZID=America/Chicago:20261126T170000
DTSTAMP:20260423T162534
CREATED:20260219T230026Z
LAST-MODIFIED:20260219T230026Z
UID:27080-1795680000-1795712400@effinghamcountychamber.com
SUMMARY:Office Closed
DESCRIPTION:The Effingham County Chamber office will be closed Thursday and Friday\, November 26–27\, in observance of Thanksgiving. \nWe are grateful for our members\, volunteers\, and community partners who make Effingham County strong year-round. \nWe hope you enjoy time with family and friends — and we look forward to seeing everyone downtown on Saturday for Hometown Christmas as we kick off the holiday season together! \nThe office will reopen on Monday during regular business hours.
URL:https://effinghamcountychamber.com/event/office-closed-7/
CATEGORIES:Chamber Events,Community Events,Member Events
ATTACH;FMTTYPE=image/png:https://effinghamcountychamber.com/wp-content/uploads/2022/07/Office-Closed-01.png
END:VEVENT
END:VCALENDAR