BEGIN:VCALENDAR
VERSION:2.0
PRODID:-//Effingham County Chamber - ECPv5.14.1//NONSGML v1.0//EN
CALSCALE:GREGORIAN
METHOD:PUBLISH
X-WR-CALNAME:Effingham County Chamber
X-ORIGINAL-URL:https://effinghamcountychamber.com
X-WR-CALDESC:Events for Effingham County Chamber
REFRESH-INTERVAL;VALUE=DURATION:PT1H
X-Robots-Tag:noindex
X-PUBLISHED-TTL:PT1H
BEGIN:VTIMEZONE
TZID:America/Chicago
BEGIN:DAYLIGHT
TZOFFSETFROM:-0600
TZOFFSETTO:-0500
TZNAME:CDT
DTSTART:20260308T080000
END:DAYLIGHT
BEGIN:STANDARD
TZOFFSETFROM:-0500
TZOFFSETTO:-0600
TZNAME:CST
DTSTART:20261101T070000
END:STANDARD
END:VTIMEZONE
BEGIN:VEVENT
DTSTART;TZID=America/Chicago:20260318T103000
DTEND;TZID=America/Chicago:20260318T120000
DTSTAMP:20260424T143839
CREATED:20260213T185902Z
LAST-MODIFIED:20260213T185902Z
UID:26871-1773829800-1773835200@effinghamcountychamber.com
SUMMARY:Non-Discretionary Bonus Payments and their Effect on Overtime Calculations for Non-Exempt Employees (Webinar)
DESCRIPTION:The Fair Labor Standards Act (“FLSA”) requires all employers to pay non-exempt employees at least the federal minimum wage for all hours worked. When a non-exempt employee works over 40 hours in a single workweek\, the FLSA requires employers to pay overtime at a rate of one and one-half times that employee’s regular rate of pay. \nWhat happens when non-exempt employees earn a bonus on top of their regular rate of pay during a workweek in which they work over 40 hours? The answer depends on the type of bonus paid. \nJoin Scott Cruz\, Labor and Employment Partner at UB Greensfelder for an informative webinar in which Scott will address the distinction between discretionary and non-discretionary bonuses\, and explain why that distinction matters for purposes of wage and hour law compliance\, and to avoid liability under the FLSA. \n\nWhen registering\, please indicate Effingham COUNTY CHAMBER in the “Learned About it From” drop down to receive member pricing.
URL:https://effinghamcountychamber.com/event/non-discretionary-bonus-payments-and-their-effect-on-overtime-calculations-for-non-exempt-employees-webinar/
LOCATION:Webinar
CATEGORIES:Chamber Events,Member Events
ATTACH;FMTTYPE=image/jpeg:https://effinghamcountychamber.com/wp-content/uploads/2026/02/Overtime.jpg
END:VEVENT
END:VCALENDAR