BEGIN:VCALENDAR
VERSION:2.0
PRODID:-//Effingham County Chamber - ECPv5.14.1//NONSGML v1.0//EN
CALSCALE:GREGORIAN
METHOD:PUBLISH
X-WR-CALNAME:Effingham County Chamber
X-ORIGINAL-URL:https://effinghamcountychamber.com
X-WR-CALDESC:Events for Effingham County Chamber
REFRESH-INTERVAL;VALUE=DURATION:PT1H
X-Robots-Tag:noindex
X-PUBLISHED-TTL:PT1H
BEGIN:VTIMEZONE
TZID:America/Chicago
BEGIN:DAYLIGHT
TZOFFSETFROM:-0600
TZOFFSETTO:-0500
TZNAME:CDT
DTSTART:20260308T080000
END:DAYLIGHT
BEGIN:STANDARD
TZOFFSETFROM:-0500
TZOFFSETTO:-0600
TZNAME:CST
DTSTART:20261101T070000
END:STANDARD
END:VTIMEZONE
BEGIN:VEVENT
DTSTART;TZID=America/Chicago:20260605T120000
DTEND;TZID=America/Chicago:20260605T130000
DTSTAMP:20260423T114214
CREATED:20260219T205021Z
LAST-MODIFIED:20260219T210817Z
UID:27041-1780660800-1780664400@effinghamcountychamber.com
SUMMARY:Networking @ Noon & Headshot Lunch Hour | Upper Deck Bar & Grill
DESCRIPTION:Hit pause on the emails and join us for Networking @ Noon….your excuse to step out of the office and into real conversation. \nThis relaxed lunchtime meetup keeps Chamber members connected\, engaged\, and in the same room (not just the same inbox). In May\, we’re heading to Upper Deck Bar & Grill for a midday reset filled with good food and even better company from across Effingham County. \nGrab lunch. Swap updates. Make a new connection. Strengthen an old one. Then head back to work with fresh momentum. \nAND we’re bringing back our popular Headshot Happy Hour\, but this time over lunch on outside deck at Upper Deck. Think Downtown Effingham in the background of your new professional photo. Sunshine\, skyline\, and a headshot that doesn’t look like it was cropped from a wedding. \nStep away from the desk. Step into the conversation. We’ll see you at noon. \nLocation:\nUpper Deck & Bar \nCost:\n$20 | member\n$30 | non-member \nQuestions can be directed to the Chamber at (217) 342-4147. \nCancellation Policy\n*Cancellations of registrations and refunds will be issued in full if received on or before noon a week (seven weekdays) prior to the event. After noon CST on said date\, no refunds will be issued. If the event is rescheduled\, all registrations will be honored for the rescheduled date or may be refunded in full of a refund request**. If the event is canceled\, all registration will be refunded in full. **Refund requests must be submitted in writing by email to Nicole Morrison. Please allow up to five (5) business days to process your refund request. \nPhoto & Video Disclaimer\nEffingham County Chamber (Chamber) reserves the right to use any photograph/video taken at any event sponsored by the Chamber\, without the expressed written permission of those included within the photograph/video. The Chamber may use the photograph/video in publications or other media material produced\, used\, or contracted by the Chamber\, including but not limited to brochures\, invitations\, books\, newspapers\, magazines\, television\, websites\, etc. If you do not wish to be photographed/video\, please inform the Chamber. \nAny person or organization not affiliated with Chamber may not use\, copy\, alter\, or modify Chamber photographs\, graphics\, videography\, or other similar reproductions and recordings without the advance written permission of an authorized designee from Chamber.
URL:https://effinghamcountychamber.com/event/networking-noon-6/
LOCATION:Upper Deck Bar & Grill\, 201 South 4th St.\, Suite A\, Effingham\, IL\, 62401
CATEGORIES:Chamber Events,Community Events
ATTACH;FMTTYPE=image/png:https://effinghamcountychamber.com/wp-content/uploads/2023/12/First-Friday-Networking-Luncheon-01.png
ORGANIZER;CN="Effingham%20County%20Chamber":MAILTO:info@effinghamcountychamber.com
END:VEVENT
END:VCALENDAR