BEGIN:VCALENDAR
VERSION:2.0
PRODID:-//Effingham County Chamber - ECPv5.14.1//NONSGML v1.0//EN
CALSCALE:GREGORIAN
METHOD:PUBLISH
X-WR-CALNAME:Effingham County Chamber
X-ORIGINAL-URL:https://effinghamcountychamber.com
X-WR-CALDESC:Events for Effingham County Chamber
REFRESH-INTERVAL;VALUE=DURATION:PT1H
X-Robots-Tag:noindex
X-PUBLISHED-TTL:PT1H
BEGIN:VTIMEZONE
TZID:America/Chicago
BEGIN:DAYLIGHT
TZOFFSETFROM:-0600
TZOFFSETTO:-0500
TZNAME:CDT
DTSTART:20260308T080000
END:DAYLIGHT
BEGIN:STANDARD
TZOFFSETFROM:-0500
TZOFFSETTO:-0600
TZNAME:CST
DTSTART:20261101T070000
END:STANDARD
END:VTIMEZONE
BEGIN:VEVENT
DTSTART;TZID=America/Chicago:20261204T120000
DTEND;TZID=America/Chicago:20261204T130000
DTSTAMP:20260423T162535
CREATED:20260219T215844Z
LAST-MODIFIED:20260219T215844Z
UID:27064-1796385600-1796389200@effinghamcountychamber.com
SUMMARY:Networking @ Noon Holiday Party | Gabby Goat
DESCRIPTION:Let’s close out the year with a little extra energy. \nJoin us at Gabby Goat for a holiday-style Networking @ Noon that mixes festive fun with meaningful connection. It’s the same relaxed format you love\, just with a seasonal twist. \nStep away from the office\, celebrate the season\, and spend your lunch hour connecting with fellow Chamber members before the year wraps up. \nHoliday vibes. Local connections. One more strong lunch together. \nLocation:\nGabby Goat American Pub & Grill \nCost:\n$20 | member\n$30 | non-member \nQuestions can be directed to the Chamber at (217) 342-4147. \nCancellation Policy\n*Cancellations of registrations and refunds will be issued in full if received on or before noon a week (seven weekdays) prior to the event. After noon CST on said date\, no refunds will be issued. If the event is rescheduled\, all registrations will be honored for the rescheduled date or may be refunded in full of a refund request**. If the event is canceled\, all registration will be refunded in full. **Refund requests must be submitted in writing by email to Nicole Morrison. Please allow up to five (5) business days to process your refund request. \nPhoto & Video Disclaimer\nEffingham County Chamber (Chamber) reserves the right to use any photograph/video taken at any event sponsored by the Chamber\, without the expressed written permission of those included within the photograph/video. The Chamber may use the photograph/video in publications or other media material produced\, used\, or contracted by the Chamber\, including but not limited to brochures\, invitations\, books\, newspapers\, magazines\, television\, websites\, etc. If you do not wish to be photographed/video\, please inform the Chamber. \nAny person or organization not affiliated with Chamber may not use\, copy\, alter\, or modify Chamber photographs\, graphics\, videography\, or other similar reproductions and recordings without the advance written permission of an authorized designee from Chamber.
URL:https://effinghamcountychamber.com/event/networking-noon-12/
LOCATION:Gabby Goat\, 303 E Fayette Ave.\, Effingham\, IL\, 62401\, United States
CATEGORIES:Chamber Events,Community Events
ATTACH;FMTTYPE=image/png:https://effinghamcountychamber.com/wp-content/uploads/2023/12/First-Friday-Networking-Luncheon-01.png
ORGANIZER;CN="Effingham%20County%20Chamber":MAILTO:info@effinghamcountychamber.com
END:VEVENT
END:VCALENDAR