BEGIN:VCALENDAR
VERSION:2.0
PRODID:-//Effingham County Chamber - ECPv5.14.1//NONSGML v1.0//EN
CALSCALE:GREGORIAN
METHOD:PUBLISH
X-WR-CALNAME:Effingham County Chamber
X-ORIGINAL-URL:https://effinghamcountychamber.com
X-WR-CALDESC:Events for Effingham County Chamber
REFRESH-INTERVAL;VALUE=DURATION:PT1H
X-Robots-Tag:noindex
X-PUBLISHED-TTL:PT1H
BEGIN:VTIMEZONE
TZID:America/Chicago
BEGIN:DAYLIGHT
TZOFFSETFROM:-0600
TZOFFSETTO:-0500
TZNAME:CDT
DTSTART:20260308T080000
END:DAYLIGHT
BEGIN:STANDARD
TZOFFSETFROM:-0500
TZOFFSETTO:-0600
TZNAME:CST
DTSTART:20261101T070000
END:STANDARD
END:VTIMEZONE
BEGIN:VEVENT
DTSTART;TZID=America/Chicago:20260409T103000
DTEND;TZID=America/Chicago:20260409T120000
DTSTAMP:20260421T030939
CREATED:20260220T151500Z
LAST-MODIFIED:20260220T151736Z
UID:27099-1775730600-1775736000@effinghamcountychamber.com
SUMMARY:Navigating Non-Competes: Enforceability and Recent Changes in Illinois (Webinar)
DESCRIPTION:The landscape of non-compete law in the U.S. is constantly changing\, with many states passing legislation to ban or severely limit the enforcement of non-competes for certain workers. This presentation will provide an introduction to non-compete and non-solicitation clauses\, as well as components of the Illinois Freedom to Work Act that relate to the enforcement of these agreements. \nLed by two experienced employment attorneys\, one of whom was the principal author of recent amendments to the Freedom to Work Act\, attendees will discover the factors to consider when drafting restrictive covenants\, learn best practices for employers wishing to enforce non-compete agreements\, and gain understanding of how these agreements may impact hiring of potential future employees. \n\nWhen registering\, please indicate Effingham COUNTY CHAMBER in the “Learned About it From” drop down to receive member pricing.
URL:https://effinghamcountychamber.com/event/navigating-non-competes-enforceability-and-recent-changes-in-illinois-webinar/
LOCATION:Webinar
CATEGORIES:Chamber Events,Member Events
ATTACH;FMTTYPE=image/jpeg:https://effinghamcountychamber.com/wp-content/uploads/2026/02/Non-Compete-Image.jpg
END:VEVENT
END:VCALENDAR