BEGIN:VCALENDAR
VERSION:2.0
PRODID:-//Effingham County Chamber - ECPv5.14.1//NONSGML v1.0//EN
CALSCALE:GREGORIAN
METHOD:PUBLISH
X-WR-CALNAME:Effingham County Chamber
X-ORIGINAL-URL:https://effinghamcountychamber.com
X-WR-CALDESC:Events for Effingham County Chamber
REFRESH-INTERVAL;VALUE=DURATION:PT1H
X-Robots-Tag:noindex
X-PUBLISHED-TTL:PT1H
BEGIN:VTIMEZONE
TZID:America/Chicago
BEGIN:DAYLIGHT
TZOFFSETFROM:-0600
TZOFFSETTO:-0500
TZNAME:CDT
DTSTART:20250309T080000
END:DAYLIGHT
BEGIN:STANDARD
TZOFFSETFROM:-0500
TZOFFSETTO:-0600
TZNAME:CST
DTSTART:20251102T070000
END:STANDARD
END:VTIMEZONE
BEGIN:VEVENT
DTSTART;TZID=America/Chicago:20251129T080000
DTEND;TZID=America/Chicago:20251129T160000
DTSTAMP:20260423T065944
CREATED:20251124T191301Z
LAST-MODIFIED:20251124T191302Z
UID:25992-1764403200-1764432000@effinghamcountychamber.com
SUMMARY:Herman German Market
DESCRIPTION:German Christmas Market with multiple local vendors offering Christmas items. \nVendors include: \n\nThe Place with hair tinsel and spiked boys hair\, and face painting.\nNyssa Strom – Nyssa’s Knacks with Handmade Christmas Crafts\nDebbie’s Creations with Embellished hats\nPainted wine bottles\, bracelets\, kitchen towels\, glass trees and more\nDeloris Minardi with 18 inch doll clothes and hand dipped candies\nMimi’s Cookie Co with decorated Sugar Cookies\nPrairie Feather Designs with Natural Tallow products\nCindy’s Creations – Baby bibs\, Burp cloths\, Pacifier holder\, Hanging towels\, Memory Bears\, Slap bracelets\, Crocheted Stuffed animals\, Crochet head wrap\, Crochet mug cozy\nTurtle Rock Farm with Sourdough bread and other delights\nMicky Strack of Past and Present Shoppe Picture It with a variety of Crocheted Scarves\, Jewelry\, Christmas items such as wreaths\nDiane Donaldson with Denim Blankets\, Aprons and more\n\nFollow our event on Facebook!
URL:https://effinghamcountychamber.com/event/herman-german-market/
LOCATION:Shelter Insurance\, 812 E Fayette Ave.\, Effingham\, IL\, 62401
CATEGORIES:Community Events,Member Events
ATTACH;FMTTYPE=image/jpeg:https://effinghamcountychamber.com/wp-content/uploads/2025/11/Herman-German-Market-2.jpg
END:VEVENT
END:VCALENDAR