BEGIN:VCALENDAR
VERSION:2.0
PRODID:-//Effingham County Chamber - ECPv5.14.1//NONSGML v1.0//EN
CALSCALE:GREGORIAN
METHOD:PUBLISH
X-WR-CALNAME:Effingham County Chamber
X-ORIGINAL-URL:https://effinghamcountychamber.com
X-WR-CALDESC:Events for Effingham County Chamber
REFRESH-INTERVAL;VALUE=DURATION:PT1H
X-Robots-Tag:noindex
X-PUBLISHED-TTL:PT1H
BEGIN:VTIMEZONE
TZID:America/Chicago
BEGIN:DAYLIGHT
TZOFFSETFROM:-0600
TZOFFSETTO:-0500
TZNAME:CDT
DTSTART:20250309T080000
END:DAYLIGHT
BEGIN:STANDARD
TZOFFSETFROM:-0500
TZOFFSETTO:-0600
TZNAME:CST
DTSTART:20251102T070000
END:STANDARD
END:VTIMEZONE
BEGIN:VEVENT
DTSTART;TZID=America/Chicago:20250512T080000
DTEND;TZID=America/Chicago:20250512T180000
DTSTAMP:20260423T160425
CREATED:20250423T213156Z
LAST-MODIFIED:20250505T221517Z
UID:23059-1747036800-1747072800@effinghamcountychamber.com
SUMMARY:Grand Opening @ Andes Health Mart Pharmacy
DESCRIPTION:
URL:https://effinghamcountychamber.com/event/grand-opening-andes-health-mart-pharmacy/
LOCATION:Andes Health Mart Pharmacy\, 805 W Fayette Ave.\, Effingham\, IL\, 62401
CATEGORIES:Community Events,Member Events
ATTACH;FMTTYPE=image/png:https://effinghamcountychamber.com/wp-content/uploads/2025/04/Andes-Health-Mart.png
END:VEVENT
END:VCALENDAR