BEGIN:VCALENDAR
VERSION:2.0
PRODID:-//Effingham County Chamber - ECPv5.14.1//NONSGML v1.0//EN
CALSCALE:GREGORIAN
METHOD:PUBLISH
X-WR-CALNAME:Effingham County Chamber
X-ORIGINAL-URL:https://effinghamcountychamber.com
X-WR-CALDESC:Events for Effingham County Chamber
REFRESH-INTERVAL;VALUE=DURATION:PT1H
X-Robots-Tag:noindex
X-PUBLISHED-TTL:PT1H
BEGIN:VTIMEZONE
TZID:America/Chicago
BEGIN:DAYLIGHT
TZOFFSETFROM:-0600
TZOFFSETTO:-0500
TZNAME:CDT
DTSTART:20260308T080000
END:DAYLIGHT
BEGIN:STANDARD
TZOFFSETFROM:-0500
TZOFFSETTO:-0600
TZNAME:CST
DTSTART:20261101T070000
END:STANDARD
END:VTIMEZONE
BEGIN:VEVENT
DTSTART;TZID=America/Chicago:20260717T170000
DTEND;TZID=America/Chicago:20260717T230000
DTSTAMP:20260423T132923
CREATED:20260220T201730Z
LAST-MODIFIED:20260220T205322Z
UID:27119-1784307600-1784329200@effinghamcountychamber.com
SUMMARY:EffingHAM-JAM
DESCRIPTION:Join us Friday\, July 17 for EffingHAM-JAM\, presented by Koerner Distributor\, Inc. This isn’t just a BBQ festival…it’s a full-on summer celebration of smoke\, sauce\, music\, and community. \nThe Hometown Throwdown amateur BBQ competition kicks off an evening of mouthwatering eats\, live music\, family fun\, and backyard bragging rights. Rally your crew of grill masters and compete for category trophies\, Top Hog honors\, and the Grand Champion title — plus a cash prize for the overall winner. \nLive music\, a kids’ foam party\, cold drinks\, and plenty of incredible BBQ make this one of the summer’s can’t-miss events. \nAnd here’s something we’re proud of…Last year\, EffingHAM-JAM raised $15\,000 for the Chamber Scholarship Program. \nALL net proceeds from the event go directly back into our community through scholarships supporting local students and adult learners pursuing their education. \nCome hungry. Bring your friends. Support local. \nSchedule of Events\nRaffle (online & in-person at the Info Booth until 8pm (or all tickets sell out)\n$10\nprize TBD \nOnly 250 tickets will be sold\, and the winners will be drawn on Friday\, July 17 during HAM-JAM. \nHAM CITY JAM Demo (Washington Ave btwn 3rd & 4th St.)5-8p \nKids Area (Washington Ave btwn 4th & 5th St.)\nBubbles & Foam Party (Wild Foam Adventures) | Chalk | Touch-A-Truck | Tractor Train Rides\n5-8p \nFood Trucks | Vendors | Beer Tent (4th St & Jefferson Ave)5-10:30p \nHometown Throwdown Amateur BBQ Challenge (Jefferson Ave between 3rd & 4th St.)5p – until all tastings are sold out*\n*While tasting samples last – no refunds \nLIVE Bands (4th St City Parking Lot)5-6:30p | TBD\n7-10p | TBD \nStay updated with event details & applications at EffingHAMJAM.com. \n  \nEvent & Contact Information:\nNicole Morrison\nnmorrison@effinghamcountychamber.com\n(217) 347-6282
URL:https://effinghamcountychamber.com/event/effingham-jam-2026/
LOCATION:Downtown Effingham\, Jefferson Ave\, Effingham\, IL\, 62401\, United States
CATEGORIES:Chamber Events,Community Events
ATTACH;FMTTYPE=image/png:https://effinghamcountychamber.com/wp-content/uploads/2021/11/Ham-Jam-Logo-GENERIC.png
END:VEVENT
END:VCALENDAR