BEGIN:VCALENDAR
VERSION:2.0
PRODID:-//Effingham County Chamber - ECPv5.14.1//NONSGML v1.0//EN
CALSCALE:GREGORIAN
METHOD:PUBLISH
X-WR-CALNAME:Effingham County Chamber
X-ORIGINAL-URL:https://effinghamcountychamber.com
X-WR-CALDESC:Events for Effingham County Chamber
REFRESH-INTERVAL;VALUE=DURATION:PT1H
X-Robots-Tag:noindex
X-PUBLISHED-TTL:PT1H
BEGIN:VTIMEZONE
TZID:America/Chicago
BEGIN:DAYLIGHT
TZOFFSETFROM:-0600
TZOFFSETTO:-0500
TZNAME:CDT
DTSTART:20260308T080000
END:DAYLIGHT
BEGIN:STANDARD
TZOFFSETFROM:-0500
TZOFFSETTO:-0600
TZNAME:CST
DTSTART:20261101T070000
END:STANDARD
END:VTIMEZONE
BEGIN:VEVENT
DTSTART;TZID=America/Chicago:20260530T080000
DTEND;TZID=America/Chicago:20260530T120000
DTSTAMP:20260423T132743
CREATED:20260415T134106Z
LAST-MODIFIED:20260415T184549Z
UID:27880-1780128000-1780142400@effinghamcountychamber.com
SUMMARY:Effingham Farmer's Market
DESCRIPTION:The Effingham Farmer’s Market in downtown Effingham provides produce\, baked goods\, plants\, flowers\, and handcrafted arts & crafts.  \nWe will be open every Saturday 8am-12pm from May 30 to October 31\, 2026 on the Old Courthouse lawn. \nQuestions can be directed to Josie Shamhart at efm.art.rep@gmail.com. \nFollow the EFM Facebook page for updates. \n    \n 
URL:https://effinghamcountychamber.com/event/effingham-farmers-market-2/
LOCATION:Downtown Effingham\, Jefferson Ave\, Effingham\, IL\, 62401\, United States
CATEGORIES:Community Events
ATTACH;FMTTYPE=image/jpeg:https://effinghamcountychamber.com/wp-content/uploads/2023/04/Farmers-Market-v2.jpg
END:VEVENT
END:VCALENDAR