BEGIN:VCALENDAR
VERSION:2.0
PRODID:-//Effingham County Chamber - ECPv5.14.1//NONSGML v1.0//EN
CALSCALE:GREGORIAN
METHOD:PUBLISH
X-WR-CALNAME:Effingham County Chamber
X-ORIGINAL-URL:https://effinghamcountychamber.com
X-WR-CALDESC:Events for Effingham County Chamber
REFRESH-INTERVAL;VALUE=DURATION:PT1H
X-Robots-Tag:noindex
X-PUBLISHED-TTL:PT1H
BEGIN:VTIMEZONE
TZID:America/Chicago
BEGIN:DAYLIGHT
TZOFFSETFROM:-0600
TZOFFSETTO:-0500
TZNAME:CDT
DTSTART:20250309T080000
END:DAYLIGHT
BEGIN:STANDARD
TZOFFSETFROM:-0500
TZOFFSETTO:-0600
TZNAME:CST
DTSTART:20251102T070000
END:STANDARD
END:VTIMEZONE
BEGIN:VEVENT
DTSTART;TZID=America/Chicago:20251220T080000
DTEND;TZID=America/Chicago:20251220T100000
DTSTAMP:20260424T172530
CREATED:20251215T155112Z
LAST-MODIFIED:20251215T162031Z
UID:26173-1766217600-1766224800@effinghamcountychamber.com
SUMMARY:Donuts with Santa @ Kirby Foods
DESCRIPTION:Santa is making a sweet stop\, and you’re invited! 🎅🍩 \nJoin us for Donuts with Santa on Saturday\, December 20\, from 8–10a at Kirby Foods – Effingham\, in the Train Room. \nKids can decorate their own glazed donut\, say hello to Santa\, and enjoy a little holiday magic before the big day. \n 
URL:https://effinghamcountychamber.com/event/donuts-with-santa-kirby-foods/
LOCATION:Kirby Foods-Effingham\, 101 S Merchant St.\, Effingham\, IL\, 62401
CATEGORIES:Community Events,Member Events
ATTACH;FMTTYPE=image/jpeg:https://effinghamcountychamber.com/wp-content/uploads/2025/03/logo_kirbyfoodsil-1.jpg
END:VEVENT
END:VCALENDAR