BEGIN:VCALENDAR
VERSION:2.0
PRODID:-//Effingham County Chamber - ECPv5.14.1//NONSGML v1.0//EN
CALSCALE:GREGORIAN
METHOD:PUBLISH
X-WR-CALNAME:Effingham County Chamber
X-ORIGINAL-URL:https://effinghamcountychamber.com
X-WR-CALDESC:Events for Effingham County Chamber
REFRESH-INTERVAL;VALUE=DURATION:PT1H
X-Robots-Tag:noindex
X-PUBLISHED-TTL:PT1H
BEGIN:VTIMEZONE
TZID:America/Chicago
BEGIN:DAYLIGHT
TZOFFSETFROM:-0600
TZOFFSETTO:-0500
TZNAME:CDT
DTSTART:20260308T080000
END:DAYLIGHT
BEGIN:STANDARD
TZOFFSETFROM:-0500
TZOFFSETTO:-0600
TZNAME:CST
DTSTART:20261101T070000
END:STANDARD
END:VTIMEZONE
BEGIN:VEVENT
DTSTART;TZID=America/Chicago:20260523T080000
DTEND;TZID=America/Chicago:20260523T170000
DTSTAMP:20260423T132414
CREATED:20260415T182716Z
LAST-MODIFIED:20260415T182738Z
UID:27885-1779523200-1779555600@effinghamcountychamber.com
SUMMARY:DCS 6th Annual 3 on 3 Basketball Tournament
DESCRIPTION:Join the excitement at the DCS 6th Annual 3-on-3 Basketball Tournament on Saturday\, May 23rd at the Ron Diehl Rec Center in Effingham\, IL! \nThis co-ed tournament is open to players in three age groups:\nGroup 1: 5th–6th Grade\nGroup 2: 7th–8th Grade\nGroup 3: Ages 16 & Up \nGames for Groups 1 & 2 begin at 8:00 AM\, while Group 3 games kick off at 1:00 PM. \nEntry Fee: $50 per team \nPrizes:\nGroups 1 & 2: T-Shirts\nGroup 3: T-Shirts and a $650 cash prize \nRegister your team by emailing dcs3tournament@gmail.com. Don’t miss your shot to compete and have fun! \nEvent questions should be directed to:\nNathan Coomer @ dcs3tournament@gmail.com \nFollow the event on Facebook!
URL:https://effinghamcountychamber.com/event/dcs-6th-annual-3-on-3-basketball-tournament/
LOCATION:Effingham Ron Diehl Rec Center\, 1906 S. 4th Street\, Effingham\, IL
CATEGORIES:Community Events,Member Events
ATTACH;FMTTYPE=image/jpeg:https://effinghamcountychamber.com/wp-content/uploads/2025/05/DCS-3-on-3-Icon.jpg
END:VEVENT
END:VCALENDAR