BEGIN:VCALENDAR
VERSION:2.0
PRODID:-//Effingham County Chamber - ECPv5.14.1//NONSGML v1.0//EN
CALSCALE:GREGORIAN
METHOD:PUBLISH
X-WR-CALNAME:Effingham County Chamber
X-ORIGINAL-URL:https://effinghamcountychamber.com
X-WR-CALDESC:Events for Effingham County Chamber
REFRESH-INTERVAL;VALUE=DURATION:PT1H
X-Robots-Tag:noindex
X-PUBLISHED-TTL:PT1H
BEGIN:VTIMEZONE
TZID:America/Chicago
BEGIN:DAYLIGHT
TZOFFSETFROM:-0600
TZOFFSETTO:-0500
TZNAME:CDT
DTSTART:20250309T080000
END:DAYLIGHT
BEGIN:STANDARD
TZOFFSETFROM:-0500
TZOFFSETTO:-0600
TZNAME:CST
DTSTART:20251102T070000
END:STANDARD
END:VTIMEZONE
BEGIN:VEVENT
DTSTART;TZID=America/Chicago:20250521T110000
DTEND;TZID=America/Chicago:20250521T150000
DTSTAMP:20260423T090311
CREATED:20250429T212402Z
LAST-MODIFIED:20250429T212402Z
UID:23178-1747825200-1747839600@effinghamcountychamber.com
SUMMARY:Community Blood Drive @ Dieterich Bank Corporate Center
DESCRIPTION:  \n  \n 
URL:https://effinghamcountychamber.com/event/community-blood-drive-dieterich-bank-corporate-center/
LOCATION:Dieterich Bank Corporate Center\, 300 Sur Woods Dr.\, Effingham\, IL\, 62401
CATEGORIES:Community Events,Member Events
ATTACH;FMTTYPE=image/jpeg:https://effinghamcountychamber.com/wp-content/uploads/2022/06/blood-drive-2-scaled.jpeg
END:VEVENT
END:VCALENDAR