BEGIN:VCALENDAR
VERSION:2.0
PRODID:-//Effingham County Chamber - ECPv5.14.1//NONSGML v1.0//EN
CALSCALE:GREGORIAN
METHOD:PUBLISH
X-WR-CALNAME:Effingham County Chamber
X-ORIGINAL-URL:https://effinghamcountychamber.com
X-WR-CALDESC:Events for Effingham County Chamber
REFRESH-INTERVAL;VALUE=DURATION:PT1H
X-Robots-Tag:noindex
X-PUBLISHED-TTL:PT1H
BEGIN:VTIMEZONE
TZID:America/Chicago
BEGIN:DAYLIGHT
TZOFFSETFROM:-0600
TZOFFSETTO:-0500
TZNAME:CDT
DTSTART:20260308T080000
END:DAYLIGHT
BEGIN:STANDARD
TZOFFSETFROM:-0500
TZOFFSETTO:-0600
TZNAME:CST
DTSTART:20261101T070000
END:STANDARD
END:VTIMEZONE
BEGIN:VEVENT
DTSTART;TZID=America/Chicago:20260416T090000
DTEND;TZID=America/Chicago:20260416T150000
DTSTAMP:20260423T084322
CREATED:20260218T221703Z
LAST-MODIFIED:20260402T191215Z
UID:27005-1776330000-1776351600@effinghamcountychamber.com
SUMMARY:Chamber Spring Radio Day with WCRC
DESCRIPTION:2026 Spring Lineup:\n9-9:30a | HSHS St. Anthony’s Memorial Hospital – Anthony Powers\, Chief Administrative Officer & Angela Kelly\, Director of Nursing & Integrated Services\n9:30-10a | Lustig Custom Cabinets – Alex Lustig\, Co-Owner\n10-10:30a | Niemerg’s Steakhouse – Jason Sandschafer\, Owner\n10:30-11a | Ginger Ale’s Effingham – Casey Walk\, Owner\n11-11:30a | Effingham Pelvic Health & Wellness – Dr. April Ritz\, PT\, DPT\, Owner\n11:30a-12p | United Way of Effingham County – Emily Hille\, Chief Professional Officer\n1-1:30p | Federated Auto Parts/Fisher Auto Parts – Billy Wilke\, Store Manager\n1:30-2p | Northside Ford-Lincoln – Josh Stone\, Assistant General Manger\n2-2:30p | Dent Coulson Elder Law – Kaye Dent\, Managing Partner\n2:30-3p | Gabby Goat – Jason Gines\, Owner \nAd Package – $100 (SOLD OUT) \n\n(5) 30-second ads to air during the day of the event\n\nAnnouncing Package – $200 one event | $350 both events (SPRING & FALL SOLD OUT) \n\n30-minutes announcing slot\n\nElite Media Package – $250 one event | $450 both events (SPRING & FALL SOLD OUT) \n\n30-minutes announcing slot\n(3) 30-second ads to air during the day of the event\nWeb Promo Package: Featured Event web slider on the radio station website & Chamber event page to include logo & link to the company website\nEvent promotional spots the week of the event\, including the business names rotating as “brought to you by…”\n\nDeadline to sign up is April 2 (pending availability). Space is limited!  \nClick here for printable price guide. \nQuestions can be directed to Nicole at the Chamber office at (217) 347-6282.
URL:https://effinghamcountychamber.com/event/chamber-spring-radio-day-with-wcrc-2/
LOCATION:Cromwell Media\, 405 S Banker\, Ste. 201\, Effingham\, IL\, 62401\, United States
CATEGORIES:Chamber Events,Community Events,Member Events
ATTACH;FMTTYPE=image/png:https://effinghamcountychamber.com/wp-content/uploads/2023/01/Radio-Days-Logo-01.png
ORGANIZER;CN="Effingham%20County%20Chamber":MAILTO:info@effinghamcountychamber.com
END:VEVENT
END:VCALENDAR