BEGIN:VCALENDAR
VERSION:2.0
PRODID:-//Effingham County Chamber - ECPv5.14.1//NONSGML v1.0//EN
CALSCALE:GREGORIAN
METHOD:PUBLISH
X-WR-CALNAME:Effingham County Chamber
X-ORIGINAL-URL:https://effinghamcountychamber.com
X-WR-CALDESC:Events for Effingham County Chamber
REFRESH-INTERVAL;VALUE=DURATION:PT1H
X-Robots-Tag:noindex
X-PUBLISHED-TTL:PT1H
BEGIN:VTIMEZONE
TZID:America/Chicago
BEGIN:DAYLIGHT
TZOFFSETFROM:-0600
TZOFFSETTO:-0500
TZNAME:CDT
DTSTART:20250309T080000
END:DAYLIGHT
BEGIN:STANDARD
TZOFFSETFROM:-0500
TZOFFSETTO:-0600
TZNAME:CST
DTSTART:20251102T070000
END:STANDARD
END:VTIMEZONE
BEGIN:VEVENT
DTSTART;TZID=America/Chicago:20251013T080000
DTEND;TZID=America/Chicago:20251013T170000
DTSTAMP:20260423T100433
CREATED:20250416T181835Z
LAST-MODIFIED:20250416T181835Z
UID:22967-1760342400-1760374800@effinghamcountychamber.com
SUMMARY:Chamber Office Closed
DESCRIPTION:Our office will be closed on Monday\, October 13 in observance of Columbus Day. We’ll be back in the office on Tuesday\, October 14.
URL:https://effinghamcountychamber.com/event/chamber-office-closed-14/
CATEGORIES:Chamber Events
ATTACH;FMTTYPE=image/png:https://effinghamcountychamber.com/wp-content/uploads/2022/07/Office-Closed-01.png
END:VEVENT
END:VCALENDAR