BEGIN:VCALENDAR
VERSION:2.0
PRODID:-//Effingham County Chamber - ECPv5.14.1//NONSGML v1.0//EN
CALSCALE:GREGORIAN
METHOD:PUBLISH
X-WR-CALNAME:Effingham County Chamber
X-ORIGINAL-URL:https://effinghamcountychamber.com
X-WR-CALDESC:Events for Effingham County Chamber
REFRESH-INTERVAL;VALUE=DURATION:PT1H
X-Robots-Tag:noindex
X-PUBLISHED-TTL:PT1H
BEGIN:VTIMEZONE
TZID:America/Chicago
BEGIN:DAYLIGHT
TZOFFSETFROM:-0600
TZOFFSETTO:-0500
TZNAME:CDT
DTSTART:20250309T080000
END:DAYLIGHT
BEGIN:STANDARD
TZOFFSETFROM:-0500
TZOFFSETTO:-0600
TZNAME:CST
DTSTART:20251102T070000
END:STANDARD
END:VTIMEZONE
BEGIN:VEVENT
DTSTART;TZID=America/Chicago:20250424T163000
DTEND;TZID=America/Chicago:20250424T190000
DTSTAMP:20260422T022549
CREATED:20250310T171652Z
LAST-MODIFIED:20250422T153530Z
UID:21350-1745512200-1745521200@effinghamcountychamber.com
SUMMARY:Business After Hours @ Villas of Holly Brook
DESCRIPTION:Join the Effingham County Chamber for a Business After Hours event at Villas of Holly Brook Effingham on Thursday\, April 24\, from 4:30-7p. \nVillas of Holly Brook offers premier assisted living and memory care services\, providing a comfortable\, engaging\, and supportive environment for residents. Attendees will have the opportunity to tour the community\, connect with staff\, and learn more about their personalized approach to senior living. \nEnjoy refreshments\, networking\, and a welcoming atmosphere while supporting a valued Chamber member. This is a great opportunity to engage with local professionals and discover what makes Villas of Holly Brook a special place for senior care in Effingham. \nWe look forward to seeing you there! \n 
URL:https://effinghamcountychamber.com/event/business-after-hours-villas-of-holly-brook/
LOCATION:Villas of Holly Brook Effingham\, 904 W Evergreen Ave.\, Effingham\, IL\, 62401
CATEGORIES:Chamber Events,Community Events,Member Events
ATTACH;FMTTYPE=image/png:https://effinghamcountychamber.com/wp-content/uploads/2021/07/Business_After_Hours.png
ORGANIZER;CN="Effingham%20County%20Chamber":MAILTO:info@effinghamcountychamber.com
END:VEVENT
END:VCALENDAR