BEGIN:VCALENDAR
VERSION:2.0
PRODID:-//Effingham County Chamber - ECPv5.14.1//NONSGML v1.0//EN
CALSCALE:GREGORIAN
METHOD:PUBLISH
X-WR-CALNAME:Effingham County Chamber
X-ORIGINAL-URL:https://effinghamcountychamber.com
X-WR-CALDESC:Events for Effingham County Chamber
REFRESH-INTERVAL;VALUE=DURATION:PT1H
X-Robots-Tag:noindex
X-PUBLISHED-TTL:PT1H
BEGIN:VTIMEZONE
TZID:America/Chicago
BEGIN:DAYLIGHT
TZOFFSETFROM:-0600
TZOFFSETTO:-0500
TZNAME:CDT
DTSTART:20260308T080000
END:DAYLIGHT
BEGIN:STANDARD
TZOFFSETFROM:-0500
TZOFFSETTO:-0600
TZNAME:CST
DTSTART:20261101T070000
END:STANDARD
END:VTIMEZONE
BEGIN:VEVENT
DTSTART;TZID=America/Chicago:20260909T070000
DTEND;TZID=America/Chicago:20260909T090000
DTSTAMP:20260423T173941
CREATED:20260218T220648Z
LAST-MODIFIED:20260219T224903Z
UID:26991-1788937200-1788944400@effinghamcountychamber.com
SUMMARY:Better Your Business Roundtable: Marketing That Works
DESCRIPTION:Marketing can feel overwhelming. New platforms\, changing algorithms\, limited budgets — and still the pressure to produce results. \nThis roundtable is designed for business owners and marketing professionals who want to cut through the noise and focus on what actually drives engagement\, leads\, and revenue. \nParticipants will explore practical strategies\, messaging clarity\, brand consistency\, and how to align marketing efforts with real business goals. The conversation will also cover common mistakes\, measuring effectiveness\, and how to make smarter decisions with your time and budget. \nDesigned as an interactive\, peer-driven discussion\, this session encourages honest insight\, idea-sharing\, and collaboration among local businesses navigating similar challenges. \nWhether you’re refining your strategy or rethinking your approach altogether\, this roundtable will provide practical takeaways and fresh perspective to help your marketing efforts work harder for your business. \nModerator:\nBailey Whitney | Whitney Roofing \nTime:\n7a | breakfast & networking\n7:30-9a | roundtable \nCost:\n$10 | member\n$20 | non-member \n  \nCancellation Policy\n*Cancellations of registrations and refunds will be issued in full if received on or before noon a week (seven weekdays) prior to the event. After noon CST on said date\, no refunds will be issued. If the event is rescheduled\, all registrations will be honored for the rescheduled date or may be refunded in full of a refund request**. If the event is canceled\, all registration will be refunded in full. **Refund requests must be submitted in writing by email to Nicole Morrison. Please allow up to five (5) business days to process your refund request. \nPhoto & Video Disclaimer\nEffingham County Chamber (Chamber) reserves the right to use any photograph/video taken at any event sponsored by the Chamber\, without the expressed written permission of those included within the photograph/video. The Chamber may use the photograph/video in publications or other media material produced\, used\, or contracted by the Chamber\, including but not limited to brochures\, invitations\, books\, newspapers\, magazines\, television\, websites\, etc. If you do not wish to be photographed/video\, please inform the Chamber. \nAny person or organization not affiliated with Chamber may not use\, copy\, alter\, or modify Chamber photographs\, graphics\, videography\, or other similar reproductions and recordings without the advance written permission of an authorized designee from Chamber.
URL:https://effinghamcountychamber.com/event/better-your-business-roundtable-5/
LOCATION:Iron Horse Restaurant\, 101 S Merchant St\, Effingham\, IL\, 62401
CATEGORIES:Chamber Events,Community Events,Member Events
ATTACH;FMTTYPE=image/png:https://effinghamcountychamber.com/wp-content/uploads/2026/02/Better-Your-Business.png
END:VEVENT
END:VCALENDAR