BEGIN:VCALENDAR
VERSION:2.0
PRODID:-//Effingham County Chamber - ECPv5.14.1//NONSGML v1.0//EN
CALSCALE:GREGORIAN
METHOD:PUBLISH
X-WR-CALNAME:Effingham County Chamber
X-ORIGINAL-URL:https://effinghamcountychamber.com
X-WR-CALDESC:Events for Effingham County Chamber
REFRESH-INTERVAL;VALUE=DURATION:PT1H
X-Robots-Tag:noindex
X-PUBLISHED-TTL:PT1H
BEGIN:VTIMEZONE
TZID:America/Chicago
BEGIN:DAYLIGHT
TZOFFSETFROM:-0600
TZOFFSETTO:-0500
TZNAME:CDT
DTSTART:20260308T080000
END:DAYLIGHT
BEGIN:STANDARD
TZOFFSETFROM:-0500
TZOFFSETTO:-0600
TZNAME:CST
DTSTART:20261101T070000
END:STANDARD
END:VTIMEZONE
BEGIN:VEVENT
DTSTART;TZID=America/Chicago:20261111T070000
DTEND;TZID=America/Chicago:20261111T090000
DTSTAMP:20260423T175342
CREATED:20260218T214932Z
LAST-MODIFIED:20260219T225328Z
UID:26992-1794380400-1794387600@effinghamcountychamber.com
SUMMARY:Better Your Business Roundtable: People\, Policies & Protection
DESCRIPTION:Strong businesses aren’t built on products alone — they’re built on people\, clear expectations\, and smart safeguards. \nThis roundtable is designed for business owners\, managers\, and HR professionals who want to strengthen their workplace foundation. We’ll explore topics such as employee policies\, compliance considerations\, risk management\, workplace culture\, and protecting both your team and your organization. \nParticipants will engage in practical discussion around common challenges\, policy best practices\, and proactive steps that reduce risk while supporting a healthy\, productive work environment. \nAs with all Better Your Business sessions\, this will be a guided\, peer-driven conversation focused on real experiences and actionable insight. \nWhether you’re updating your handbook\, navigating workforce challenges\, or simply looking to tighten up your operational structure\, this roundtable offers clarity\, perspective\, and meaningful takeaways to help protect what you’re building. \nModerator:\nShonna Kracinski | Midland States Bank \nTime:\n7a | breakfast & networking\n7:30-9a | roundtable \nCost:\n$10 | member\n$20 | non-member \n  \nCancellation Policy\n*Cancellations of registrations and refunds will be issued in full if received on or before noon a week (seven weekdays) prior to the event. After noon CST on said date\, no refunds will be issued. If the event is rescheduled\, all registrations will be honored for the rescheduled date or may be refunded in full of a refund request**. If the event is canceled\, all registration will be refunded in full. **Refund requests must be submitted in writing by email to Nicole Morrison. Please allow up to five (5) business days to process your refund request. \nPhoto & Video Disclaimer\nEffingham County Chamber (Chamber) reserves the right to use any photograph/video taken at any event sponsored by the Chamber\, without the expressed written permission of those included within the photograph/video. The Chamber may use the photograph/video in publications or other media material produced\, used\, or contracted by the Chamber\, including but not limited to brochures\, invitations\, books\, newspapers\, magazines\, television\, websites\, etc. If you do not wish to be photographed/video\, please inform the Chamber. \nAny person or organization not affiliated with Chamber may not use\, copy\, alter\, or modify Chamber photographs\, graphics\, videography\, or other similar reproductions and recordings without the advance written permission of an authorized designee from Chamber.
URL:https://effinghamcountychamber.com/event/better-your-business-roundtable-4/
LOCATION:Maroon Spoon\, 115 S Main St.\, Dieterich\, IL\, 62424
CATEGORIES:Chamber Events,Community Events,Member Events
ATTACH;FMTTYPE=image/png:https://effinghamcountychamber.com/wp-content/uploads/2026/02/Better-Your-Business.png
END:VEVENT
END:VCALENDAR