BEGIN:VCALENDAR
VERSION:2.0
PRODID:-//Effingham County Chamber - ECPv5.14.1//NONSGML v1.0//EN
CALSCALE:GREGORIAN
METHOD:PUBLISH
X-WR-CALNAME:Effingham County Chamber
X-ORIGINAL-URL:https://effinghamcountychamber.com
X-WR-CALDESC:Events for Effingham County Chamber
REFRESH-INTERVAL;VALUE=DURATION:PT1H
X-Robots-Tag:noindex
X-PUBLISHED-TTL:PT1H
BEGIN:VTIMEZONE
TZID:America/Chicago
BEGIN:DAYLIGHT
TZOFFSETFROM:-0600
TZOFFSETTO:-0500
TZNAME:CDT
DTSTART:20260308T080000
END:DAYLIGHT
BEGIN:STANDARD
TZOFFSETFROM:-0500
TZOFFSETTO:-0600
TZNAME:CST
DTSTART:20261101T070000
END:STANDARD
END:VTIMEZONE
BEGIN:VEVENT
DTSTART;TZID=America/Chicago:20260617T070000
DTEND;TZID=America/Chicago:20260617T090000
DTSTAMP:20260424T154734
CREATED:20260218T213325Z
LAST-MODIFIED:20260423T210827Z
UID:26982-1781679600-1781686800@effinghamcountychamber.com
SUMMARY:Better Your Business Roundtable: From P&L to Profit
DESCRIPTION:Understanding your Profit & Loss statement is important. Knowing how to use it to improve your bottom line is even more powerful. \nThis Better Your Business Roundtable will focus on turning financial data into strategic decisions. Participants will explore how to interpret key numbers\, identify trends\, manage expenses effectively\, and uncover opportunities to increase profitability. \nDesigned for business owners and decision-makers who want greater confidence in their financial picture\, this session will encourage open discussion around real-world challenges and practical solutions. \nThrough guided conversation and peer insight\, attendees will walk away with a clearer understanding of how to move from simply reviewing numbers to actively driving profit. \nWhether you’re looking to tighten operations\, improve margins\, or gain better financial visibility\, this roundtable will provide actionable takeaways to help strengthen your business foundation. \nModerator:\nLisa Franklin | Land of Lincoln Credit Union \nTime:\n7a | breakfast & networking\n7:30-9a | roundtable \nCost:\n$10 | member\n$20 | non-member \n  \nCancellation Policy\n*Cancellations of registrations and refunds will be issued in full if received on or before noon a week (seven weekdays) prior to the event. After noon CST on said date\, no refunds will be issued. If the event is rescheduled\, all registrations will be honored for the rescheduled date or may be refunded in full of a refund request**. If the event is canceled\, all registration will be refunded in full. **Refund requests must be submitted in writing by email to Nicole Morrison. Please allow up to five (5) business days to process your refund request. \nPhoto & Video Disclaimer\nEffingham County Chamber (Chamber) reserves the right to use any photograph/video taken at any event sponsored by the Chamber\, without the expressed written permission of those included within the photograph/video. The Chamber may use the photograph/video in publications or other media material produced\, used\, or contracted by the Chamber\, including but not limited to brochures\, invitations\, books\, newspapers\, magazines\, television\, websites\, etc. If you do not wish to be photographed/video\, please inform the Chamber. \nAny person or organization not affiliated with Chamber may not use\, copy\, alter\, or modify Chamber photographs\, graphics\, videography\, or other similar reproductions and recordings without the advance written permission of an authorized designee from Chamber.
URL:https://effinghamcountychamber.com/event/better-your-business-roundtable-2/
LOCATION:Barn & Bottle Winery\, 10810 N 1st Street\, Altamont\, IL\, 62411
CATEGORIES:Chamber Events,Community Events,Member Events
ATTACH;FMTTYPE=image/png:https://effinghamcountychamber.com/wp-content/uploads/2026/02/Better-Your-Business.png
END:VEVENT
END:VCALENDAR