BEGIN:VCALENDAR
VERSION:2.0
PRODID:-//Effingham County Chamber - ECPv5.14.1//NONSGML v1.0//EN
CALSCALE:GREGORIAN
METHOD:PUBLISH
X-WR-CALNAME:Effingham County Chamber
X-ORIGINAL-URL:https://effinghamcountychamber.com
X-WR-CALDESC:Events for Effingham County Chamber
REFRESH-INTERVAL;VALUE=DURATION:PT1H
X-Robots-Tag:noindex
X-PUBLISHED-TTL:PT1H
BEGIN:VTIMEZONE
TZID:America/Chicago
BEGIN:DAYLIGHT
TZOFFSETFROM:-0600
TZOFFSETTO:-0500
TZNAME:CDT
DTSTART:20260308T080000
END:DAYLIGHT
BEGIN:STANDARD
TZOFFSETFROM:-0500
TZOFFSETTO:-0600
TZNAME:CST
DTSTART:20261101T070000
END:STANDARD
END:VTIMEZONE
BEGIN:VEVENT
DTSTART;TZID=America/Chicago:20260304T103000
DTEND;TZID=America/Chicago:20260304T113000
DTSTAMP:20260424T125053
CREATED:20260206T144539Z
LAST-MODIFIED:20260206T154105Z
UID:26688-1772620200-1772623800@effinghamcountychamber.com
SUMMARY:Better Hiring Through Better Questions (Webinar)
DESCRIPTION:Join Laura Leahy and Joey Wright for “Better Hiring Through Better Questions” providing strategies for employers and HR professionals to navigate the complex recruiting\, interviewing\, and hiring processes and hire the strongest candidates. During this webinar\, Laura and Joey will address how to remain compliant with federal and state laws\, navigate post-covid challenges\, and understand the risks and opportunities presented by the use of AI technology in the hiring process. \n\nWhen registering\, please indicate Effingham COUNTY CHAMBER in the “Learned About it From” drop down to receive member pricing.
URL:https://effinghamcountychamber.com/event/better-hiring-through-better-questions-webinar/
LOCATION:Webinar
CATEGORIES:Chamber Events,Member Events
ATTACH;FMTTYPE=image/jpeg:https://effinghamcountychamber.com/wp-content/uploads/2026/02/Better-Hiring.jpg
END:VEVENT
END:VCALENDAR